BEGIN:VCALENDAR
VERSION:2.0
PRODID:-//Northern Spirit Regional Council - ECPv6.15.20//NONSGML v1.0//EN
CALSCALE:GREGORIAN
METHOD:PUBLISH
X-ORIGINAL-URL:https://northernspiritrc.ca
X-WR-CALDESC:Events for Northern Spirit Regional Council
REFRESH-INTERVAL;VALUE=DURATION:PT1H
X-Robots-Tag:noindex
X-PUBLISHED-TTL:PT1H
BEGIN:VTIMEZONE
TZID:America/Edmonton
BEGIN:DAYLIGHT
TZOFFSETFROM:-0700
TZOFFSETTO:-0600
TZNAME:MDT
DTSTART:20210314T090000
END:DAYLIGHT
BEGIN:STANDARD
TZOFFSETFROM:-0600
TZOFFSETTO:-0700
TZNAME:MST
DTSTART:20211107T080000
END:STANDARD
BEGIN:DAYLIGHT
TZOFFSETFROM:-0700
TZOFFSETTO:-0600
TZNAME:MDT
DTSTART:20220313T090000
END:DAYLIGHT
BEGIN:STANDARD
TZOFFSETFROM:-0600
TZOFFSETTO:-0700
TZNAME:MST
DTSTART:20221106T080000
END:STANDARD
BEGIN:DAYLIGHT
TZOFFSETFROM:-0700
TZOFFSETTO:-0600
TZNAME:MDT
DTSTART:20230312T090000
END:DAYLIGHT
BEGIN:STANDARD
TZOFFSETFROM:-0600
TZOFFSETTO:-0700
TZNAME:MST
DTSTART:20231105T080000
END:STANDARD
END:VTIMEZONE
BEGIN:VEVENT
DTSTART;TZID=America/Edmonton:20220406T173000
DTEND;TZID=America/Edmonton:20220406T213000
DTSTAMP:20260420T055634
CREATED:20220322T152121Z
LAST-MODIFIED:20220329T232150Z
UID:10000054-1649266200-1649280600@northernspiritrc.ca
SUMMARY:Irma Spring Supper and Auction
DESCRIPTION:Supper 5:30 Silent Auction 5 to 8 Live Auction 7 til done . There will be a 15 min recess at 8:00 and the silent auction will be closed at 8:15. Items are new or homemade.  Great charity auction and fellowship helps our financial situation. \nThis will help from our fire last year!
URL:https://northernspiritrc.ca/event/irma-spring-supper-auction/
LOCATION:Irma United Church\, 5017 51 Ave\, Irma\, AB\, Canada
CATEGORIES:Community events,Events
ATTACH;FMTTYPE=image/png:https://northernspiritrc.ca/wp-content/uploads/2021/12/Seedlings-PhotobyAnthonyMeekodong-600x400-1.png
END:VEVENT
END:VCALENDAR