BEGIN:VCALENDAR
VERSION:2.0
PRODID:-//Northern Spirit Regional Council - ECPv6.15.20//NONSGML v1.0//EN
CALSCALE:GREGORIAN
METHOD:PUBLISH
X-WR-CALNAME:Northern Spirit Regional Council
X-ORIGINAL-URL:https://northernspiritrc.ca
X-WR-CALDESC:Events for Northern Spirit Regional Council
REFRESH-INTERVAL;VALUE=DURATION:PT1H
X-Robots-Tag:noindex
X-PUBLISHED-TTL:PT1H
BEGIN:VTIMEZONE
TZID:America/Edmonton
BEGIN:DAYLIGHT
TZOFFSETFROM:-0700
TZOFFSETTO:-0600
TZNAME:MDT
DTSTART:20220313T090000
END:DAYLIGHT
BEGIN:STANDARD
TZOFFSETFROM:-0600
TZOFFSETTO:-0700
TZNAME:MST
DTSTART:20221106T080000
END:STANDARD
BEGIN:DAYLIGHT
TZOFFSETFROM:-0700
TZOFFSETTO:-0600
TZNAME:MDT
DTSTART:20230312T090000
END:DAYLIGHT
BEGIN:STANDARD
TZOFFSETFROM:-0600
TZOFFSETTO:-0700
TZNAME:MST
DTSTART:20231105T080000
END:STANDARD
BEGIN:DAYLIGHT
TZOFFSETFROM:-0700
TZOFFSETTO:-0600
TZNAME:MDT
DTSTART:20240310T090000
END:DAYLIGHT
BEGIN:STANDARD
TZOFFSETFROM:-0600
TZOFFSETTO:-0700
TZNAME:MST
DTSTART:20241103T080000
END:STANDARD
END:VTIMEZONE
BEGIN:VEVENT
DTSTART;TZID=America/Edmonton:20231213T190000
DTEND;TZID=America/Edmonton:20231213T200000
DTSTAMP:20260420T042934
CREATED:20231207T215540Z
LAST-MODIFIED:20231207T215540Z
UID:10000263-1702494000-1702497600@northernspiritrc.ca
SUMMARY:Highlands Blue Christmas Service
DESCRIPTION:Highlands United Church (11305 64 Street) is having a special Blue Christmas Service\, on Wednesday\, December 13 at 7pm. This service is open to everyone who would like to attend\, and is designed for those who are not feeling the joyful Christmas spirit: those who are grieving\, battling depression\, stress\, illness\, or for any other reason. You are welcomed into our fold.
URL:https://northernspiritrc.ca/event/highlands-blue-christmas-service/
LOCATION:Highlands United Church\, 11305 64 St NW\, Edmonton\, Alberta\, T5W 4H6\, Canada
CATEGORIES:Community events
ATTACH;FMTTYPE=image/jpeg:https://northernspiritrc.ca/wp-content/uploads/2023/12/Blue-Christmas-announcement-Mervin.jpg
END:VEVENT
BEGIN:VEVENT
DTSTART;TZID=America/Edmonton:20230611T103000
DTEND;TZID=America/Edmonton:20230611T120000
DTSTAMP:20260420T042934
CREATED:20230606T220736Z
LAST-MODIFIED:20230606T220736Z
UID:10000191-1686479400-1686484800@northernspiritrc.ca
SUMMARY:Highlands Covenanting
DESCRIPTION:Come join Highlands United & Rev. Mervin Gallant as they celebrate the covenanting of a new Pastoral Relationship within Northern Spirit Region. \nRev. Larry Wright will be guest preaching. \n  \n10:30 a.m.\, Sunday June 11 \nHighlands United Church\n11305 64 St NW\, Edmonton\, Alberta\nT5W 4H6
URL:https://northernspiritrc.ca/event/highlands-covenanting/
LOCATION:Highlands United Church\, 11305 64 St NW\, Edmonton\, Alberta\, T5W 4H6\, Canada
CATEGORIES:Community events
ATTACH;FMTTYPE=image/jpeg:https://northernspiritrc.ca/wp-content/uploads/2023/06/andrew-seaman-ZwaqicZOAgc-unsplash-scaled.jpg
END:VEVENT
END:VCALENDAR