BEGIN:VCALENDAR
VERSION:2.0
PRODID:-//Northern Spirit Regional Council - ECPv6.15.20//NONSGML v1.0//EN
CALSCALE:GREGORIAN
METHOD:PUBLISH
X-WR-CALNAME:Northern Spirit Regional Council
X-ORIGINAL-URL:https://northernspiritrc.ca
X-WR-CALDESC:Events for Northern Spirit Regional Council
REFRESH-INTERVAL;VALUE=DURATION:PT1H
X-Robots-Tag:noindex
X-PUBLISHED-TTL:PT1H
BEGIN:VTIMEZONE
TZID:America/Edmonton
BEGIN:DAYLIGHT
TZOFFSETFROM:-0700
TZOFFSETTO:-0600
TZNAME:MDT
DTSTART:20220313T090000
END:DAYLIGHT
BEGIN:STANDARD
TZOFFSETFROM:-0600
TZOFFSETTO:-0700
TZNAME:MST
DTSTART:20221106T080000
END:STANDARD
BEGIN:DAYLIGHT
TZOFFSETFROM:-0700
TZOFFSETTO:-0600
TZNAME:MDT
DTSTART:20230312T090000
END:DAYLIGHT
BEGIN:STANDARD
TZOFFSETFROM:-0600
TZOFFSETTO:-0700
TZNAME:MST
DTSTART:20231105T080000
END:STANDARD
BEGIN:DAYLIGHT
TZOFFSETFROM:-0700
TZOFFSETTO:-0600
TZNAME:MDT
DTSTART:20240310T090000
END:DAYLIGHT
BEGIN:STANDARD
TZOFFSETFROM:-0600
TZOFFSETTO:-0700
TZNAME:MST
DTSTART:20241103T080000
END:STANDARD
BEGIN:DAYLIGHT
TZOFFSETFROM:-0700
TZOFFSETTO:-0600
TZNAME:MDT
DTSTART:20250309T090000
END:DAYLIGHT
BEGIN:STANDARD
TZOFFSETFROM:-0600
TZOFFSETTO:-0700
TZNAME:MST
DTSTART:20251102T080000
END:STANDARD
BEGIN:DAYLIGHT
TZOFFSETFROM:-0700
TZOFFSETTO:-0600
TZNAME:MDT
DTSTART:20260308T090000
END:DAYLIGHT
BEGIN:STANDARD
TZOFFSETFROM:-0600
TZOFFSETTO:-0700
TZNAME:MST
DTSTART:20261101T080000
END:STANDARD
END:VTIMEZONE
BEGIN:VEVENT
DTSTART;TZID=America/Edmonton:20251221T190000
DTEND;TZID=America/Edmonton:20251221T203000
DTSTAMP:20260421T040808
CREATED:20251204T184037Z
LAST-MODIFIED:20251204T184037Z
UID:10000551-1766343600-1766349000@northernspiritrc.ca
SUMMARY:Blue Christmas Service
DESCRIPTION:Blue Christmas is known as the longest night service and is held in memory of those who cannot be with us this Christmas ands to address loneliness and depression.
URL:https://northernspiritrc.ca/event/blue-christmas-service-2/2025-12-21/2/
LOCATION:First United Church Wetaskiwin\, 5115 - 51 Ave\, Wetaskiwin\, Alberta\, T9A 0V3\, Canada
CATEGORIES:Community events
ATTACH;FMTTYPE=image/jpeg:https://northernspiritrc.ca/wp-content/uploads/2024/12/Winter-Solstice-Damien-M.-Jones.jpg
ORGANIZER;CN="first  United Wetaskiwin":MAILTO:uchurch@incentre.net
END:VEVENT
BEGIN:VEVENT
DTSTART;TZID=America/Edmonton:20251221T080000
DTEND;TZID=America/Edmonton:20251221T170000
DTSTAMP:20260421T040808
CREATED:20251204T184037Z
LAST-MODIFIED:20251204T184037Z
UID:10000550-1766304000-1766336400@northernspiritrc.ca
SUMMARY:Blue Christmas Service
DESCRIPTION:Blue Christmas is known as the longest night service and is held in memory of those who cannot be with us this Christmas ands to address loneliness and depression.
URL:https://northernspiritrc.ca/event/blue-christmas-service-2/2025-12-21/1/
LOCATION:First United Church Wetaskiwin\, 5115 - 51 Ave\, Wetaskiwin\, Alberta\, T9A 0V3\, Canada
CATEGORIES:Community events
ATTACH;FMTTYPE=image/jpeg:https://northernspiritrc.ca/wp-content/uploads/2024/12/Winter-Solstice-Damien-M.-Jones.jpg
ORGANIZER;CN="first  United Wetaskiwin":MAILTO:uchurch@incentre.net
END:VEVENT
BEGIN:VEVENT
DTSTART;TZID=America/Edmonton:20231107T093000
DTEND;TZID=America/Edmonton:20231107T123000
DTSTAMP:20260421T040808
CREATED:20230927T171249Z
LAST-MODIFIED:20230927T171249Z
UID:10000234-1699349400-1699360200@northernspiritrc.ca
SUMMARY:Creating a Culture of Respect for Gender and Sexual Diversity: Wetaskiwin
DESCRIPTION:First United Church\, Wetaskiwin is pleased to host Creating a Culture of Respect for Gender and Sexual Diversity – 9:30 am to 12:30 pm\, Nov. 7\, 2023 at First UC\, 5115 – 51 Ave. Wetaskiwin. \n  \n  \n\nLearn how to create more inclusive environments and safer spaces for gender and sexually diverse clients\, colleagues\, family and community;\nDeepen your understanding of sex\, gender\, gender identity\, and sexual orientation;\nDevelop skills and tools to support 2SLGBTQ+ persons; and\nUnderstand the impact of homophobia\, biphobia\, and transphobia.\n\n  \nThis workshop is facilitated by Mateo Jumas\, M.Ed. (He/Him) from the Centre for Sexuality in Calgary. The Centre for Sexuality has been active for over 50 years\, teaching training and advocating in the areas of sexuality\, healthy relationships\, human rights\, gender identity\, sexual orientations\, equality and consent.  Mateo Jumas brings a sense of humour\, excellent communication skills and a thoughtful and knowledgeable presence to this presentation. This is an excellent resource for communities of faith looking to create and/or enhance their affirming ministry. It could also be away to connect with other allies in your communities to create more respect and safer spaces. This particular work is partially funded by a grant through RBC\, which makes it accessible for not for profits or churches. \n  \nTo register: email (firstunitedwetaskiwin@gmail.com) or call (780) 352 2157 \nRegistration fee of $10 payable by Nov. 3 to confirm your spot. (E-transfer\, cash or cheque payable to First United Church) \nOr contact the Centre for Sexuality to see about hosting your own event.
URL:https://northernspiritrc.ca/event/creating-a-culture-of-respect-for-gender-and-sexual-diversity-wetaskiwin/
LOCATION:First United Church Wetaskiwin\, 5115 - 51 Ave\, Wetaskiwin\, Alberta\, T9A 0V3\, Canada
CATEGORIES:Community events,LGBTQIA2S+
ATTACH;FMTTYPE=image/png:https://northernspiritrc.ca/wp-content/uploads/2023/09/CCOR-RBC-Grant.png
END:VEVENT
END:VCALENDAR