BEGIN:VCALENDAR
VERSION:2.0
PRODID:-//Northern Spirit Regional Council - ECPv6.15.20//NONSGML v1.0//EN
CALSCALE:GREGORIAN
METHOD:PUBLISH
X-ORIGINAL-URL:https://northernspiritrc.ca
X-WR-CALDESC:Events for Northern Spirit Regional Council
REFRESH-INTERVAL;VALUE=DURATION:PT1H
X-Robots-Tag:noindex
X-PUBLISHED-TTL:PT1H
BEGIN:VTIMEZONE
TZID:America/Edmonton
BEGIN:DAYLIGHT
TZOFFSETFROM:-0700
TZOFFSETTO:-0600
TZNAME:MDT
DTSTART:20220313T090000
END:DAYLIGHT
BEGIN:STANDARD
TZOFFSETFROM:-0600
TZOFFSETTO:-0700
TZNAME:MST
DTSTART:20221106T080000
END:STANDARD
BEGIN:DAYLIGHT
TZOFFSETFROM:-0700
TZOFFSETTO:-0600
TZNAME:MDT
DTSTART:20230312T090000
END:DAYLIGHT
BEGIN:STANDARD
TZOFFSETFROM:-0600
TZOFFSETTO:-0700
TZNAME:MST
DTSTART:20231105T080000
END:STANDARD
BEGIN:DAYLIGHT
TZOFFSETFROM:-0700
TZOFFSETTO:-0600
TZNAME:MDT
DTSTART:20240310T090000
END:DAYLIGHT
BEGIN:STANDARD
TZOFFSETFROM:-0600
TZOFFSETTO:-0700
TZNAME:MST
DTSTART:20241103T080000
END:STANDARD
BEGIN:DAYLIGHT
TZOFFSETFROM:-0700
TZOFFSETTO:-0600
TZNAME:MDT
DTSTART:20250309T090000
END:DAYLIGHT
BEGIN:STANDARD
TZOFFSETFROM:-0600
TZOFFSETTO:-0700
TZNAME:MST
DTSTART:20251102T080000
END:STANDARD
BEGIN:DAYLIGHT
TZOFFSETFROM:-0700
TZOFFSETTO:-0600
TZNAME:MDT
DTSTART:20260308T090000
END:DAYLIGHT
BEGIN:STANDARD
TZOFFSETFROM:-0600
TZOFFSETTO:-0700
TZNAME:MST
DTSTART:20261101T080000
END:STANDARD
END:VTIMEZONE
BEGIN:VEVENT
DTSTART;TZID=America/Edmonton:20250420T070000
DTEND;TZID=America/Edmonton:20250420T080000
DTSTAMP:20260420T042935
CREATED:20250401T191433Z
LAST-MODIFIED:20250401T191433Z
UID:10000449-1745132400-1745136000@northernspiritrc.ca
SUMMARY:Edmonton Easter Sunrise Service
DESCRIPTION:Come one and all and warm yourself around a shared fire at Emily Murphy Park (11904 Emily Murphy Park Rd NW) as the sun’s new light creeps through the trees and sing the first Hallelujahs of a new Easter morning. \nBring your favorite morning beverage to enjoy. \nOrganized by various United Churches in Edmonton
URL:https://northernspiritrc.ca/event/edmonton-easter-sunrise-service/
LOCATION:Emily Murphy Park\, Picnic Site #3
CATEGORIES:Community events
ATTACH;FMTTYPE=image/jpeg:https://northernspiritrc.ca/wp-content/uploads/2025/04/SunriseEdmontonEmilyMurphyPark2023-scaled.jpg
END:VEVENT
BEGIN:VEVENT
DTSTART;TZID=America/Edmonton:20240721T130000
DTEND;TZID=America/Edmonton:20240721T140000
DTSTAMP:20260420T042935
CREATED:20240704T192312Z
LAST-MODIFIED:20240704T192312Z
UID:10000351-1721566800-1721570400@northernspiritrc.ca
SUMMARY:Wild Church YEG
DESCRIPTION:Join Robertson-Wesley’s Wild Church fireside at Emily Murphy Park Picnic Site 3 on July 21 at 1pm. We gather outdoors monthly to connect with the sacred through nature. All are welcome! \nWe invite you\, if you wish\, to bring your favorite nature-related prayers\, poems\, songs\, and readings to share during this unstructured worship. Bring a cup for a beverage! \nContact wildchurch@rwuc.org for questions or transportation arrangements.  Please check our website (wildchurchyeg.org)/Instagram(@wildchurchyeg) for any last-minute location changes. Cancelled if air quality index is 7 or greater.
URL:https://northernspiritrc.ca/event/wild-church-yeg-8/
LOCATION:Emily Murphy Park\, Picnic Site #3
CATEGORIES:Community events
ATTACH;FMTTYPE=image/png:https://northernspiritrc.ca/wp-content/uploads/2024/06/IMG_3312.png
ORGANIZER;CN="Robertson-Wesley United Church":MAILTO:mail@rwuc.org
END:VEVENT
BEGIN:VEVENT
DTSTART;TZID=America/Edmonton:20240421T130000
DTEND;TZID=America/Edmonton:20240421T140000
DTSTAMP:20260420T042935
CREATED:20240402T175652Z
LAST-MODIFIED:20240402T175652Z
UID:10000309-1713704400-1713708000@northernspiritrc.ca
SUMMARY:Wild Church YEG
DESCRIPTION:Robertson-Wesley’s Wild Church will congregate next on April 21 at 1pm; in acknowledgment of Earth Day\, our theme will be ‘Earth and Our “Geobiographies.” ‘ Join us at Emily Murphy Park (Fire Circle #3\, at the east end of the park – look for the Wild Church sign)\, bring your furry friends\, and pack a mug for a provided warm drink! Cancelled below -15C with windchill. \nWild Church is a monthly all-age worship that follows Jesus’ example of going into the wilderness to connect with the sacred; it involves solo reflection time as well as deep interpersonal dialogue. \nFollow us online – Instagram @wildchurchyeg\, website: wildchurchyeg.org
URL:https://northernspiritrc.ca/event/wild-church-yeg-7/
LOCATION:Emily Murphy Park\, Picnic Site #3
CATEGORIES:Community events
ATTACH;FMTTYPE=image/png:https://northernspiritrc.ca/wp-content/uploads/2024/03/Screen-Shot-2022-11-04-at-3.27.44-PM.png
ORGANIZER;CN="Robertson-Wesley United Church":MAILTO:mail@rwuc.org
END:VEVENT
BEGIN:VEVENT
DTSTART;TZID=America/Edmonton:20231217T130000
DTEND;TZID=America/Edmonton:20231217T143000
DTSTAMP:20260420T042935
CREATED:20231128T163451Z
LAST-MODIFIED:20231128T163451Z
UID:10000255-1702818000-1702823400@northernspiritrc.ca
SUMMARY:Wild Church YEG
DESCRIPTION:As the year’s longest night approaches\, join Robertson-Wesley’s Wild Church worship on December 17 at 1:00 pm to partake in a “Testimony to the Light at the Winter Solstice”. We will meet at the Emily Murphy Park Fire Circle at Picnic Site #3. To keep warm\, there will be a fire pit and hot drinks provided (bring a mug). Remember to dress for the weather\, and bring along friends of any age (or species)! For questions or transportation support\, get in touch by email (wildchurch@rwuc.org)\, website (wildchurchyeg.org)\, or Instagram (@wildchurchyeg). Cancelled below -15°C with windchill.
URL:https://northernspiritrc.ca/event/wild-church-yeg-6/
LOCATION:Emily Murphy Park\, Picnic Site #3
CATEGORIES:Community events
ATTACH;FMTTYPE=image/png:https://northernspiritrc.ca/wp-content/uploads/2023/11/Screen-Shot-2022-11-04-at-3.27.44-PM.png
ORGANIZER;CN="Robertson-Wesley United Church":MAILTO:mail@rwuc.org
END:VEVENT
BEGIN:VEVENT
DTSTART;TZID=America/Edmonton:20230618T123000
DTEND;TZID=America/Edmonton:20230618T143000
DTSTAMP:20260420T042935
CREATED:20230529T164433Z
LAST-MODIFIED:20230529T164433Z
UID:10000190-1687091400-1687098600@northernspiritrc.ca
SUMMARY:Wild Church YEG
DESCRIPTION:Gather\, sun lovers\, at Emily Murphy Park (Picnic Site 3)! \nAll ages – and pets – are invited to the Robertson-Wesley Wild Church potluck picnic at 12:30 on June 18\, followed by a Summer Solstice Wild Church Service at 1:15. Feel free to join one or both activities. \nFood will be provided. We encourage you\, if able\, to bring a potluck item and plates/utensils for yourself; if unable\, come anyway! \nRain or shine\, barring unsafe conditions. For questions/transportation arrangements\, contact wildchurch@rwuc.org. Follow us on Instagram @wildchurchyeg
URL:https://northernspiritrc.ca/event/wild-church-yeg-3/
LOCATION:Emily Murphy Park\, Picnic Site #3
CATEGORIES:Community events
ATTACH;FMTTYPE=image/png:https://northernspiritrc.ca/wp-content/uploads/2023/05/Screen-Shot-2022-11-04-at-3.27.44-PM.png
ORGANIZER;CN="Robertson-Wesley United Church":MAILTO:mail@rwuc.org
END:VEVENT
END:VCALENDAR