BEGIN:VCALENDAR
VERSION:2.0
PRODID:-//Northern Spirit Regional Council - ECPv6.15.20//NONSGML v1.0//EN
CALSCALE:GREGORIAN
METHOD:PUBLISH
X-WR-CALNAME:Northern Spirit Regional Council
X-ORIGINAL-URL:https://northernspiritrc.ca
X-WR-CALDESC:Events for Northern Spirit Regional Council
REFRESH-INTERVAL;VALUE=DURATION:PT1H
X-Robots-Tag:noindex
X-PUBLISHED-TTL:PT1H
BEGIN:VTIMEZONE
TZID:America/Edmonton
BEGIN:DAYLIGHT
TZOFFSETFROM:-0700
TZOFFSETTO:-0600
TZNAME:MDT
DTSTART:20250309T090000
END:DAYLIGHT
BEGIN:STANDARD
TZOFFSETFROM:-0600
TZOFFSETTO:-0700
TZNAME:MST
DTSTART:20251102T080000
END:STANDARD
BEGIN:DAYLIGHT
TZOFFSETFROM:-0700
TZOFFSETTO:-0600
TZNAME:MDT
DTSTART:20260308T090000
END:DAYLIGHT
BEGIN:STANDARD
TZOFFSETFROM:-0600
TZOFFSETTO:-0700
TZNAME:MST
DTSTART:20261101T080000
END:STANDARD
BEGIN:DAYLIGHT
TZOFFSETFROM:-0700
TZOFFSETTO:-0600
TZNAME:MDT
DTSTART:20270314T090000
END:DAYLIGHT
BEGIN:STANDARD
TZOFFSETFROM:-0600
TZOFFSETTO:-0700
TZNAME:MST
DTSTART:20271107T080000
END:STANDARD
END:VTIMEZONE
BEGIN:VEVENT
DTSTART;TZID=America/Edmonton:20260502T100000
DTEND;TZID=America/Edmonton:20260502T143000
DTSTAMP:20260420T054824
CREATED:20260325T201022Z
LAST-MODIFIED:20260401T180402Z
UID:10000658-1777716000-1777732200@northernspiritrc.ca
SUMMARY:Affirming Check In in person\, Athabasca United
DESCRIPTION:Join us Saturday May 2\, Athabasca United Church\, 10:00AM-2:30PM. All 2SLGBTQIA+ Affirming and Affirming- curious ministries and individuals from Athabasca and all the surrounding towns and villages are welcome to this time of sharing and community. Yes\, there will be a free lunch\, and a lot of community and story-sharing. \nHere’s the registration link: https://www.zeffy.com/en-CA/ticketing/ne-affirming-circle-gathering \nHosted by the Northern Spirit Affirm Team. For more details\, please contact staff support Julie Graham\, jgraham@united-church.ca
URL:https://northernspiritrc.ca/event/affirming-check-in-in-person-athabasca-united/
LOCATION:Athabasca United Church\, 4817 - 48 St\, Athabasca\, AB\, T9S 1R3\, Canada
CATEGORIES:LGBTQIA2S+,Regional event
ATTACH;FMTTYPE=image/png:https://northernspiritrc.ca/wp-content/uploads/2026/03/Affirming-Circle-gathering-Athabasca-May-2026-draft.png
END:VEVENT
END:VCALENDAR