BEGIN:VCALENDAR
VERSION:2.0
PRODID:-//Northern Spirit Regional Council - ECPv6.15.20//NONSGML v1.0//EN
CALSCALE:GREGORIAN
METHOD:PUBLISH
X-WR-CALNAME:Northern Spirit Regional Council
X-ORIGINAL-URL:https://northernspiritrc.ca
X-WR-CALDESC:Events for Northern Spirit Regional Council
REFRESH-INTERVAL;VALUE=DURATION:PT1H
X-Robots-Tag:noindex
X-PUBLISHED-TTL:PT1H
BEGIN:VTIMEZONE
TZID:America/Edmonton
BEGIN:DAYLIGHT
TZOFFSETFROM:-0700
TZOFFSETTO:-0600
TZNAME:MDT
DTSTART:20220313T090000
END:DAYLIGHT
BEGIN:STANDARD
TZOFFSETFROM:-0600
TZOFFSETTO:-0700
TZNAME:MST
DTSTART:20221106T080000
END:STANDARD
BEGIN:DAYLIGHT
TZOFFSETFROM:-0700
TZOFFSETTO:-0600
TZNAME:MDT
DTSTART:20230312T090000
END:DAYLIGHT
BEGIN:STANDARD
TZOFFSETFROM:-0600
TZOFFSETTO:-0700
TZNAME:MST
DTSTART:20231105T080000
END:STANDARD
BEGIN:DAYLIGHT
TZOFFSETFROM:-0700
TZOFFSETTO:-0600
TZNAME:MDT
DTSTART:20240310T090000
END:DAYLIGHT
BEGIN:STANDARD
TZOFFSETFROM:-0600
TZOFFSETTO:-0700
TZNAME:MST
DTSTART:20241103T080000
END:STANDARD
BEGIN:DAYLIGHT
TZOFFSETFROM:-0700
TZOFFSETTO:-0600
TZNAME:MDT
DTSTART:20250309T090000
END:DAYLIGHT
BEGIN:STANDARD
TZOFFSETFROM:-0600
TZOFFSETTO:-0700
TZNAME:MST
DTSTART:20251102T080000
END:STANDARD
END:VTIMEZONE
BEGIN:VEVENT
DTSTART;TZID=America/Edmonton:20240412T170000
DTEND;TZID=America/Edmonton:20240412T190000
DTSTAMP:20260420T052856
CREATED:20240402T175704Z
LAST-MODIFIED:20240402T175808Z
UID:10000310-1712941200-1712948400@northernspiritrc.ca
SUMMARY:April Messy Church @ Grace United
DESCRIPTION:As we jump into spring\, enjoy crafts\, celebration\, laughter and food during this multigenerational and creative exploration of Easter! Find more information on our event page: https://fb.me/e/1G9Qa7I4x. Event is free and dinner is provided. Free will donations to cover cost of supplies gratefully accepted but are not required.
URL:https://northernspiritrc.ca/event/april-messy-church-grace-united/
LOCATION:Grace United Church\, 6215 104 Ave\, Edmonton\, AB\, Canada
CATEGORIES:Community events
ATTACH;FMTTYPE=image/jpeg:https://northernspiritrc.ca/wp-content/uploads/2024/04/April-Messy-Church-scaled.jpg
ORGANIZER;CN="Grace United Church":MAILTO:grace.united@shaw.ca
END:VEVENT
BEGIN:VEVENT
DTSTART;TZID=America/Edmonton:20240223T170000
DTEND;TZID=America/Edmonton:20240223T190000
DTSTAMP:20260420T052856
CREATED:20240214T182633Z
LAST-MODIFIED:20240214T182633Z
UID:10000282-1708707600-1708714800@northernspiritrc.ca
SUMMARY:Grace United Messy Church- Lent
DESCRIPTION:Enjoy crafts\, celebration\, laughter and food during this multigenerational and creative exploration of Lent! The event is free. Free will donations to cover cost of supplies gratefully accepted.
URL:https://northernspiritrc.ca/event/grace-united-messy-church-lent/
LOCATION:Grace United Church\, 6215 104 Ave\, Edmonton\, AB\, Canada
CATEGORIES:Community events
ATTACH;FMTTYPE=image/jpeg:https://northernspiritrc.ca/wp-content/uploads/2024/02/Messy-Church-Feb-23-scaled.jpg
ORGANIZER;CN="Grace United Church":MAILTO:grace.united@shaw.ca
END:VEVENT
BEGIN:VEVENT
DTSTART;TZID=America/Edmonton:20231118T100000
DTEND;TZID=America/Edmonton:20231118T140000
DTSTAMP:20260420T052856
CREATED:20231011T164704Z
LAST-MODIFIED:20231011T164704Z
UID:10000237-1700301600-1700316000@northernspiritrc.ca
SUMMARY:Grace United Church Christmas Bazaar
DESCRIPTION:New and “New to You” gifts\, Crafts\, Christmas items\, Kids’ shopping opportunity!\nBaking\, Preserves\, Food products\nSanta will arrive at 11:00\nLunch ($10.00 adults\, $5.00 children under 12)
URL:https://northernspiritrc.ca/event/grace-united-church-christmas-bazaar/
LOCATION:Grace United Church\, 6215 104 Ave\, Edmonton\, AB\, Canada
CATEGORIES:Community events
ATTACH;FMTTYPE=image/jpeg:https://northernspiritrc.ca/wp-content/uploads/2023/10/Grace-United-Church-bazaar-poster-2023-scaled.jpg
ORGANIZER;CN="Grace United Church":MAILTO:grace.united@shaw.ca
END:VEVENT
BEGIN:VEVENT
DTSTART;TZID=America/Edmonton:20231103T170000
DTEND;TZID=America/Edmonton:20231103T190000
DTSTAMP:20260420T052856
CREATED:20231016T194543Z
LAST-MODIFIED:20231016T194543Z
UID:10000239-1699030800-1699038000@northernspiritrc.ca
SUMMARY:Messy Church Friday November 3 5-7 pm Grace United Church Edmonton
DESCRIPTION:“Love your Neighbour” “Messy Church” Friday\, November 3\, 5-7 pm. \nSocial Room\, Downstairs\, Grace United Church\n6215 104 Ave Edmonton. \nA multigenerational exploration of “Love your Neighbour” with crafts\, celebration\, laughter and food! \nContact Jackie Simmonds at jbsimmonds@shaw.ca or Grace United Church at grace.united@shaw.ca 780-466-0916. Last minute decision? Please come too. Event is free. Free will donations to cover cost of supplies gratefully accepted.
URL:https://northernspiritrc.ca/event/messy-church-friday-november-3-5-7-pm-grace-united-church-edmonton/
LOCATION:Grace United Church\, 6215 104 Ave\, Edmonton\, AB\, Canada
CATEGORIES:Community events
ATTACH;FMTTYPE=image/jpeg:https://northernspiritrc.ca/wp-content/uploads/2020/02/Canva-School-Supplies-on-Wooden-Background-scaled.jpg
ORGANIZER;CN="Grace United Church":MAILTO:grace.united@shaw.ca
END:VEVENT
END:VCALENDAR