BEGIN:VCALENDAR
VERSION:2.0
PRODID:-//Northern Spirit Regional Council - ECPv6.15.20//NONSGML v1.0//EN
CALSCALE:GREGORIAN
METHOD:PUBLISH
X-ORIGINAL-URL:https://northernspiritrc.ca
X-WR-CALDESC:Events for Northern Spirit Regional Council
REFRESH-INTERVAL;VALUE=DURATION:PT1H
X-Robots-Tag:noindex
X-PUBLISHED-TTL:PT1H
BEGIN:VTIMEZONE
TZID:America/Edmonton
BEGIN:DAYLIGHT
TZOFFSETFROM:-0700
TZOFFSETTO:-0600
TZNAME:MDT
DTSTART:20210314T090000
END:DAYLIGHT
BEGIN:STANDARD
TZOFFSETFROM:-0600
TZOFFSETTO:-0700
TZNAME:MST
DTSTART:20211107T080000
END:STANDARD
BEGIN:DAYLIGHT
TZOFFSETFROM:-0700
TZOFFSETTO:-0600
TZNAME:MDT
DTSTART:20220313T090000
END:DAYLIGHT
BEGIN:STANDARD
TZOFFSETFROM:-0600
TZOFFSETTO:-0700
TZNAME:MST
DTSTART:20221106T080000
END:STANDARD
BEGIN:DAYLIGHT
TZOFFSETFROM:-0700
TZOFFSETTO:-0600
TZNAME:MDT
DTSTART:20230312T090000
END:DAYLIGHT
BEGIN:STANDARD
TZOFFSETFROM:-0600
TZOFFSETTO:-0700
TZNAME:MST
DTSTART:20231105T080000
END:STANDARD
BEGIN:DAYLIGHT
TZOFFSETFROM:-0700
TZOFFSETTO:-0600
TZNAME:MDT
DTSTART:20240310T090000
END:DAYLIGHT
BEGIN:STANDARD
TZOFFSETFROM:-0600
TZOFFSETTO:-0700
TZNAME:MST
DTSTART:20241103T080000
END:STANDARD
BEGIN:DAYLIGHT
TZOFFSETFROM:-0700
TZOFFSETTO:-0600
TZNAME:MDT
DTSTART:20250309T090000
END:DAYLIGHT
BEGIN:STANDARD
TZOFFSETFROM:-0600
TZOFFSETTO:-0700
TZNAME:MST
DTSTART:20251102T080000
END:STANDARD
END:VTIMEZONE
BEGIN:VEVENT
DTSTART;TZID=America/Edmonton:20241221T190000
DTEND;TZID=America/Edmonton:20241221T210000
DTSTAMP:20260421T024134
CREATED:20241212T204613Z
LAST-MODIFIED:20241212T204613Z
UID:10000397-1734807600-1734814800@northernspiritrc.ca
SUMMARY:Deep Winter Song 2024 ~ Featuring Martin Kerr ~ In Person and Live Stream!
DESCRIPTION:Featuring:\n~ Martin Kerr ~\n~ Gord Oaks ~\n~ and special guests ~ \nDeep Winter Song is an “acoustic” musical presentation exploring and celebrating the Mystery of the Winter Solstice\, Christmas\, and this wondrous dark season of winter. The night will include traditional and modern songs of winter\, inspiring stories & poetry\, angelic voices\, inspiring words\, compelling movement performances\, delightful and mystical moods\, laser starlight\, beautiful winter projections\, a time of Sacred Sound Journey\, and a Solstice Fire Ritual.
URL:https://northernspiritrc.ca/event/deep-winter-song-2024-featuring-martin-kerr-in-person-and-live-stream/
LOCATION:Centre for Spiritual Living\, 7621 101 Ave NW\, Edmonton\, Alberta\, T6A 0J6\, Canada
CATEGORIES:Community events
ATTACH;FMTTYPE=image/jpeg:https://northernspiritrc.ca/wp-content/uploads/2024/12/Winter-Solstice-Damien-M.-Jones.jpg
ORGANIZER;CN="Deep Winter Song":MAILTO:heatherjoaks@gmail.com
END:VEVENT
BEGIN:VEVENT
DTSTART;TZID=America/Edmonton:20221218T190000
DTEND;TZID=America/Edmonton:20221218T210000
DTSTAMP:20260421T024134
CREATED:20221209T195730Z
LAST-MODIFIED:20221209T195730Z
UID:10000134-1671390000-1671397200@northernspiritrc.ca
SUMMARY:Deep Winter Song
DESCRIPTION:Deep Winter Song Winter Solstice celebration\, December 18\, 2022\, at 7pm MST\, live at Southminster-Steinhauer United Church\, 10740 19 Ave NW\, Edmonton\, AB. \nTraditional and modern songs of winter\, inspiring stories & poetry\, angelic voices\, delightful and mystical moods\, beautiful projections\, a time of Sacred Sound Journey\, and a Solstice Fire Ritual.
URL:https://northernspiritrc.ca/event/deep-winter-song/
LOCATION:Southminster-Steinhauer United Church\, 10740-19 Ave NW\, Edmonton\, AB\, T6J 6W9
CATEGORIES:Community events
END:VEVENT
END:VCALENDAR