BEGIN:VCALENDAR
VERSION:2.0
PRODID:-//Northern Spirit Regional Council - ECPv6.15.20//NONSGML v1.0//EN
CALSCALE:GREGORIAN
METHOD:PUBLISH
X-ORIGINAL-URL:https://northernspiritrc.ca
X-WR-CALDESC:Events for Northern Spirit Regional Council
REFRESH-INTERVAL;VALUE=DURATION:PT1H
X-Robots-Tag:noindex
X-PUBLISHED-TTL:PT1H
BEGIN:VTIMEZONE
TZID:America/Edmonton
BEGIN:DAYLIGHT
TZOFFSETFROM:-0700
TZOFFSETTO:-0600
TZNAME:MDT
DTSTART:20190310T090000
END:DAYLIGHT
BEGIN:STANDARD
TZOFFSETFROM:-0600
TZOFFSETTO:-0700
TZNAME:MST
DTSTART:20191103T080000
END:STANDARD
BEGIN:DAYLIGHT
TZOFFSETFROM:-0700
TZOFFSETTO:-0600
TZNAME:MDT
DTSTART:20200308T090000
END:DAYLIGHT
BEGIN:STANDARD
TZOFFSETFROM:-0600
TZOFFSETTO:-0700
TZNAME:MST
DTSTART:20201101T080000
END:STANDARD
BEGIN:DAYLIGHT
TZOFFSETFROM:-0700
TZOFFSETTO:-0600
TZNAME:MDT
DTSTART:20210314T090000
END:DAYLIGHT
BEGIN:STANDARD
TZOFFSETFROM:-0600
TZOFFSETTO:-0700
TZNAME:MST
DTSTART:20211107T080000
END:STANDARD
BEGIN:DAYLIGHT
TZOFFSETFROM:-0700
TZOFFSETTO:-0600
TZNAME:MDT
DTSTART:20220313T090000
END:DAYLIGHT
BEGIN:STANDARD
TZOFFSETFROM:-0600
TZOFFSETTO:-0700
TZNAME:MST
DTSTART:20221106T080000
END:STANDARD
BEGIN:DAYLIGHT
TZOFFSETFROM:-0700
TZOFFSETTO:-0600
TZNAME:MDT
DTSTART:20230312T090000
END:DAYLIGHT
BEGIN:STANDARD
TZOFFSETFROM:-0600
TZOFFSETTO:-0700
TZNAME:MST
DTSTART:20231105T080000
END:STANDARD
BEGIN:DAYLIGHT
TZOFFSETFROM:-0700
TZOFFSETTO:-0600
TZNAME:MDT
DTSTART:20240310T090000
END:DAYLIGHT
BEGIN:STANDARD
TZOFFSETFROM:-0600
TZOFFSETTO:-0700
TZNAME:MST
DTSTART:20241103T080000
END:STANDARD
BEGIN:DAYLIGHT
TZOFFSETFROM:-0700
TZOFFSETTO:-0600
TZNAME:MDT
DTSTART:20250309T090000
END:DAYLIGHT
BEGIN:STANDARD
TZOFFSETFROM:-0600
TZOFFSETTO:-0700
TZNAME:MST
DTSTART:20251102T080000
END:STANDARD
END:VTIMEZONE
BEGIN:VEVENT
DTSTART;TZID=America/Edmonton:20240610T190000
DTEND;TZID=America/Edmonton:20240610T210000
DTSTAMP:20260421T025206
CREATED:20240510T162117Z
LAST-MODIFIED:20240606T203641Z
UID:10000344-1718046000-1718053200@northernspiritrc.ca
SUMMARY:Our Children\, Our Future: online film and conversation
DESCRIPTION:The Being Good Relations Network invites you to a webinar in honour of Indigenous History Month: \nOur Children\, Our Future film and conversation \nwith Dr. Patricia Makokis\, Saddle Lake Cree Nation servant leader\, and Hayley Christen\, Coordinator\, First Nations\, Metis and Inuit Learning Services\, Red Deer Public Schools. \nMonday\, June 10\, 2024\, 7:00 to 9:00 pm MDT. \nWe will watch the video together and be in conversation with the film producer and walk organizer Dr. Patricia Makokis about what our children are learning\, how we take part in treaty\, and the possibility of organizing treaty walks and talks in our communities. Hayley Christen will help us understand concern about the proposed new AB social studies curriculum\, and what we can do. \nTo view the first two videos in the series\, see www.treatytalk.com \nZoom connection details: \nhttps://united-church.zoom.us/j/83155001968?pwd=wj7UI4C8Hen4VdGqrp17OtP2Zpbfzo.1 \nMeeting ID: 831 5500 1968     Password: 187091        855 703 8985 Canada Toll-free
URL:https://northernspiritrc.ca/event/our-children-our-future-online-film-and-conversation/
LOCATION:Zoom
CATEGORIES:Regional event,Right Relations
ATTACH;FMTTYPE=image/jpeg:https://northernspiritrc.ca/wp-content/uploads/2024/05/AwasisakFilmBanner.jpg
END:VEVENT
BEGIN:VEVENT
DTSTART;TZID=America/Edmonton:20230422T140000
DTEND;TZID=America/Edmonton:20230422T160000
DTSTAMP:20260421T025206
CREATED:20230412T181728Z
LAST-MODIFIED:20230413T211004Z
UID:10000168-1682172000-1682179200@northernspiritrc.ca
SUMMARY:Planning for Indigenous History Month: Being Good Relations Webinar
DESCRIPTION:April 22\,  2 – 4  p.m. \nIndigenous History Month is approaching! How will you and your community of faith “Learn\, Understand\, Act” and observe Indigenous Day of Prayer on June 21? Join us for this webinar for tips and support on enhancing your community’s response to the TRC Calls to Action. You will hear what some communities have done\, and have a chance to talk with others on the journey of reconciliation as to what has worked\, what obstacles have been experienced\, and what resources have been helpful. Click here to register!
URL:https://northernspiritrc.ca/event/planning-for-indigenous-history-month-being-good-relations-webinar/
LOCATION:Zoom
CATEGORIES:Regional event,Right Relations
ATTACH;FMTTYPE=image/png:https://northernspiritrc.ca/wp-content/uploads/2023/04/BGRN-RR-Webinar-Poster.png
END:VEVENT
BEGIN:VEVENT
DTSTART;TZID=America/Edmonton:20230301T190000
DTEND;TZID=America/Edmonton:20230301T203000
DTSTAMP:20260421T025206
CREATED:20230207T175114Z
LAST-MODIFIED:20230214T200509Z
UID:10000144-1677697200-1677702600@northernspiritrc.ca
SUMMARY:Being Good Relations Network Learning for Lent Event
DESCRIPTION:Instead of Chocolate\, Why Not Give Up Myths & Misconceptions This Lent?\nJoin Grace Hussey\, BSW\, RSW & Student Minister\, to learn the facts about Canadian Indigenous Issues in a safe online space. We will be reading & discussing Chelsea Vowel’s informative & funny book\, “Indigenous Writes”. Come to 1 or all 5 sessions running Wednesdays 7-8:30pm MST\, from March 1st-29th\, 2023. You are also welcome to sign up & join online as a group! \nWe Hope to see you there! \nPlease Register by Sun. Feb. 26th\, 2023. To register click here\, or scan the QR code. \nContact Grace if you have any questions or concerns.
URL:https://northernspiritrc.ca/event/learning-for-lent-book-study/
LOCATION:Zoom
CATEGORIES:Regional event,Right Relations
ATTACH;FMTTYPE=image/png:https://northernspiritrc.ca/wp-content/uploads/2023/02/Learning-for-Lent-Poster_Final.png
END:VEVENT
BEGIN:VEVENT
DTSTART;TZID=America/Edmonton:20200615T190000
DTEND;TZID=America/Edmonton:20200615T203000
DTSTAMP:20260421T025206
CREATED:20200609T162900Z
LAST-MODIFIED:20200609T162900Z
UID:10000059-1592247600-1592253000@northernspiritrc.ca
SUMMARY:Being Good Relations North West Cluster gathering
DESCRIPTION:You’re invited!\nIf you’re working on decolonization\, truth-telling\, and reconciliation in your community or congregation\, you’re invited to a time of online conversation\, support\, and planning. People who are Witnesses within the Being Good Relations Network are of course also welcome. People of all backgrounds welcome; we expect to focus somewhat on the United Church community and our responsibilities within our Apology\, UNDRIP\, and the TRC Calls to Action. \nNorth West: This area covers (west of Hwy 2 and north of Hwy 13) Barrhead\, Busby\, Dawson Creek\, Devon\, Drayton Valley\,  Edson\, Fort St. John\, Fort Nelson\, Grande Prairie\, Grande Cache\, Hay River\,  High Prairie\, Hinton\, Jasper\, Onoway\, Peace River\, Pickardville\, Slave Lake\, Spruce Grove\, Stony Plain\, Swan Hills\, Telfordville\, Valleyview\, Wembley\, Westlock\, Whitecourt\, Yellowknife and all points in between. Hosted by Grace Hussey in Grande Prairie\, with resource person and KAIROS Blanket Exercise co-ordinator Ian Hopfe of Bigstone Cree Nation. \nDay:  Monday\, June 15\, 2020\nTime:  7:00-8:30 pm  in AB\nZoom link: https://united-church.zoom.us/j/93220667155
URL:https://northernspiritrc.ca/event/being-good-relations-north-west-cluster-gathering/
LOCATION:Zoom
CATEGORIES:Events,Regional event,Right Relations
ATTACH;FMTTYPE=image/jpeg:https://northernspiritrc.ca/wp-content/uploads/2020/02/Canva-Selective-Focus-Photography-of-Two-Brown-Feathers-during-Golden-Hour-scaled-e1591055340696.jpg
END:VEVENT
BEGIN:VEVENT
DTSTART;TZID=America/Edmonton:20200611T190000
DTEND;TZID=America/Edmonton:20200611T203000
DTSTAMP:20260421T025206
CREATED:20200604T181528Z
LAST-MODIFIED:20200604T181528Z
UID:10000069-1591902000-1591907400@northernspiritrc.ca
SUMMARY:Being Good Relations North East Cluster gathering
DESCRIPTION:You’re invited!\nIf you’re working on decolonization\, truth-telling\, and reconciliation in your community or congregation\, you’re invited to a time of online conversation\, support\, and planning. People who are Witnesses within the Being Good Relations Network are of course also welcome. People of all backgrounds welcome; we expect to focus somewhat on the United Church community and our responsibilities within our Apology\, UNDRIP\, and the TRC Calls to Action. \nNorth East: This area covers (east of Hwy 2 and north of Hwy 13)  Ardrossan\, Athabasca\, Bonnyville\, Camrose\, Cold Lake\,  Daysland\, Lamont\, Fort McMurray\, Fort Saskatchewan\, Goodfish Lake\, Hardisty\, Killam\, Leduc\, Lloydminister\, Morinville\,  Saddle Lake\, Sedgewick\, St.Paul\, Sturgeon Valley\, Tofield\, Two Hills\, Vegreville\, Vermillion\, Viking\, Wainwright\, Wetaskiwin and all points in between. \nHosted by Cecile Fausak in Athabasca\, with hopes to be joined by Arthur Steinhauer of Saddle Lake Cree Nation.\nDay:  Thursday\, June 11\, 2020\nTime:  7:00-8:30 pm  in AB\nZoom link: https://united-church.zoom.us/j/97468052899
URL:https://northernspiritrc.ca/event/being-good-relations-north-east-cluster-gathering/
LOCATION:Zoom
CATEGORIES:Events,Regional event,Right Relations
ATTACH;FMTTYPE=image/jpeg:https://northernspiritrc.ca/wp-content/uploads/2020/02/Canva-Selective-Focus-Photography-of-Two-Brown-Feathers-during-Golden-Hour-scaled-e1591055340696.jpg
END:VEVENT
BEGIN:VEVENT
DTSTART;TZID=America/Edmonton:20200609T190000
DTEND;TZID=America/Edmonton:20200609T203000
DTSTAMP:20260421T025207
CREATED:20200604T182002Z
LAST-MODIFIED:20200604T182002Z
UID:10000040-1591729200-1591734600@northernspiritrc.ca
SUMMARY:Edmonton area Being Good Relations Cluster gathering
DESCRIPTION:You’re invited! \nIf you’re working on decolonization\, truth-telling\, and reconciliation in your community or congregation\, you’re invited to a time of online conversation\, support\, and planning. People who are Witnesses within the Being Good Relations Network are of course also welcome. People of all backgrounds welcome; we expect to focus somewhat on the United Church community and our responsibilities within our Apology\, UNDRIP\, and the TRC Calls to Action. We will gather by geographic area: \nEdmonton: This area covers the City of Edmonton\, as well as St. Albert and Sherwood Park. \nHosted by Shelley Sabo from Grace United in Edmonton. Kathy Hamelin\, Community Grandmother\, Kohkom Kisewatisiwin Society\, will be joining us. \nDay: Tuesday\, June 9\, 2020\nTime: 7 – 8:30 pm\nZoom link: https://united-church.zoom.us/j/92911469593\nNeed to phone in? 1-855 703 8985 (Canada Toll-free) and enter meeting ID 9291 1469 593
URL:https://northernspiritrc.ca/event/edmonton-area-being-good-relations-cluster-gathering/
LOCATION:Zoom
CATEGORIES:Events,Regional event,Right Relations
ATTACH;FMTTYPE=image/jpeg:https://northernspiritrc.ca/wp-content/uploads/2020/02/Canva-Selective-Focus-Photography-of-Two-Brown-Feathers-during-Golden-Hour-scaled-e1591055340696.jpg
END:VEVENT
END:VCALENDAR