BEGIN:VCALENDAR
VERSION:2.0
PRODID:-//Northern Spirit Regional Council - ECPv6.15.20//NONSGML v1.0//EN
CALSCALE:GREGORIAN
METHOD:PUBLISH
X-WR-CALNAME:Northern Spirit Regional Council
X-ORIGINAL-URL:https://northernspiritrc.ca
X-WR-CALDESC:Events for Northern Spirit Regional Council
REFRESH-INTERVAL;VALUE=DURATION:PT1H
X-Robots-Tag:noindex
X-PUBLISHED-TTL:PT1H
BEGIN:VTIMEZONE
TZID:America/Edmonton
BEGIN:DAYLIGHT
TZOFFSETFROM:-0700
TZOFFSETTO:-0600
TZNAME:MDT
DTSTART:20230312T090000
END:DAYLIGHT
BEGIN:STANDARD
TZOFFSETFROM:-0600
TZOFFSETTO:-0700
TZNAME:MST
DTSTART:20231105T080000
END:STANDARD
BEGIN:DAYLIGHT
TZOFFSETFROM:-0700
TZOFFSETTO:-0600
TZNAME:MDT
DTSTART:20240310T090000
END:DAYLIGHT
BEGIN:STANDARD
TZOFFSETFROM:-0600
TZOFFSETTO:-0700
TZNAME:MST
DTSTART:20241103T080000
END:STANDARD
BEGIN:DAYLIGHT
TZOFFSETFROM:-0700
TZOFFSETTO:-0600
TZNAME:MDT
DTSTART:20250309T090000
END:DAYLIGHT
BEGIN:STANDARD
TZOFFSETFROM:-0600
TZOFFSETTO:-0700
TZNAME:MST
DTSTART:20251102T080000
END:STANDARD
END:VTIMEZONE
BEGIN:VEVENT
DTSTART;TZID=America/Edmonton:20241221T160000
DTEND;TZID=America/Edmonton:20241221T170000
DTSTAMP:20260421T135311
CREATED:20241125T200854Z
LAST-MODIFIED:20241125T200854Z
UID:10000394-1734796800-1734800400@northernspiritrc.ca
SUMMARY:Wild Church YEG: Honouring the Sun\, Welcoming the Dark
DESCRIPTION:Join Robertson-Wesley’s Wild Church on December 21 at 4pm (Emily Murphy Park Picnic Site 3 – near the east end of the parking lot) for an unstructured winter solstice worship. You are invited (if you wish) to bring a snack or a solstice-related poem\, reading\, prayer or song to share. Bring an empty mug for a fireside drink! All are welcome\, including pets. Cancelled below —15*C.
URL:https://northernspiritrc.ca/event/wild-church-yeg-honouring-the-sun-welcoming-the-dark/
LOCATION:Fire Pit at Emily Murphy Park\, 11904 Emily Murphy Park Rd NW\, Edmonton\, Alberta\, Canada
CATEGORIES:Community events
ATTACH;FMTTYPE=image/png:https://northernspiritrc.ca/wp-content/uploads/2024/11/Honouring-The-Sun-Welcoming-The-Dark-1.png
ORGANIZER;CN="Robertson-Wesley United Church":MAILTO:mail@rwuc.org
END:VEVENT
END:VCALENDAR