BEGIN:VCALENDAR
VERSION:2.0
PRODID:-//Northern Spirit Regional Council - ECPv6.15.20//NONSGML v1.0//EN
CALSCALE:GREGORIAN
METHOD:PUBLISH
X-ORIGINAL-URL:https://northernspiritrc.ca
X-WR-CALDESC:Events for Northern Spirit Regional Council
REFRESH-INTERVAL;VALUE=DURATION:PT1H
X-Robots-Tag:noindex
X-PUBLISHED-TTL:PT1H
BEGIN:VTIMEZONE
TZID:America/Edmonton
BEGIN:DAYLIGHT
TZOFFSETFROM:-0700
TZOFFSETTO:-0600
TZNAME:MDT
DTSTART:20240310T090000
END:DAYLIGHT
BEGIN:STANDARD
TZOFFSETFROM:-0600
TZOFFSETTO:-0700
TZNAME:MST
DTSTART:20241103T080000
END:STANDARD
BEGIN:DAYLIGHT
TZOFFSETFROM:-0700
TZOFFSETTO:-0600
TZNAME:MDT
DTSTART:20250309T090000
END:DAYLIGHT
BEGIN:STANDARD
TZOFFSETFROM:-0600
TZOFFSETTO:-0700
TZNAME:MST
DTSTART:20251102T080000
END:STANDARD
BEGIN:DAYLIGHT
TZOFFSETFROM:-0700
TZOFFSETTO:-0600
TZNAME:MDT
DTSTART:20260308T090000
END:DAYLIGHT
BEGIN:STANDARD
TZOFFSETFROM:-0600
TZOFFSETTO:-0700
TZNAME:MST
DTSTART:20261101T080000
END:STANDARD
END:VTIMEZONE
BEGIN:VEVENT
DTSTART;TZID=America/Edmonton:20251219T190000
DTEND;TZID=America/Edmonton:20251219T210000
DTSTAMP:20260420T112003
CREATED:20251209T170350Z
LAST-MODIFIED:20251209T170350Z
UID:10000557-1766170800-1766178000@northernspiritrc.ca
SUMMARY:Deep Winter Song 2025 ~ Featuring Martin Kerr ~ In Person and Live Stream!
DESCRIPTION:Deep Winter Song ~\nA Mystical Evening of Music & Story \nImmerse yourself in the enchanting sounds and stories of ‘Deep Winter Song XIX’ as we celebrate and honour this wondrous season. \n⭐When:\nFriday\, December 19\, 2025 at 7pm (MT)\nDoors open at 6:30pm \n⭐Who:\n~ Martin Kerr ~ Michelle Newlands ~ special guests ~\nPresented by Gord Oaks and friends. \n⭐Where:\nCentre for Spiritual Living\n(7621 – 101 Ave NW\, Edmonton)\n* And will also be LIVE STREAMED and available virtually on your Eventbrite online viewing portal * \nDeep Winter Song is an “acoustic” musical presentation exploring and celebrating the Mystery of the Winter Solstice\, Christmas\, and this wondrous dark season of winter. The night will include traditional and modern songs of winter\, inspiring stories & poetry\, angelic voices\, inspiring words\, delightful and mystical moods\, laser starlight\, beautiful winter projections\, a time of Sacred Sound Journey\, and a Solstice Fire Ritual.
URL:https://northernspiritrc.ca/event/deep-winter-song-2025-featuring-martin-kerr-in-person-and-live-stream/
LOCATION:Centre for Spiritual Living\, 7621 101 Ave NW\, Edmonton\, Alberta\, T6A 0J6\, Canada
CATEGORIES:Community events
ATTACH;FMTTYPE=image/jpeg:https://northernspiritrc.ca/wp-content/uploads/2025/12/Winter-Solstice-Damien-M.-Jones.jpg
ORGANIZER;CN="Deep Winter Song":MAILTO:heatherjoaks@gmail.com
END:VEVENT
END:VCALENDAR