BEGIN:VCALENDAR
VERSION:2.0
PRODID:-//Northern Spirit Regional Council - ECPv6.15.20//NONSGML v1.0//EN
CALSCALE:GREGORIAN
METHOD:PUBLISH
X-ORIGINAL-URL:https://northernspiritrc.ca
X-WR-CALDESC:Events for Northern Spirit Regional Council
REFRESH-INTERVAL;VALUE=DURATION:PT1H
X-Robots-Tag:noindex
X-PUBLISHED-TTL:PT1H
BEGIN:VTIMEZONE
TZID:America/Edmonton
BEGIN:DAYLIGHT
TZOFFSETFROM:-0700
TZOFFSETTO:-0600
TZNAME:MDT
DTSTART:20250309T090000
END:DAYLIGHT
BEGIN:STANDARD
TZOFFSETFROM:-0600
TZOFFSETTO:-0700
TZNAME:MST
DTSTART:20251102T080000
END:STANDARD
BEGIN:DAYLIGHT
TZOFFSETFROM:-0700
TZOFFSETTO:-0600
TZNAME:MDT
DTSTART:20260308T090000
END:DAYLIGHT
BEGIN:STANDARD
TZOFFSETFROM:-0600
TZOFFSETTO:-0700
TZNAME:MST
DTSTART:20261101T080000
END:STANDARD
BEGIN:DAYLIGHT
TZOFFSETFROM:-0700
TZOFFSETTO:-0600
TZNAME:MDT
DTSTART:20270314T090000
END:DAYLIGHT
BEGIN:STANDARD
TZOFFSETFROM:-0600
TZOFFSETTO:-0700
TZNAME:MST
DTSTART:20271107T080000
END:STANDARD
END:VTIMEZONE
BEGIN:VEVENT
DTSTART;TZID=America/Edmonton:20260325T183000
DTEND;TZID=America/Edmonton:20260325T200000
DTSTAMP:20260420T095212
CREATED:20260306T202237Z
LAST-MODIFIED:20260306T202237Z
UID:10000645-1774463400-1774468800@northernspiritrc.ca
SUMMARY:Blanket Exercise St Albert United Church
DESCRIPTION:Living into Right Relations will be holding a Blanket exercise at St Albert United church on Wednesday March 25th at 6:30 pm. The fee is $5.00 per person. The event will be coordinated by Indigenous facilitators from the Musee Heritage Museum . The blanket exercise program is an interactive opportunity to learn more about Canadian history from the perspective of Canada’s Indigenous Peoples. The content of this Blanket Exercise has been updated to include the local history of St Albert and the surrounding region.\nPart one is an interactive scripted portion where everyone participates in reading a short quote and interacting together. Part two is a guided sharing circle where everyone has a chance to share their thoughts about the information they have learned.\nThe program lasts 1 ½ to 2 hours. Please bring a towel or blanket that can be walked on.\nYouth 14 years and over are welcome to attend \nPlease contact Musee Heritage Museum to register:\nEmail: museum@artsand heritage.ca\nPhone: 780-459-1528\nOr \nPhone: 780-458-8355 ext 1\nEmail: office@stalbertunited.com
URL:https://northernspiritrc.ca/event/blanket-exercise-st-albert-united-church/
LOCATION:St Albert United Church\, 20 Green Grove Drive\, St Albert\, AB\, T8N 5H6\, Canada
CATEGORIES:Community events,Right Relations
ATTACH;FMTTYPE=image/jpeg:https://northernspiritrc.ca/wp-content/uploads/2025/11/ryan-stone-bpcOR-sES5w-unsplash-1.jpg
ORGANIZER;CN="St Albert United Church":MAILTO:office@stalbertunited.ca
END:VEVENT
END:VCALENDAR