BEGIN:VCALENDAR
VERSION:2.0
PRODID:-//Northern Spirit Regional Council - ECPv6.15.20//NONSGML v1.0//EN
CALSCALE:GREGORIAN
METHOD:PUBLISH
X-WR-CALNAME:Northern Spirit Regional Council
X-ORIGINAL-URL:https://northernspiritrc.ca
X-WR-CALDESC:Events for Northern Spirit Regional Council
REFRESH-INTERVAL;VALUE=DURATION:PT1H
X-Robots-Tag:noindex
X-PUBLISHED-TTL:PT1H
BEGIN:VTIMEZONE
TZID:America/Edmonton
BEGIN:DAYLIGHT
TZOFFSETFROM:-0700
TZOFFSETTO:-0600
TZNAME:MDT
DTSTART:20230312T090000
END:DAYLIGHT
BEGIN:STANDARD
TZOFFSETFROM:-0600
TZOFFSETTO:-0700
TZNAME:MST
DTSTART:20231105T080000
END:STANDARD
BEGIN:DAYLIGHT
TZOFFSETFROM:-0700
TZOFFSETTO:-0600
TZNAME:MDT
DTSTART:20240310T090000
END:DAYLIGHT
BEGIN:STANDARD
TZOFFSETFROM:-0600
TZOFFSETTO:-0700
TZNAME:MST
DTSTART:20241103T080000
END:STANDARD
BEGIN:DAYLIGHT
TZOFFSETFROM:-0700
TZOFFSETTO:-0600
TZNAME:MDT
DTSTART:20250309T090000
END:DAYLIGHT
BEGIN:STANDARD
TZOFFSETFROM:-0600
TZOFFSETTO:-0700
TZNAME:MST
DTSTART:20251102T080000
END:STANDARD
END:VTIMEZONE
BEGIN:VEVENT
DTSTART;TZID=America/Edmonton:20241002T183000
DTEND;TZID=America/Edmonton:20241002T210000
DTSTAMP:20260421T114105
CREATED:20240912T153241Z
LAST-MODIFIED:20240912T153241Z
UID:10000364-1727893800-1727902800@northernspiritrc.ca
SUMMARY:A UNITED RESPONSE TO CLIMATE CHANGE
DESCRIPTION:A UNITED RESPONSE TO CLIMATE CHANGE.\nRELATIONAL ORGANIZING AS A VEHICLE FOR CLIMATE JUSTICE\nThe Climate in Canada is changing: summer temperatures are rising\, summer forests are burn are alarming rate\, reduce rainfall and snow during the year\, poor air quality and health issues\, increased need for warming and cooling shelters for the unhoused\, and affordable housing needs at a record high. \nHear strategies\, experiences\, and stories of fundamental of community organizing to discuss how the United Churches can work together\, and with other faith communities\, and community organizations to confront the social justice and environmental catastrophe of climate change facing us today. \nGuest Speaker David Burrow from the Uniting Church of Australia is a member and leader within the Uniting Church Synod of North South Wales. As a leader in the Sydney Alliance\, David has brought together diverse groups together to WIN CONCRETE CHANGES on Affordable Housing\, Climate\, Renewable Energy\, Fair Wages\, and the Welfare of Refuges. \nThe Great Edmonton Alliance for the Common Good is sponsoring David for an Evening event on A UNITED RESPONSE TO CLIMATE CHANGE.\nCONTACT: JO-ANNE KOBYLKA for more information @ 1587-501-7287 in Edmonton\nMinister of United Church of Canada\nChair of the Greater Edmonton Alliance (GEA)
URL:https://northernspiritrc.ca/event/a-united-response-to-climate-change/
LOCATION:Southminster-Steinhauer United Church\, 10740-19 Ave NW\, Edmonton\, AB\, T6J 6W9
CATEGORIES:Community events
ATTACH;FMTTYPE=image/png:https://northernspiritrc.ca/wp-content/uploads/2024/09/GEA-Climate-Change-Workshop-Facebook-Post-Square3.png
ORGANIZER;CN="Southminster-Steinhauer United Church":MAILTO:info@ssucedmonton.com
END:VEVENT
END:VCALENDAR