BEGIN:VCALENDAR
VERSION:2.0
PRODID:-//Northern Spirit Regional Council - ECPv6.15.20//NONSGML v1.0//EN
CALSCALE:GREGORIAN
METHOD:PUBLISH
X-ORIGINAL-URL:https://northernspiritrc.ca
X-WR-CALDESC:Events for Northern Spirit Regional Council
REFRESH-INTERVAL;VALUE=DURATION:PT1H
X-Robots-Tag:noindex
X-PUBLISHED-TTL:PT1H
BEGIN:VTIMEZONE
TZID:America/Edmonton
BEGIN:DAYLIGHT
TZOFFSETFROM:-0700
TZOFFSETTO:-0600
TZNAME:MDT
DTSTART:20240310T090000
END:DAYLIGHT
BEGIN:STANDARD
TZOFFSETFROM:-0600
TZOFFSETTO:-0700
TZNAME:MST
DTSTART:20241103T080000
END:STANDARD
BEGIN:DAYLIGHT
TZOFFSETFROM:-0700
TZOFFSETTO:-0600
TZNAME:MDT
DTSTART:20250309T090000
END:DAYLIGHT
BEGIN:STANDARD
TZOFFSETFROM:-0600
TZOFFSETTO:-0700
TZNAME:MST
DTSTART:20251102T080000
END:STANDARD
BEGIN:DAYLIGHT
TZOFFSETFROM:-0700
TZOFFSETTO:-0600
TZNAME:MDT
DTSTART:20260308T090000
END:DAYLIGHT
BEGIN:STANDARD
TZOFFSETFROM:-0600
TZOFFSETTO:-0700
TZNAME:MST
DTSTART:20261101T080000
END:STANDARD
END:VTIMEZONE
BEGIN:VEVENT
DTSTART;TZID=America/Edmonton:20251024T163000
DTEND;TZID=America/Edmonton:20251024T180000
DTSTAMP:20260420T154242
CREATED:20250911T164414Z
LAST-MODIFIED:20250911T164414Z
UID:10000510-1761323400-1761328800@northernspiritrc.ca
SUMMARY:Harvest Feast at Stony Plain United Church
DESCRIPTION:Join us for this Feast to celebrate the harvests we enjoy in Alberta! The meal consists of beef; potatoes; our famous beet dish and our equally famous rice/sauerkraut casserole; salad; buns; pickles. Don’t forget to leave room for the refreshments to enjoy with dessert!\nGeneral Admission: $27.00; Children 6-11 years: $13.00; Children 5 and under: free.\n5012 – 51 Avenue – Box 3196\nStony Plain\, AB T7Z 1C2
URL:https://northernspiritrc.ca/event/harvest-feast-at-stony-plain-united-church/
LOCATION:Stony Plain United Church\, 5012 - 51 Ave\, Stony Plain\, AB\, T7Z 1C2\, Canada
CATEGORIES:Community events
ATTACH;FMTTYPE=image/jpeg:https://northernspiritrc.ca/wp-content/uploads/2024/10/priscilla-du-preez-bJPn27RFg0Y-unsplash.jpg
ORGANIZER;CN="Stony Plain United Church":MAILTO:lmstew7@outlook.com
END:VEVENT
END:VCALENDAR