BEGIN:VCALENDAR
VERSION:2.0
PRODID:-//Northern Spirit Regional Council - ECPv6.15.20//NONSGML v1.0//EN
CALSCALE:GREGORIAN
METHOD:PUBLISH
X-ORIGINAL-URL:https://northernspiritrc.ca
X-WR-CALDESC:Events for Northern Spirit Regional Council
REFRESH-INTERVAL;VALUE=DURATION:PT1H
X-Robots-Tag:noindex
X-PUBLISHED-TTL:PT1H
BEGIN:VTIMEZONE
TZID:America/Edmonton
BEGIN:DAYLIGHT
TZOFFSETFROM:-0700
TZOFFSETTO:-0600
TZNAME:MDT
DTSTART:20240310T090000
END:DAYLIGHT
BEGIN:STANDARD
TZOFFSETFROM:-0600
TZOFFSETTO:-0700
TZNAME:MST
DTSTART:20241103T080000
END:STANDARD
BEGIN:DAYLIGHT
TZOFFSETFROM:-0700
TZOFFSETTO:-0600
TZNAME:MDT
DTSTART:20250309T090000
END:DAYLIGHT
BEGIN:STANDARD
TZOFFSETFROM:-0600
TZOFFSETTO:-0700
TZNAME:MST
DTSTART:20251102T080000
END:STANDARD
BEGIN:DAYLIGHT
TZOFFSETFROM:-0700
TZOFFSETTO:-0600
TZNAME:MDT
DTSTART:20260308T090000
END:DAYLIGHT
BEGIN:STANDARD
TZOFFSETFROM:-0600
TZOFFSETTO:-0700
TZNAME:MST
DTSTART:20261101T080000
END:STANDARD
END:VTIMEZONE
BEGIN:VEVENT
DTSTART;TZID=America/Edmonton:20250808T083000
DTEND;TZID=America/Edmonton:20250808T113000
DTSTAMP:20260420T183158
CREATED:20250729T185629Z
LAST-MODIFIED:20250729T185641Z
UID:10000497-1754641800-1754652600@northernspiritrc.ca
SUMMARY:Edmonton: In person community for the Apology to 2SLGBTQIA+ communities
DESCRIPTION:Spirit of Hope United Church invites you to attend a viewing of the United Church’s Apology to Two Spirit and LGBTQIA+ people within a warm\, caring Circle of Support\, August 8\, 2025. \nJoin us at 7909 82 Avenue NW\, Edmonton AB to participate online in worship and the formal Apology from the United Church of Canada.  This is open to all. You do not need to be part of the United Church to join the circle. \nSchedule:\n8:30am Mountain Daylight Time- Gathering\n9am The Apology: Witness the Apology via livestream.\nAfter the Apology\, we will gently hold space together for as long as needed. Refreshments will be supplied. \nHere is more background on the United Church’s apology. \nMore details on the participation options on August 8. \nOverview of the Apology’s process of creation.
URL:https://northernspiritrc.ca/event/edmonton-in-person-community-for-the-apology-to-2slgbtqia-communities/
LOCATION:Spirit of Hope United Church\, 7909 82 Ave NW\, Edmonton\, AB\, Canada
CATEGORIES:Community events,LGBTQIA2S+,Regional event
ATTACH;FMTTYPE=image/jpeg:https://northernspiritrc.ca/wp-content/uploads/2025/07/IMG_5767.jpeg
ORGANIZER;CN="Spirit of Hope United Church":MAILTO:officeadmin@spiritofhope.ca
END:VEVENT
BEGIN:VEVENT
DTSTART;TZID=America/Edmonton:20250808T083000
DTEND;TZID=America/Edmonton:20250808T130000
DTSTAMP:20260420T183158
CREATED:20250729T184215Z
LAST-MODIFIED:20250729T184215Z
UID:10000496-1754641800-1754658000@northernspiritrc.ca
SUMMARY:Vegreville: In person community for the Apology to 2SLGBTQIA+ communities
DESCRIPTION:Vegreville United Church invites you to attend a viewing of the United Church’s Apology to Two Spirit and LGBTQIA+ people within a warm\, caring Circle of Support\, August 8\, 2025. \nJoin us at 5126 48 Ave\, Vegreville\, AB to participate online in worship and the formal Apology from the United Church of Canada.  This is open to all. You do not need to be part of the United Church to join the circle. \nSchedule:\n8:30am Mountain Daylight Time- Gathering\n9am The Apology: Witness the Apology via livestream.\nAfter the Apology\, we will gently hold space together for as long as needed. Coffee & light lunch will be supplied. \nHere is more background on the United Church’s apology. \nMore details on the participation options on August 8. \nOverview of the Apology’s process of creation.
URL:https://northernspiritrc.ca/event/vegreville-in-person-community-for-the-apology-to-2slgbtqia-communities/
LOCATION:AB
CATEGORIES:Community events,LGBTQIA2S+,Regional event
ATTACH;FMTTYPE=image/jpeg:https://northernspiritrc.ca/wp-content/uploads/2025/07/IMG_5767.jpeg
END:VEVENT
END:VCALENDAR