BEGIN:VCALENDAR
VERSION:2.0
PRODID:-//Northern Spirit Regional Council - ECPv6.15.20//NONSGML v1.0//EN
CALSCALE:GREGORIAN
METHOD:PUBLISH
X-WR-CALNAME:Northern Spirit Regional Council
X-ORIGINAL-URL:https://northernspiritrc.ca
X-WR-CALDESC:Events for Northern Spirit Regional Council
REFRESH-INTERVAL;VALUE=DURATION:PT1H
X-Robots-Tag:noindex
X-PUBLISHED-TTL:PT1H
BEGIN:VTIMEZONE
TZID:America/Edmonton
BEGIN:DAYLIGHT
TZOFFSETFROM:-0700
TZOFFSETTO:-0600
TZNAME:MDT
DTSTART:20240310T090000
END:DAYLIGHT
BEGIN:STANDARD
TZOFFSETFROM:-0600
TZOFFSETTO:-0700
TZNAME:MST
DTSTART:20241103T080000
END:STANDARD
BEGIN:DAYLIGHT
TZOFFSETFROM:-0700
TZOFFSETTO:-0600
TZNAME:MDT
DTSTART:20250309T090000
END:DAYLIGHT
BEGIN:STANDARD
TZOFFSETFROM:-0600
TZOFFSETTO:-0700
TZNAME:MST
DTSTART:20251102T080000
END:STANDARD
BEGIN:DAYLIGHT
TZOFFSETFROM:-0700
TZOFFSETTO:-0600
TZNAME:MDT
DTSTART:20260308T090000
END:DAYLIGHT
BEGIN:STANDARD
TZOFFSETFROM:-0600
TZOFFSETTO:-0700
TZNAME:MST
DTSTART:20261101T080000
END:STANDARD
END:VTIMEZONE
BEGIN:VEVENT
DTSTART;TZID=America/Edmonton:20250622T110000
DTEND;TZID=America/Edmonton:20250622T150000
DTSTAMP:20260420T211805
CREATED:20250602T155727Z
LAST-MODIFIED:20250602T155727Z
UID:10000478-1750590000-1750604400@northernspiritrc.ca
SUMMARY:Free community BBQ!
DESCRIPTION:Holy Smokes\, We’re turning 100 as The United Church of Canada So come and Meat us as we’re throwing a Free community BBQ!!!\nJoin us as we celebrate the United Church of Canada’s 100th Anniversary and St. Andrews’ 185 years of faithful service\, being present\, and welcoming all in this Community with a FREE BBQ!!!!\nALL ARE WELCOME!!!!\nWhen: Sunday\, June 22 @ 11 am at St. Andrews United Church Come Celebrate with food\, friends\, and community!\nThere will be a Free will offering for those who wish to help support this Free Event. Give what you can\, eat what you can!
URL:https://northernspiritrc.ca/event/free-community-bbq/
LOCATION:St. Andrew’s United Church\, Spruce Grove\, 1A Fieldstone Drive\,\, Spruce Grove\, Alberta\, Canada
CATEGORIES:100th Anniversary of the UCC,Community events
ATTACH;FMTTYPE=image/jpeg:https://northernspiritrc.ca/wp-content/uploads/2025/05/100th-BBQ.jpg
END:VEVENT
END:VCALENDAR