BEGIN:VCALENDAR
VERSION:2.0
PRODID:-//Northern Spirit Regional Council - ECPv6.15.20//NONSGML v1.0//EN
CALSCALE:GREGORIAN
METHOD:PUBLISH
X-WR-CALNAME:Northern Spirit Regional Council
X-ORIGINAL-URL:https://northernspiritrc.ca
X-WR-CALDESC:Events for Northern Spirit Regional Council
REFRESH-INTERVAL;VALUE=DURATION:PT1H
X-Robots-Tag:noindex
X-PUBLISHED-TTL:PT1H
BEGIN:VTIMEZONE
TZID:America/Edmonton
BEGIN:DAYLIGHT
TZOFFSETFROM:-0700
TZOFFSETTO:-0600
TZNAME:MDT
DTSTART:20240310T090000
END:DAYLIGHT
BEGIN:STANDARD
TZOFFSETFROM:-0600
TZOFFSETTO:-0700
TZNAME:MST
DTSTART:20241103T080000
END:STANDARD
BEGIN:DAYLIGHT
TZOFFSETFROM:-0700
TZOFFSETTO:-0600
TZNAME:MDT
DTSTART:20250309T090000
END:DAYLIGHT
BEGIN:STANDARD
TZOFFSETFROM:-0600
TZOFFSETTO:-0700
TZNAME:MST
DTSTART:20251102T080000
END:STANDARD
BEGIN:DAYLIGHT
TZOFFSETFROM:-0700
TZOFFSETTO:-0600
TZNAME:MDT
DTSTART:20260308T090000
END:DAYLIGHT
BEGIN:STANDARD
TZOFFSETFROM:-0600
TZOFFSETTO:-0700
TZNAME:MST
DTSTART:20261101T080000
END:STANDARD
END:VTIMEZONE
BEGIN:VEVENT
DTSTART;TZID=America/Edmonton:20250313T190000
DTEND;TZID=America/Edmonton:20250313T200000
DTSTAMP:20260421T032130
CREATED:20250219T201109Z
LAST-MODIFIED:20250219T201109Z
UID:10000424-1741892400-1741896000@northernspiritrc.ca
SUMMARY:FREE Travelogue - Morocco
DESCRIPTION:Join us on March 13th from 7 pm to 8 pm at Kirk Centre and travel from the comfort of your seat while immersing yourself in info and photos on Morocco presented by Gerry Woolnough.\nEnjoy authentic snacks and a beverage to make the experience all the more realistic! \nRegister here: https://www.kirkcentre.ca/upcoming-events or call 780-438-6619 \nAlso available: FREE Travelogue – Thailand on February 27th 2025 from 7-8 pm
URL:https://northernspiritrc.ca/event/free-travelogue-morocco/
LOCATION:Kirk United Church Community Centre\, 13535 122 Ave NW\, Edmonton\, Alberta\, T5L 2V7\, Canada
CATEGORIES:Community events
ATTACH;FMTTYPE=image/png:https://northernspiritrc.ca/wp-content/uploads/2025/02/Free-Feb-Mar-2025-Travelogue-1.png
END:VEVENT
END:VCALENDAR