BEGIN:VCALENDAR
VERSION:2.0
PRODID:-//Northern Spirit Regional Council - ECPv6.15.20//NONSGML v1.0//EN
CALSCALE:GREGORIAN
METHOD:PUBLISH
X-ORIGINAL-URL:https://northernspiritrc.ca
X-WR-CALDESC:Events for Northern Spirit Regional Council
REFRESH-INTERVAL;VALUE=DURATION:PT1H
X-Robots-Tag:noindex
X-PUBLISHED-TTL:PT1H
BEGIN:VTIMEZONE
TZID:America/Edmonton
BEGIN:DAYLIGHT
TZOFFSETFROM:-0700
TZOFFSETTO:-0600
TZNAME:MDT
DTSTART:20230312T090000
END:DAYLIGHT
BEGIN:STANDARD
TZOFFSETFROM:-0600
TZOFFSETTO:-0700
TZNAME:MST
DTSTART:20231105T080000
END:STANDARD
BEGIN:DAYLIGHT
TZOFFSETFROM:-0700
TZOFFSETTO:-0600
TZNAME:MDT
DTSTART:20240310T090000
END:DAYLIGHT
BEGIN:STANDARD
TZOFFSETFROM:-0600
TZOFFSETTO:-0700
TZNAME:MST
DTSTART:20241103T080000
END:STANDARD
BEGIN:DAYLIGHT
TZOFFSETFROM:-0700
TZOFFSETTO:-0600
TZNAME:MDT
DTSTART:20250309T090000
END:DAYLIGHT
BEGIN:STANDARD
TZOFFSETFROM:-0600
TZOFFSETTO:-0700
TZNAME:MST
DTSTART:20251102T080000
END:STANDARD
END:VTIMEZONE
BEGIN:VEVENT
DTSTART;TZID=America/Edmonton:20241201T130000
DTEND;TZID=America/Edmonton:20241201T150000
DTSTAMP:20260421T072819
CREATED:20241125T200935Z
LAST-MODIFIED:20241125T200935Z
UID:10000393-1733058000-1733065200@northernspiritrc.ca
SUMMARY:Craft & Bake Sale - Spirit West United Church
DESCRIPTION:The Ladies Group at Spirit West are holding a Craft and Bake Sale on Sunday\, December 1 from 1-3pm. Lots of baking and crafts so come do some of your Christmas shopping! We will have a craft table where\, for $1.00\, kids can make their own craft! Hot chocolate is provided! Bring your friends and spread the word! Cash only!
URL:https://northernspiritrc.ca/event/craft-bake-sale-spirit-west-united-church/
LOCATION:Spirit West United Church\, 7003 199 St NW\, Edmonton\, Alberta\, T5T 3A8\, Canada
CATEGORIES:Community events
ATTACH;FMTTYPE=image/png:https://northernspiritrc.ca/wp-content/uploads/2024/11/CB2024-v2.png
END:VEVENT
END:VCALENDAR