BEGIN:VCALENDAR
VERSION:2.0
PRODID:-//Northern Spirit Regional Council - ECPv6.15.20//NONSGML v1.0//EN
CALSCALE:GREGORIAN
METHOD:PUBLISH
X-ORIGINAL-URL:https://northernspiritrc.ca
X-WR-CALDESC:Events for Northern Spirit Regional Council
REFRESH-INTERVAL;VALUE=DURATION:PT1H
X-Robots-Tag:noindex
X-PUBLISHED-TTL:PT1H
BEGIN:VTIMEZONE
TZID:America/Edmonton
BEGIN:DAYLIGHT
TZOFFSETFROM:-0700
TZOFFSETTO:-0600
TZNAME:MDT
DTSTART:20250309T090000
END:DAYLIGHT
BEGIN:STANDARD
TZOFFSETFROM:-0600
TZOFFSETTO:-0700
TZNAME:MST
DTSTART:20251102T080000
END:STANDARD
BEGIN:DAYLIGHT
TZOFFSETFROM:-0700
TZOFFSETTO:-0600
TZNAME:MDT
DTSTART:20260308T090000
END:DAYLIGHT
BEGIN:STANDARD
TZOFFSETFROM:-0600
TZOFFSETTO:-0700
TZNAME:MST
DTSTART:20261101T080000
END:STANDARD
BEGIN:DAYLIGHT
TZOFFSETFROM:-0700
TZOFFSETTO:-0600
TZNAME:MDT
DTSTART:20270314T090000
END:DAYLIGHT
BEGIN:STANDARD
TZOFFSETFROM:-0600
TZOFFSETTO:-0700
TZNAME:MST
DTSTART:20271107T080000
END:STANDARD
END:VTIMEZONE
BEGIN:VEVENT
DTSTART;TZID=America/Edmonton:20260429T093000
DTEND;TZID=America/Edmonton:20260501T113000
DTSTAMP:20260420T071538
CREATED:20260407T190402Z
LAST-MODIFIED:20260407T190446Z
UID:10000659-1777455000-1777635000@northernspiritrc.ca
SUMMARY:Transform Your Church by Transforming Your Conversations
DESCRIPTION:Conversations Worth Having Workshop for Spiritual Leaders is a webinar for clergy and lay leaders (M&P members\, Church Board leaders etc.) focused on building trust\, improving meetings\, and navigating difficult conversations with greater clarity and life-giving impact.\nDates: April 29 & May 1\, 2026\nInterested? For more information and to Register: conversationsworthhaving.today/cwh-forum-for-spiritual-leaders\nFacilitator: Todd McDonald (Rev. Dr.) is a former Pastoral Relations Minister in Shining Waters Regional Council. Todd’s work seeks to support the health\, joy\, and excellence of faith leaders – both clergy and lay leaders.
URL:https://northernspiritrc.ca/event/transform-your-church-by-transforming-your-conversations/2026-04-29/
LOCATION:AB
CATEGORIES:Community events,Events
ATTACH;FMTTYPE=image/jpeg:https://northernspiritrc.ca/wp-content/uploads/2026/03/CWH-LOGO.jpg
END:VEVENT
BEGIN:VEVENT
DTSTART;TZID=America/Edmonton:20260501T093000
DTEND;TZID=America/Edmonton:20260501T113000
DTSTAMP:20260420T071538
CREATED:20260407T190402Z
LAST-MODIFIED:20260407T190446Z
UID:10000660-1777627800-1777635000@northernspiritrc.ca
SUMMARY:Transform Your Church by Transforming Your Conversations
DESCRIPTION:Conversations Worth Having Workshop for Spiritual Leaders is a webinar for clergy and lay leaders (M&P members\, Church Board leaders etc.) focused on building trust\, improving meetings\, and navigating difficult conversations with greater clarity and life-giving impact.\nDates: April 29 & May 1\, 2026\nInterested? For more information and to Register: conversationsworthhaving.today/cwh-forum-for-spiritual-leaders\nFacilitator: Todd McDonald (Rev. Dr.) is a former Pastoral Relations Minister in Shining Waters Regional Council. Todd’s work seeks to support the health\, joy\, and excellence of faith leaders – both clergy and lay leaders.
URL:https://northernspiritrc.ca/event/transform-your-church-by-transforming-your-conversations/2026-05-01/
LOCATION:AB
CATEGORIES:Community events,Events
ATTACH;FMTTYPE=image/jpeg:https://northernspiritrc.ca/wp-content/uploads/2026/03/CWH-LOGO.jpg
END:VEVENT
BEGIN:VEVENT
DTSTART;TZID=America/Edmonton:20260501T160000
DTEND;TZID=America/Edmonton:20260501T190000
DTSTAMP:20260420T071538
CREATED:20260409T171046Z
LAST-MODIFIED:20260409T171046Z
UID:10000662-1777651200-1777662000@northernspiritrc.ca
SUMMARY:Garage Sale
DESCRIPTION:Antiques and collectables\, household items\, clothing\, jewlery\, toys\, books\, sporting goods and more! Accompanied by a hotdog concession.\n6215 – 104 Avenue\, Edmonton
URL:https://northernspiritrc.ca/event/garage-sale-2/2026-05-01/
LOCATION:Grace United Church\, 6215 104 Ave\, Edmonton\, AB\, Canada
CATEGORIES:Community events
ATTACH;FMTTYPE=image/jpeg:https://northernspiritrc.ca/wp-content/uploads/2026/04/Sale-poster-scaled.jpg
ORGANIZER;CN="Grace United Church":MAILTO:grace.united@shaw.ca
END:VEVENT
BEGIN:VEVENT
DTSTART;TZID=America/Edmonton:20260502T100000
DTEND;TZID=America/Edmonton:20260502T140000
DTSTAMP:20260420T071538
CREATED:20260409T171046Z
LAST-MODIFIED:20260409T171046Z
UID:10000663-1777716000-1777730400@northernspiritrc.ca
SUMMARY:Garage Sale
DESCRIPTION:Antiques and collectables\, household items\, clothing\, jewlery\, toys\, books\, sporting goods and more! Accompanied by a hotdog concession.\n6215 – 104 Avenue\, Edmonton
URL:https://northernspiritrc.ca/event/garage-sale-2/2026-05-02/
LOCATION:Grace United Church\, 6215 104 Ave\, Edmonton\, AB\, Canada
CATEGORIES:Community events
ATTACH;FMTTYPE=image/jpeg:https://northernspiritrc.ca/wp-content/uploads/2026/04/Sale-poster-scaled.jpg
ORGANIZER;CN="Grace United Church":MAILTO:grace.united@shaw.ca
END:VEVENT
BEGIN:VEVENT
DTSTART;TZID=America/Edmonton:20260508T183000
DTEND;TZID=America/Edmonton:20260508T210000
DTSTAMP:20260420T071538
CREATED:20260227T165436Z
LAST-MODIFIED:20260227T165436Z
UID:10000641-1778265000-1778274000@northernspiritrc.ca
SUMMARY:Spill The T: Readings from the 2SLGBTQIA Human Library
DESCRIPTION:THE LIBRARY IS OPEN!\nIn partnership with Kirk Centre\, this 3-part pilot project learning series is coming to Robertson-Wesley spring 2026!\nEach month in March\, April and May\, a different subject matter expert will present on a given topic within the 2SLGBTQIA+ experience that they have intimate knowledge of. After the initial presentation there will be ample time for the audience to ask questions of the speaker on that subject\, followed by table conversations over refreshments. \nMaybe there are things you don’t feel comfortable asking just a random person or loved one? Do you have an awkward or sensitive question itching to be answered? All are encouraged. Come experience a safe place for genuine curiosity and learning\, where discrimination of any kind will not be tolerated. You do not need to identify as a queer person\, or even know anyone who identifies as 2SLGBTQIA\, to want to improve your allyship and awareness of the community. This is family friendly and all ages are welcome to participate. \nThis event is intended to be as accessible as possible\, including ASL interpretation for the presentation and Q&A portions. RWUC has accessible washrooms\, a lift and ramps throughout building. If you or another attendee need additional accommodations please reach out so the organizers can be prepared. \nOfficial Topics and Presenters are TBD at time of posting\, visit rwuc.org for the latest updated poster\nAny further questions or concerns\, email Peter p.graham@rwuc.org \nPossible subjects to be explored (one per event):\nTwo Spirit Perspectives\nAsexuality\, intersex understanding\nQueer Identity in Different Cultures\nHow to Be an Ally\nWorkplace Policies & Inclusion\nSports and 2SLGBTQIA+ Participation\nPregnancy and Queer Families\nElderhood\, Aging as a Queer Person
URL:https://northernspiritrc.ca/event/spill-the-t-readings-from-the-2slgbtqia-human-library/2026-05-08/
LOCATION:Robertson-Wesley United Church\, 10209 123 st\, Edmonton\, Alberta\, T5N 1N3\, Canada
CATEGORIES:Community events,LGBTQIA2S+
ATTACH;FMTTYPE=image/jpeg:https://northernspiritrc.ca/wp-content/uploads/2026/02/2.jpg
ORGANIZER;CN="Robertson-Wesley United Church":MAILTO:mail@rwuc.org
END:VEVENT
BEGIN:VEVENT
DTSTART;TZID=America/Edmonton:20260509T100000
DTEND;TZID=America/Edmonton:20260509T160000
DTSTAMP:20260420T071538
CREATED:20260407T160652Z
LAST-MODIFIED:20260407T160652Z
UID:10000661-1778320800-1778342400@northernspiritrc.ca
SUMMARY:Mill Woods United Church Spring Craft Market
DESCRIPTION:SAVE THE DATE! \nOur Annual Spring Craft Fair is coming soon! \nJoin us at Mill Woods United Church on Saturday\, May 9th\, from 10 am to 4 pm. \nWe’ll have a fantastic selection of local vendors\, so get ready to find unique holiday gifts and support a great cause. This special event helps fund the life and work of Mill Woods United Church in the community. \nMill Woods United Church\n15 Grand Meadow Crescent \n#YEG #SupportLocal #EdmontonEvents #CraftMarket #yeglocal
URL:https://northernspiritrc.ca/event/mill-woods-united-church-spring-craft-market/
LOCATION:Mill Woods United Church\, 15 Grand Meadow Cres\, Edmonton\, AB\, T6L 1A1\, Canada
CATEGORIES:Community events
ATTACH;FMTTYPE=image/jpeg:https://northernspiritrc.ca/wp-content/uploads/2026/04/Spring-Craft-Market.jpg
END:VEVENT
BEGIN:VEVENT
DTSTART;TZID=America/Edmonton:20260530T080000
DTEND;TZID=America/Edmonton:20260530T170000
DTSTAMP:20260420T071538
CREATED:20260227T165600Z
LAST-MODIFIED:20260401T180311Z
UID:10000644-1780128000-1780160400@northernspiritrc.ca
SUMMARY:A Night with the Knygts
DESCRIPTION:Join us on May 30th for a night with the Knygts! Step back in time to England in the 14th century. See what daily life was like from how cloth was made\, to the arms and armour. Before eating like royalty with a dinner from the Master Cooks of King Richard II. Then see how a knight should be armed\, listen to the Canterbury tales and watch two knights duel for glory. Tickets will go on sale on April 1.
URL:https://northernspiritrc.ca/event/a-night-with-the-knygts/
LOCATION:Spirit of Hope United Church\, 7909 82 Ave NW\, Edmonton\, AB\, Canada
CATEGORIES:Community events
ATTACH;FMTTYPE=image/jpeg:https://northernspiritrc.ca/wp-content/uploads/2026/02/ember-navarro-3q2TzsUUVIo-unsplash.jpg
ORGANIZER;CN="Spirit of Hope United Church":MAILTO:officeadmin@spiritofhope.ca
END:VEVENT
END:VCALENDAR