BEGIN:VCALENDAR
VERSION:2.0
PRODID:-//Northern Spirit Regional Council - ECPv6.15.20//NONSGML v1.0//EN
CALSCALE:GREGORIAN
METHOD:PUBLISH
X-WR-CALNAME:Northern Spirit Regional Council
X-ORIGINAL-URL:https://northernspiritrc.ca
X-WR-CALDESC:Events for Northern Spirit Regional Council
REFRESH-INTERVAL;VALUE=DURATION:PT1H
X-Robots-Tag:noindex
X-PUBLISHED-TTL:PT1H
BEGIN:VTIMEZONE
TZID:America/Edmonton
BEGIN:DAYLIGHT
TZOFFSETFROM:-0700
TZOFFSETTO:-0600
TZNAME:MDT
DTSTART:20240310T090000
END:DAYLIGHT
BEGIN:STANDARD
TZOFFSETFROM:-0600
TZOFFSETTO:-0700
TZNAME:MST
DTSTART:20241103T080000
END:STANDARD
BEGIN:DAYLIGHT
TZOFFSETFROM:-0700
TZOFFSETTO:-0600
TZNAME:MDT
DTSTART:20250309T090000
END:DAYLIGHT
BEGIN:STANDARD
TZOFFSETFROM:-0600
TZOFFSETTO:-0700
TZNAME:MST
DTSTART:20251102T080000
END:STANDARD
BEGIN:DAYLIGHT
TZOFFSETFROM:-0700
TZOFFSETTO:-0600
TZNAME:MDT
DTSTART:20260308T090000
END:DAYLIGHT
BEGIN:STANDARD
TZOFFSETFROM:-0600
TZOFFSETTO:-0700
TZNAME:MST
DTSTART:20261101T080000
END:STANDARD
END:VTIMEZONE
BEGIN:VEVENT
DTSTART;TZID=America/Edmonton:20250502T160000
DTEND;TZID=America/Edmonton:20250502T190000
DTSTAMP:20260420T213308
CREATED:20250407T191927Z
LAST-MODIFIED:20250407T191927Z
UID:10000450-1746201600-1746212400@northernspiritrc.ca
SUMMARY:Garage Sale
DESCRIPTION:Antiques and collectibles\, household items\, clothing\, jewellery\, toys\, books\, sporting goods and more!
URL:https://northernspiritrc.ca/event/garage-sale/2025-05-02/
LOCATION:Grace United Church\, 6215 104 Ave\, Edmonton\, AB\, Canada
CATEGORIES:Community events
ATTACH;FMTTYPE=image/jpeg:https://northernspiritrc.ca/wp-content/uploads/2025/04/2025-Garage-Sale-poster.jpg
ORGANIZER;CN="Grace United Church":MAILTO:grace.united@shaw.ca
END:VEVENT
BEGIN:VEVENT
DTSTART;TZID=America/Edmonton:20250503T100000
DTEND;TZID=America/Edmonton:20250503T140000
DTSTAMP:20260420T213308
CREATED:20250407T191927Z
LAST-MODIFIED:20250407T191927Z
UID:10000451-1746266400-1746280800@northernspiritrc.ca
SUMMARY:Garage Sale
DESCRIPTION:Antiques and collectibles\, household items\, clothing\, jewellery\, toys\, books\, sporting goods and more!
URL:https://northernspiritrc.ca/event/garage-sale/2025-05-03/
LOCATION:Grace United Church\, 6215 104 Ave\, Edmonton\, AB\, Canada
CATEGORIES:Community events
ATTACH;FMTTYPE=image/jpeg:https://northernspiritrc.ca/wp-content/uploads/2025/04/2025-Garage-Sale-poster.jpg
ORGANIZER;CN="Grace United Church":MAILTO:grace.united@shaw.ca
END:VEVENT
BEGIN:VEVENT
DTSTART;TZID=America/Edmonton:20250503T163000
DTEND;TZID=America/Edmonton:20250503T203000
DTSTAMP:20260420T213308
CREATED:20250422T215535Z
LAST-MODIFIED:20250422T215535Z
UID:10000456-1746289800-1746304200@northernspiritrc.ca
SUMMARY:Ardrossan United Church Roast Beef Dinner
DESCRIPTION:Two Sittings: 4:45pm and 6:45PM\nADULTS $30\nCHILDREN $10 (6-12)\nUNDER 6 FREE \nMAY 3\, 2025 \nARDOSSAN UNITED CHURCH\n22 MAIN STREET\, ARDROSSAN\, AB. \nCALL KEITH AND LAURAINE BARBER FOR TICKETS: 780-464-7235
URL:https://northernspiritrc.ca/event/ardrossan-united-church-roast-beef-dinner-2/
LOCATION:Ardrossan United Church\, 22 Main Street\, Ardrossan\, AB\, Canada
CATEGORIES:Community events
ATTACH;FMTTYPE=image/png:https://northernspiritrc.ca/wp-content/uploads/2025/04/beef-supper.png
END:VEVENT
BEGIN:VEVENT
DTSTART;TZID=America/Edmonton:20250515T180000
DTEND;TZID=America/Edmonton:20250515T190000
DTSTAMP:20260420T213308
CREATED:20250320T205545Z
LAST-MODIFIED:20250320T205545Z
UID:10000440-1747332000-1747335600@northernspiritrc.ca
SUMMARY:Free Ukrainian Community Dinner at Kirk Centre
DESCRIPTION:MARK YOUR CALENDAR! 📲📆✅\nKirk Centre is partnering with Culina Catering to bring you our FREE Spring Community Dinner featuring Ukrainian delights!\nRegistration opening in April at https://www.kirkcentre.ca/upcoming-events or by calling 780-438-6619.
URL:https://northernspiritrc.ca/event/free-ukrainian-community-dinner-at-kirk-centre/
LOCATION:Kirk United Church Community Centre\, 13535 122 Ave NW\, Edmonton\, Alberta\, T5L 2V7\, Canada
CATEGORIES:Community events
ATTACH;FMTTYPE=image/png:https://northernspiritrc.ca/wp-content/uploads/2025/03/Save-the-date.png
END:VEVENT
END:VCALENDAR