BEGIN:VCALENDAR
VERSION:2.0
PRODID:-//Northern Spirit Regional Council - ECPv6.15.20//NONSGML v1.0//EN
CALSCALE:GREGORIAN
METHOD:PUBLISH
X-WR-CALNAME:Northern Spirit Regional Council
X-ORIGINAL-URL:https://northernspiritrc.ca
X-WR-CALDESC:Events for Northern Spirit Regional Council
REFRESH-INTERVAL;VALUE=DURATION:PT1H
X-Robots-Tag:noindex
X-PUBLISHED-TTL:PT1H
BEGIN:VTIMEZONE
TZID:America/Edmonton
BEGIN:DAYLIGHT
TZOFFSETFROM:-0700
TZOFFSETTO:-0600
TZNAME:MDT
DTSTART:20240310T090000
END:DAYLIGHT
BEGIN:STANDARD
TZOFFSETFROM:-0600
TZOFFSETTO:-0700
TZNAME:MST
DTSTART:20241103T080000
END:STANDARD
BEGIN:DAYLIGHT
TZOFFSETFROM:-0700
TZOFFSETTO:-0600
TZNAME:MDT
DTSTART:20250309T090000
END:DAYLIGHT
BEGIN:STANDARD
TZOFFSETFROM:-0600
TZOFFSETTO:-0700
TZNAME:MST
DTSTART:20251102T080000
END:STANDARD
BEGIN:DAYLIGHT
TZOFFSETFROM:-0700
TZOFFSETTO:-0600
TZNAME:MDT
DTSTART:20260308T090000
END:DAYLIGHT
BEGIN:STANDARD
TZOFFSETFROM:-0600
TZOFFSETTO:-0700
TZNAME:MST
DTSTART:20261101T080000
END:STANDARD
END:VTIMEZONE
BEGIN:VEVENT
DTSTART;TZID=America/Edmonton:20250412T163000
DTEND;TZID=America/Edmonton:20250412T193000
DTSTAMP:20260420T230406
CREATED:20250310T210553Z
LAST-MODIFIED:20250310T210553Z
UID:10000428-1744475400-1744486200@northernspiritrc.ca
SUMMARY:Not So Silent - Silent Auction and Beef and Pork Dinner
DESCRIPTION:Not So Silent – Silent Auction & Beef and Pork Dinner\n📍 Spirit of Hope United Church\n📅 Saturday\, April 12\, 2025\n⏰ Doors open at 4:30 p.m. \nJoin us for an evening of great food\, friendly bidding\, and community spirit at our Not So Silent – Silent Auction & BBQ! All proceeds will support community outreach projects and events. \n🎁 We Need Your Help!\nWe are now accepting donations for the auction. If you have a suitable item\, gift certificate\, or unique experience to contribute\, we would greatly appreciate your generosity. Your support will be recognized\, as all contributors’ names will be displayed alongside their donated items. \n🎟️ Tickets on Sale Starting Sunday\, March 16\, 2025!\nStay tuned for more details\, and get ready for a fun-filled evening of bidding and BBQ! \nThank you for your generosity and support!
URL:https://northernspiritrc.ca/event/not-so-silent-silent-auction-and-beef-and-pork-dinner/
LOCATION:Spirit of Hope United Church\, 7909 82 Ave NW\, Edmonton\, AB\, Canada
CATEGORIES:Community events
ATTACH;FMTTYPE=image/jpeg:https://northernspiritrc.ca/wp-content/uploads/2025/03/Not-So-Silent-Silent-Auction-2025-Poster-1.jpg
ORGANIZER;CN="Spirit of Hope United Church":MAILTO:officeadmin@spiritofhope.ca
END:VEVENT
BEGIN:VEVENT
DTSTART;TZID=America/Edmonton:20250422T190000
DTEND;TZID=America/Edmonton:20250422T203000
DTSTAMP:20260420T230406
CREATED:20250326T173953Z
LAST-MODIFIED:20250326T173953Z
UID:10000442-1745348400-1745353800@northernspiritrc.ca
SUMMARY:Wild Church YEG
DESCRIPTION:Earth Day is coming up! Mark your calendars for Robertson-Wesley’s Wild Church as we gather to mark the occasion with the theme “In Touch: Gratitude and Grace”. We will meet at Emily Murphy Park (picnic site 3\, at the east end of the parking lot) on April 22 at 7 PM. All are welcome\, including pets and little ones. Contact us at wildchurch@rwuc.org if requiring a carpool. Bring an empty mug for a drink. Rain or shine! \nFollow us on Instagram! @wildchurchyeg
URL:https://northernspiritrc.ca/event/wild-church-yeg-11/
LOCATION:Fire Pit at Emily Murphy Park\, 11904 Emily Murphy Park Rd NW\, Edmonton\, Alberta\, Canada
CATEGORIES:Community events
ATTACH;FMTTYPE=image/png:https://northernspiritrc.ca/wp-content/uploads/2025/03/Wild-Church-1.png
ORGANIZER;CN="Robertson-Wesley United Church":MAILTO:mail@rwuc.org
END:VEVENT
END:VCALENDAR