BEGIN:VCALENDAR
VERSION:2.0
PRODID:-//Northern Spirit Regional Council - ECPv6.15.20//NONSGML v1.0//EN
CALSCALE:GREGORIAN
METHOD:PUBLISH
X-ORIGINAL-URL:https://northernspiritrc.ca
X-WR-CALDESC:Events for Northern Spirit Regional Council
REFRESH-INTERVAL;VALUE=DURATION:PT1H
X-Robots-Tag:noindex
X-PUBLISHED-TTL:PT1H
BEGIN:VTIMEZONE
TZID:America/Edmonton
BEGIN:DAYLIGHT
TZOFFSETFROM:-0700
TZOFFSETTO:-0600
TZNAME:MDT
DTSTART:20250309T090000
END:DAYLIGHT
BEGIN:STANDARD
TZOFFSETFROM:-0600
TZOFFSETTO:-0700
TZNAME:MST
DTSTART:20251102T080000
END:STANDARD
BEGIN:DAYLIGHT
TZOFFSETFROM:-0700
TZOFFSETTO:-0600
TZNAME:MDT
DTSTART:20260308T090000
END:DAYLIGHT
BEGIN:STANDARD
TZOFFSETFROM:-0600
TZOFFSETTO:-0700
TZNAME:MST
DTSTART:20261101T080000
END:STANDARD
BEGIN:DAYLIGHT
TZOFFSETFROM:-0700
TZOFFSETTO:-0600
TZNAME:MDT
DTSTART:20270314T090000
END:DAYLIGHT
BEGIN:STANDARD
TZOFFSETFROM:-0600
TZOFFSETTO:-0700
TZNAME:MST
DTSTART:20271107T080000
END:STANDARD
END:VTIMEZONE
BEGIN:VEVENT
DTSTART;TZID=America/Edmonton:20260207T110000
DTEND;TZID=America/Edmonton:20260207T160000
DTSTAMP:20260421T204856
CREATED:20260113T202008Z
LAST-MODIFIED:20260113T202008Z
UID:10000559-1770462000-1770480000@northernspiritrc.ca
SUMMARY:Jewelry Boutique
DESCRIPTION:Pre-owned\, sustainable\, affordable and earth friendly fashion.\nCurated scarves\, bags\, purses\, ties and jewelry for sale at perfect prices.\nCome and enjoy a light lunch and shop for Valentine.
URL:https://northernspiritrc.ca/event/jewelry-boutique/
LOCATION:Mill Woods United Church\, 15 Grand Meadow Cres\, Edmonton\, AB\, T6L 1A1\, Canada
CATEGORIES:Community events
ATTACH;FMTTYPE=image/png:https://northernspiritrc.ca/wp-content/uploads/2026/01/2025.png
END:VEVENT
BEGIN:VEVENT
DTSTART;TZID=America/Edmonton:20260207T130000
DTEND;TZID=America/Edmonton:20260207T160000
DTSTAMP:20260421T204856
CREATED:20260120T170837Z
LAST-MODIFIED:20260120T170837Z
UID:10000561-1770469200-1770480000@northernspiritrc.ca
SUMMARY:Kirk Centre FREE Cooking Classes
DESCRIPTION:🌍 Explore the world’s cultures with FREE Cooking Classes at Kirk Centre! \nJoin us for hands-on\, delicious cooking experiences led by Chef Madan Lal @chefmadanlal\n✨ Register for one class or all three (limited spaces available)\n👩‍🍳 Ages 13+ | No cost to attend\nSaturday from 1-4 pm \n🗓 Feb 7 – Mediterranean – warm quinoa salad\, homemade pita stuff with chickpeas and baklava\n🗓 Feb 28 – Gnocchi – Baked gnocchi with tomato sauce\, shell pasta with ricotta & spinach\n🗓 Mar 21 – Japanese – sushi rolls (maki & nigiri) and tempura \n📍 Kirk Centre | 13535–122 Ave NW\n📞 Register: 780-438-6619 or at https://www.kirkcentre.ca/upcoming-events \nThese classes are generously supported by the Alberta Ethnocultural Grant Program. \n# #chefmadanlal #supportinglocal #yegcooks #cookingclass #communitiy #kirkcentreedm #CommunityCentre #ConnectAtKirk #kirkcentre #KirkCentreEdm \n🍽️ Learn\, cook\, connect — right here in your community!
URL:https://northernspiritrc.ca/event/kirk-centre-free-cooking-classes/
LOCATION:Kirk United Church Community Centre\, 13535 122 Ave NW\, Edmonton\, Alberta\, T5L 2V7\, Canada
CATEGORIES:Community events
ATTACH;FMTTYPE=image/jpeg:https://northernspiritrc.ca/wp-content/uploads/2026/01/Cooking-classes-2026.jpg
END:VEVENT
BEGIN:VEVENT
DTSTART;TZID=America/Edmonton:20260217T170000
DTEND;TZID=America/Edmonton:20260217T190000
DTSTAMP:20260421T204856
CREATED:20260128T173352Z
LAST-MODIFIED:20260128T173352Z
UID:10000564-1771347600-1771354800@northernspiritrc.ca
SUMMARY:Shrove Tuesday Pancake Dinner
DESCRIPTION:In preparation for the season of Lent\, you are invited to engage in an age-old tradition of having a pancake dinner. The word shrove is derived from shrive\, referring to the practice of confession of sins as a preparation for the lent. Lent is also the season when people used to fast. These days during Lent we are invited to discern what it is we need to fast on – such as chocolate\, and indulgences in shopping. Please consider starting the season off by coming to the church for pancakes and fun! \nOn February 17th\, doors open at 5 PM and we will finish serving pancakes at 7PM. It will be a freewill offering. \nEveryone is welcome\, bring your family and friends.
URL:https://northernspiritrc.ca/event/shrove-tuesday-pancake-dinner/
LOCATION:Robertson-Wesley United Church\, 10209 123 st\, Edmonton\, Alberta\, T5N 1N3\, Canada
CATEGORIES:Community events
ATTACH;FMTTYPE=image/png:https://northernspiritrc.ca/wp-content/uploads/2026/01/Shrove-Tuesday-Pancake-2026.png
ORGANIZER;CN="Robertson-Wesley United Church":MAILTO:mail@rwuc.org
END:VEVENT
BEGIN:VEVENT
DTSTART;TZID=America/Edmonton:20260217T173000
DTEND;TZID=America/Edmonton:20260217T193000
DTSTAMP:20260421T204856
CREATED:20260213T183424Z
LAST-MODIFIED:20260213T183424Z
UID:10000635-1771349400-1771356600@northernspiritrc.ca
SUMMARY:Shrove Tuesday Pancake Dinner and Ash Wednesday Service
DESCRIPTION:On the eve of Lent\, come share a meal of pancakes\, sausage and fruit for only $5. \nEveryone is invited to stay after supper for a simple service of ashes at 7pm to mark the start of our journey towards Easter.
URL:https://northernspiritrc.ca/event/shrove-tuesday-pancake-dinner-and-ash-wednesday-service/
LOCATION:Spirit of Hope United Church\, 7909 82 Ave NW\, Edmonton\, AB\, Canada
CATEGORIES:Community events
ATTACH;FMTTYPE=image/png:https://northernspiritrc.ca/wp-content/uploads/2026/02/Shrove-Tuesday-1.png
ORGANIZER;CN="Spirit of Hope United Church":MAILTO:officeadmin@spiritofhope.ca
END:VEVENT
BEGIN:VEVENT
DTSTART;TZID=America/Edmonton:20260218T190000
DTEND;TZID=America/Edmonton:20260218T200000
DTSTAMP:20260421T204856
CREATED:20260210T203757Z
LAST-MODIFIED:20260210T203757Z
UID:10000572-1771441200-1771444800@northernspiritrc.ca
SUMMARY:Ash Wednesday
DESCRIPTION:Ash Wednesday marks the beginning of lent. Please join us for a time of reflection\, worship and ritual. During the service we will be burning the palm branches from Palm Sunday last year\, turning them into ashes and then the congregation will be invited to receive the sign of the cross with ashes on their hand or forehead. It is a very reflective and meaningful service. Everyone is welcome. \nJoin us in person or online to this link: https://www.youtube.com/live/yHEL3HwAlWg
URL:https://northernspiritrc.ca/event/ash-wednesday/
LOCATION:Robertson-Wesley United Church\, 10209 123 st\, Edmonton\, Alberta\, T5N 1N3\, Canada
ATTACH;FMTTYPE=image/jpeg:https://northernspiritrc.ca/wp-content/uploads/2026/02/RWUC-Ash-Wednesday.jpg
ORGANIZER;CN="Robertson-Wesley United Church":MAILTO:mail@rwuc.org
END:VEVENT
BEGIN:VEVENT
DTSTART;TZID=America/Edmonton:20260221T183000
DTEND;TZID=America/Edmonton:20260221T203000
DTSTAMP:20260421T204856
CREATED:20260120T170929Z
LAST-MODIFIED:20260120T170929Z
UID:10000560-1771698600-1771705800@northernspiritrc.ca
SUMMARY:Community Open Mic Night
DESCRIPTION:Fun for the whole family! Community Open Mic. All ages are invited to share poetry\, humour\, stories\, dance\, music\, singing or any art project. Or just drop by for snacks\, visiting and fun. Spirit of Hope United is an affirming congregation. All are welcome! \nDoors open at 6 pm. Come early for best seats and to sign up.
URL:https://northernspiritrc.ca/event/community-open-mic-night-2/
LOCATION:Spirit of Hope United Church\, 7909 82 Ave NW\, Edmonton\, AB\, Canada
CATEGORIES:Community events
ATTACH;FMTTYPE=image/png:https://northernspiritrc.ca/wp-content/uploads/2026/01/Open-mic-Feb-2026.png
ORGANIZER;CN="Spirit of Hope United Church":MAILTO:officeadmin@spiritofhope.ca
END:VEVENT
BEGIN:VEVENT
DTSTART;TZID=America/Edmonton:20260222T160000
DTEND;TZID=America/Edmonton:20260222T170000
DTSTAMP:20260421T204856
CREATED:20260128T172122Z
LAST-MODIFIED:20260128T172122Z
UID:10000565-1771776000-1771779600@northernspiritrc.ca
SUMMARY:Lenten Prayer Meetings
DESCRIPTION:Come together\, let us pray. \nCalling all United Church people in the greater Edmonton area (including Edmonton\, Wetaskiwin\, Leduc\, Fort Saskatchewan\, St. Albert\, Stony Plain\, Spruce Grove\, Sherwood Park and everywhere)! Let us come together during Lent 2026 for times to pray. \nEvery Sunday during Lent come let us gather at the following locations to pray. We will be praying for: \n\nThe renewal of the church\nDiscernment of congregations for future witness and ministry\nThe work of the regional council\nThe plans of the National Church for Vision 2035\nStrength and equipping of leadership for the present time\nCurrent concerns for the community\, nation\, and world.\n\n  \nEach prayer meeting starts at 4:00 p.m. Mountain Time.  ALL ARE INVITED. \nFor all our communities not in the Edmonton area\, we invite you to join us in one of two ways: over Zoom (connection link; Meeting ID: 864 7516 7860; Passcode: 803578); or by gathering to pray in your own community at the same time\, joining your prayers and spirits to ours. \n\n\n\nDATE\nVENUE\nLEADERSHIP\n\n\nFebruary 22  \n \nPilgrim United\nPaul Douglas Walfall\n\n\nMarch 1  \n \nSpirit of Hope United\nBlaine Gregg\n\n\nMarch 8  \n \nWetaskiwin\nLloyd Nyarota\n\n\nMarch 15  \n \nHighlands United\nMervin Gallant\n\n\nMarch 22  \n \nLeduc (St. David’s)\nLeigh Sinclair\n\n\nMarch 29  \n \nGrace United\nChelsea Masterman\n\n\n\n  \nThe prayers of the people of God are powerful and effective.  (James 2:16\, paraphrased)
URL:https://northernspiritrc.ca/event/lenten-prayer-meetings/2026-02-22/
LOCATION:AB
CATEGORIES:Events,Regional event
ATTACH;FMTTYPE=image/png:https://northernspiritrc.ca/wp-content/uploads/2026/01/lenten-prayer.png
END:VEVENT
END:VCALENDAR