BEGIN:VCALENDAR
VERSION:2.0
PRODID:-//Northern Spirit Regional Council - ECPv6.15.20//NONSGML v1.0//EN
CALSCALE:GREGORIAN
METHOD:PUBLISH
X-WR-CALNAME:Northern Spirit Regional Council
X-ORIGINAL-URL:https://northernspiritrc.ca
X-WR-CALDESC:Events for Northern Spirit Regional Council
REFRESH-INTERVAL;VALUE=DURATION:PT1H
X-Robots-Tag:noindex
X-PUBLISHED-TTL:PT1H
BEGIN:VTIMEZONE
TZID:America/Edmonton
BEGIN:DAYLIGHT
TZOFFSETFROM:-0700
TZOFFSETTO:-0600
TZNAME:MDT
DTSTART:20240310T090000
END:DAYLIGHT
BEGIN:STANDARD
TZOFFSETFROM:-0600
TZOFFSETTO:-0700
TZNAME:MST
DTSTART:20241103T080000
END:STANDARD
BEGIN:DAYLIGHT
TZOFFSETFROM:-0700
TZOFFSETTO:-0600
TZNAME:MDT
DTSTART:20250309T090000
END:DAYLIGHT
BEGIN:STANDARD
TZOFFSETFROM:-0600
TZOFFSETTO:-0700
TZNAME:MST
DTSTART:20251102T080000
END:STANDARD
BEGIN:DAYLIGHT
TZOFFSETFROM:-0700
TZOFFSETTO:-0600
TZNAME:MDT
DTSTART:20260308T090000
END:DAYLIGHT
BEGIN:STANDARD
TZOFFSETFROM:-0600
TZOFFSETTO:-0700
TZNAME:MST
DTSTART:20261101T080000
END:STANDARD
END:VTIMEZONE
BEGIN:VEVENT
DTSTART;TZID=America/Edmonton:20250530T193000
DTEND;TZID=America/Edmonton:20250601T220000
DTSTAMP:20260421T040543
CREATED:20250521T215514Z
LAST-MODIFIED:20250521T215514Z
UID:10000474-1748633400-1748815200@northernspiritrc.ca
SUMMARY:All 4 Fun – A Theatrical Showcase by The 9th Street Players
DESCRIPTION:Join The 9th Street Players for All 4 Fun\, an entertaining evening (or afternoon!) of one-act plays filled with laughter\, charm\, and a little madness. Directed by Marie Fontaine\, this engaging showcase features four short plays: \nFinal Curtain by Frank Gibbons\nThe Accident by Herb Hasler\nRhyming Mother Goose by Richard Coleman\nA Mad Breakfast by Isabel M. Gray \nCome support local theatre and enjoy a delightful performance at Spirit of Hope United Church. \nDates and Times: \nFriday\, May 30 at 7:30 PM (Doors open at 7:00 PM)\nSaturday\, May 31 at 7:30 PM (Doors open at 7:00 PM)\nSunday\, June 1 at 1:30 PM (Doors open at 1:00 PM) \nLocation:\nSpirit of Hope United Church\n7909 – 82 Avenue\, Edmonton\, AB\nPhone: 780-468-1418 \nTicket Prices: \nAdults: $20\nSeniors: $15\nChildren: $5 \nHow to Get Tickets:\nEmail: officeadmin.spiritofhope@shaw.ca\nOR visit: edmontonarts.ca/event-category/shop-services-events \nPresented by:\nThe 9th Street Players\nBy arrangement with Lazy Bee Scripts and Concord Theatricals on behalf of Samuel French\, Inc.
URL:https://northernspiritrc.ca/event/all-4-fun-a-theatrical-showcase-by-the-9th-street-players/
LOCATION:Spirit of Hope United Church\, 7909 82 Ave NW\, Edmonton\, AB\, Canada
CATEGORIES:Community events
ATTACH;FMTTYPE=image/png:https://northernspiritrc.ca/wp-content/uploads/2025/05/POSTER-_-ALL-4-fUN-revised.png
ORGANIZER;CN="Spirit of Hope United Church":MAILTO:officeadmin@spiritofhope.ca
END:VEVENT
BEGIN:VEVENT
DTSTART;TZID=America/Edmonton:20250601T100000
DTEND;TZID=America/Edmonton:20250601T123000
DTSTAMP:20260421T040543
CREATED:20250403T221015Z
LAST-MODIFIED:20250523T145747Z
UID:10000453-1748772000-1748781000@northernspiritrc.ca
SUMMARY:Celebration of Ministries and 100th Anniversary service
DESCRIPTION:Join us in person at Riverbend United Church\, and online on YouTube\, as we honour past and future with prayer\, worship\, and song! YouTube link: https://www.youtube.com/live/qjPnIQkVnwo  If you’re joining us by livestream\, please bring communion elements. \nGeneral Secretary Rev Michael Blair will offer the sermon. We  will welcome people into the order of ministry in the United Church via admission from other denominations and share in communion. We celebrate together the 100th anniversary of the United Church of Canada\, born June 10\, 1925. ASL interpretation will be offered. \nAll are welcome to this service- and we mean all!  We are a Two Spirit and LGBTQIA+ affirming Regional Council. The deaf and hard of hearing community is especially welcome as we work with ASL interpretation for the first time; hearing assist is also available in-person. \nCommunion is a deeply meaningful religious and spiritual ritual for Christians\, and the United Church believes that the communion table is Christ’s\, not ours. It is therefore open to everyone of all beliefs and religious\, spiritual\, and ceremonial paths. At communion\, we eat a small amount of bread and drink a little grape juice (the United Church does not use wine for communion). There will be a gluten-free option.  If you are worshipping online\, please bring communion elements that have meaning to you. \n 
URL:https://northernspiritrc.ca/event/celebration-of-ministries-and-100th-anniversary-service/
LOCATION:Riverbend United Church\, 14907 45 Avenue\, Edmonton\, Alberta\, T6H 5V6\, Canada
CATEGORIES:100th Anniversary of the UCC,Regional event
ATTACH;FMTTYPE=image/png:https://northernspiritrc.ca/wp-content/uploads/2025/05/Poster-slide-Celebration-of-Ministries-NSRC-2025-FINAL.png
END:VEVENT
BEGIN:VEVENT
DTSTART;TZID=America/Edmonton:20250602T160000
DTEND;TZID=America/Edmonton:20250602T180000
DTSTAMP:20260421T040543
CREATED:20250605T175711Z
LAST-MODIFIED:20250605T175711Z
UID:10000480-1748880000-1748887200@northernspiritrc.ca
SUMMARY:Youth Empowered Together Hangout for Queer and Allied Youth
DESCRIPTION:Youth between grades 7-12 are invited to drop in on Monday evenings from 4-6 during June to celebrate Pride month! These free\, sensory-friendly events include a theme activity\, snacks\, open gym and a variety of crafting materials to explore. The many safe\, welcoming spaces at Spirit of Hope are air-conditioned and have access to free WiFi. The youth leaders and adult volunteers have varied experiences\, talents and clear vulnerable persons criminal record checks. Hope to see you there!! \nSpirit of Hope is an Affirm United congregation. This is not a religious event. \nContact yetedmonton@gmail.com for further information.
URL:https://northernspiritrc.ca/event/youth-empowered-together-hangout-for-queer-and-allied-youth/2025-06-02/
LOCATION:Spirit of Hope United Church\, 7909 82 Ave NW\, Edmonton\, AB\, Canada
CATEGORIES:Community events,LGBTQIA2S+,Youth and young adult
ATTACH;FMTTYPE=image/png:https://northernspiritrc.ca/wp-content/uploads/2025/06/june-poster-scaled.png
ORGANIZER;CN="Spirit of Hope United Church":MAILTO:officeadmin@spiritofhope.ca
END:VEVENT
BEGIN:VEVENT
DTSTART;TZID=America/Edmonton:20250607T130000
DTEND;TZID=America/Edmonton:20250607T150000
DTSTAMP:20260421T040543
CREATED:20250602T164716Z
LAST-MODIFIED:20250602T164758Z
UID:10000479-1749301200-1749308400@northernspiritrc.ca
SUMMARY:Centennial High Tea
DESCRIPTION:Celebrate the 100th Anniversary of the United Church of Canada with us! Good friends to visit\, Canadian treats to savour\, harp music to soothe\, Fair Trade tea and coffee to quench the thirst\, displays to explore and more! Tickets are free – available at Value Drug \, but must be presented at the door. All are welcome!
URL:https://northernspiritrc.ca/event/40530/
LOCATION:CETC Building\, 5400 22 Ave\, Drayton Valley\, AB\, T7A 1B3\, Canada
CATEGORIES:100th Anniversary of the UCC,Community events
ATTACH;FMTTYPE=image/jpeg:https://northernspiritrc.ca/wp-content/uploads/2025/06/event.jpg
ORGANIZER;CN="Living Spirit United Church":MAILTO:livingspirituniteddv@gmail.com
END:VEVENT
BEGIN:VEVENT
DTSTART;TZID=America/Edmonton:20250608T100000
DTEND;TZID=America/Edmonton:20250608T140000
DTSTAMP:20260421T040543
CREATED:20250514T154605Z
LAST-MODIFIED:20250514T154605Z
UID:10000468-1749376800-1749391200@northernspiritrc.ca
SUMMARY:Sherwood Park United invites you to Celebrate the 100th Anniversary!
DESCRIPTION:‘Simple’ but “Meaningful 100th”\nWe are all on this journey to June 8\, 2025. TOGETHER.\nSunday School Children collecting 100 gifts each for the food bank and Bissell Centre.\nAdults “Sharing a Prayer” – will be a take home gift to each attendee June 8th .\nHistory & Musical quizzes.\nCelebratory Service with inter-generational communion.\nSit down luncheon to follow – NO Charge.\nYou’re invited and will be warmly welcomed!
URL:https://northernspiritrc.ca/event/sherwood-park-united-invites-you-to-celebrate-the-100th-anniversary/
LOCATION:Sherwood Park United Church\, 20 Fir St\, Sherwood Park\, Alberta\, T8A 1Z6\, Canada
CATEGORIES:100th Anniversary of the UCC,Community events
ATTACH;FMTTYPE=image/jpeg:https://northernspiritrc.ca/wp-content/uploads/2025/05/Sunmmer-church-electric-sign-scaled.jpg
END:VEVENT
BEGIN:VEVENT
DTSTART;TZID=America/Edmonton:20250608T100000
DTEND;TZID=America/Edmonton:20250608T170000
DTSTAMP:20260421T040543
CREATED:20250403T192711Z
LAST-MODIFIED:20250403T192711Z
UID:10000452-1749376800-1749402000@northernspiritrc.ca
SUMMARY:100th Anniversary Celebration at Fort Edmonton Park
DESCRIPTION:This is an opportunity to celebrate the United Church of Canada’s 100th anniversary at Fort Edmonton Park (7000 143 St NW\, Edmonton\, AB). There will be opportunities to share in afternoon worship at the McDougall Methodist church on 1885 street\, celebrate with cake and there is exploration occurring to livestream the National Worship service from Newfoundland! \nThe park is open from 10am – 5pm. There will be a morning service provided for folks travelling from afar.
URL:https://northernspiritrc.ca/event/100th-anniversary-celebration-at-fort-edmonton-park/
LOCATION:Fort Edmonton\, 7000 143 St NW\, Edmonton\, AB\, Canada
CATEGORIES:100th Anniversary of the UCC,Community events
ATTACH;FMTTYPE=image/png:https://northernspiritrc.ca/wp-content/uploads/2025/04/UCC-100th-Anniversary-Save-the-Date.png
END:VEVENT
BEGIN:VEVENT
DTSTART;TZID=America/Edmonton:20250609T140000
DTEND;TZID=America/Edmonton:20250609T200000
DTSTAMP:20260421T040543
CREATED:20250613T193125Z
LAST-MODIFIED:20250613T193125Z
UID:10000491-1749477600-1749499200@northernspiritrc.ca
SUMMARY:Rainbow Community Fun Fest
DESCRIPTION:Everyone is invited to this fun community event for all ages. Activities begin at 2 pm with open gym\, crafts\, games and cookie/ cupcake decorating. You won’t want to miss the potluck supper at 5! Feel free to drop in for the whole afternoon – or just for supper. And bring friends and family. This is not a religious event\, and is queer-friendly. \nYes\, we will figure out how to watch the first period of the game together!
URL:https://northernspiritrc.ca/event/rainbow-community-fun-fest/
LOCATION:Spirit of Hope United Church\, 7909 82 Ave NW\, Edmonton\, AB\, Canada
CATEGORIES:Community events
ATTACH;FMTTYPE=image/png:https://northernspiritrc.ca/wp-content/uploads/2025/06/Rainbow-Fun-Fest.png
ORGANIZER;CN="Spirit of Hope United Church":MAILTO:officeadmin@spiritofhope.ca
END:VEVENT
BEGIN:VEVENT
DTSTART;TZID=America/Edmonton:20250609T160000
DTEND;TZID=America/Edmonton:20250609T180000
DTSTAMP:20260421T040543
CREATED:20250605T175711Z
LAST-MODIFIED:20250605T175711Z
UID:10000481-1749484800-1749492000@northernspiritrc.ca
SUMMARY:Youth Empowered Together Hangout for Queer and Allied Youth
DESCRIPTION:Youth between grades 7-12 are invited to drop in on Monday evenings from 4-6 during June to celebrate Pride month! These free\, sensory-friendly events include a theme activity\, snacks\, open gym and a variety of crafting materials to explore. The many safe\, welcoming spaces at Spirit of Hope are air-conditioned and have access to free WiFi. The youth leaders and adult volunteers have varied experiences\, talents and clear vulnerable persons criminal record checks. Hope to see you there!! \nSpirit of Hope is an Affirm United congregation. This is not a religious event. \nContact yetedmonton@gmail.com for further information.
URL:https://northernspiritrc.ca/event/youth-empowered-together-hangout-for-queer-and-allied-youth/2025-06-09/
LOCATION:Spirit of Hope United Church\, 7909 82 Ave NW\, Edmonton\, AB\, Canada
CATEGORIES:Community events,LGBTQIA2S+,Youth and young adult
ATTACH;FMTTYPE=image/png:https://northernspiritrc.ca/wp-content/uploads/2025/06/june-poster-scaled.png
ORGANIZER;CN="Spirit of Hope United Church":MAILTO:officeadmin@spiritofhope.ca
END:VEVENT
BEGIN:VEVENT
DTSTART;TZID=America/Edmonton:20250609T160000
DTEND;TZID=America/Edmonton:20250609T180000
DTSTAMP:20260421T040543
CREATED:20250611T193939Z
LAST-MODIFIED:20250611T193939Z
UID:10000488-1749484800-1749492000@northernspiritrc.ca
SUMMARY:Youth Hangout for Queer and Allied Youth
DESCRIPTION:All queer and allied youth are invited to hangout at Sprit of Hope United Church to enjoy time together making crafts\, playing games and sharing snacks. The gym will be open for active sports! No charge. Supplies and snacks will be provided. Free Wi-Fi! \nDrop by anytime between 4 and 6! \nThis event is coordinated by a youth planning team\, sponsored by Spirit of Hope United Church\, pflag and Alberta Health Services.
URL:https://northernspiritrc.ca/event/youth-hangout-for-queer-and-allied-youth/2025-06-09/
LOCATION:Spirit of Hope United Church\, 7909 82 Ave NW\, Edmonton\, AB\, Canada
CATEGORIES:Community events
ATTACH;FMTTYPE=image/png:https://northernspiritrc.ca/wp-content/uploads/2025/06/june-poster-1-scaled.png
ORGANIZER;CN="Spirit of Hope United Church":MAILTO:officeadmin@spiritofhope.ca
END:VEVENT
BEGIN:VEVENT
DTSTART;TZID=America/Edmonton:20250616T160000
DTEND;TZID=America/Edmonton:20250616T180000
DTSTAMP:20260421T040543
CREATED:20250605T175711Z
LAST-MODIFIED:20250605T175711Z
UID:10000482-1750089600-1750096800@northernspiritrc.ca
SUMMARY:Youth Empowered Together Hangout for Queer and Allied Youth
DESCRIPTION:Youth between grades 7-12 are invited to drop in on Monday evenings from 4-6 during June to celebrate Pride month! These free\, sensory-friendly events include a theme activity\, snacks\, open gym and a variety of crafting materials to explore. The many safe\, welcoming spaces at Spirit of Hope are air-conditioned and have access to free WiFi. The youth leaders and adult volunteers have varied experiences\, talents and clear vulnerable persons criminal record checks. Hope to see you there!! \nSpirit of Hope is an Affirm United congregation. This is not a religious event. \nContact yetedmonton@gmail.com for further information.
URL:https://northernspiritrc.ca/event/youth-empowered-together-hangout-for-queer-and-allied-youth/2025-06-16/
LOCATION:Spirit of Hope United Church\, 7909 82 Ave NW\, Edmonton\, AB\, Canada
CATEGORIES:Community events,LGBTQIA2S+,Youth and young adult
ATTACH;FMTTYPE=image/png:https://northernspiritrc.ca/wp-content/uploads/2025/06/june-poster-scaled.png
ORGANIZER;CN="Spirit of Hope United Church":MAILTO:officeadmin@spiritofhope.ca
END:VEVENT
BEGIN:VEVENT
DTSTART;TZID=America/Edmonton:20250616T160000
DTEND;TZID=America/Edmonton:20250616T180000
DTSTAMP:20260421T040543
CREATED:20250611T193939Z
LAST-MODIFIED:20250611T193939Z
UID:10000489-1750089600-1750096800@northernspiritrc.ca
SUMMARY:Youth Hangout for Queer and Allied Youth
DESCRIPTION:All queer and allied youth are invited to hangout at Sprit of Hope United Church to enjoy time together making crafts\, playing games and sharing snacks. The gym will be open for active sports! No charge. Supplies and snacks will be provided. Free Wi-Fi! \nDrop by anytime between 4 and 6! \nThis event is coordinated by a youth planning team\, sponsored by Spirit of Hope United Church\, pflag and Alberta Health Services.
URL:https://northernspiritrc.ca/event/youth-hangout-for-queer-and-allied-youth/2025-06-16/
LOCATION:Spirit of Hope United Church\, 7909 82 Ave NW\, Edmonton\, AB\, Canada
CATEGORIES:Community events
ATTACH;FMTTYPE=image/png:https://northernspiritrc.ca/wp-content/uploads/2025/06/june-poster-1-scaled.png
ORGANIZER;CN="Spirit of Hope United Church":MAILTO:officeadmin@spiritofhope.ca
END:VEVENT
BEGIN:VEVENT
DTSTART;TZID=America/Edmonton:20250619T190000
DTEND;TZID=America/Edmonton:20250619T200000
DTSTAMP:20260421T040543
CREATED:20250605T175552Z
LAST-MODIFIED:20250605T175552Z
UID:10000485-1750359600-1750363200@northernspiritrc.ca
SUMMARY:Kirk Centre AGM
DESCRIPTION:📣 You’re Invited! Join Us for Kirk Centre’s AGM 🏛️🌟 \nWe warmly invite community members\, partners\, and supporters to attend Kirk Centre’s Annual General Meeting on Thursday\, June 19th at 7:00 PM. \nCome hear about everything we’ve accomplished together this past year—and where we’re headed next! From expanding our community partnerships to advocating for social purpose real estate\, your involvement helps shape the future of this vibrant hub. \n🗓️ Date: Thursday\, June 19th\n🕖 Time: 7:00 PM\n📍 Location: Kirk Centre – 13535 122 Ave NW\, Edmonton \nEveryone is welcome—whether you’re curious about what we do\, want to get involved\, or just love seeing community thrive.
URL:https://northernspiritrc.ca/event/kirk-centre-agm/
LOCATION:Kirk United Church Community Centre\, 13535 122 Ave NW\, Edmonton\, Alberta\, T5L 2V7\, Canada
CATEGORIES:Community events
ATTACH;FMTTYPE=image/png:https://northernspiritrc.ca/wp-content/uploads/2025/06/AGM-June-2025.png
END:VEVENT
BEGIN:VEVENT
DTSTART;TZID=America/Edmonton:20250621T110000
DTEND;TZID=America/Edmonton:20250621T150000
DTSTAMP:20260421T040543
CREATED:20250605T205335Z
LAST-MODIFIED:20250605T205335Z
UID:10000487-1750503600-1750518000@northernspiritrc.ca
SUMMARY:Centennial  Celebration
DESCRIPTION:11 a.m. Pot Luck Lunch (who does it better than a church that’s been practicing for 100 years?)\nFollowed by a short program.\nMany displays from our committees and partners in the building and in the community.
URL:https://northernspiritrc.ca/event/centennial-celebration/
LOCATION:Camrose United Church\, 4829-50 Street\, Camrose\, AB\, T4V 1P6\, Canada
CATEGORIES:100th Anniversary of the UCC,Community events
ATTACH;FMTTYPE=image/jpeg:https://northernspiritrc.ca/wp-content/uploads/2025/06/2025.06.21-22-UCC-100-years-Poster-1-1.jpg
ORGANIZER;CN="Centennial Committee":MAILTO:minister@camroseunited.ca
END:VEVENT
BEGIN:VEVENT
DTSTART;TZID=America/Edmonton:20250622T110000
DTEND;TZID=America/Edmonton:20250622T150000
DTSTAMP:20260421T040543
CREATED:20250602T155727Z
LAST-MODIFIED:20250602T155727Z
UID:10000478-1750590000-1750604400@northernspiritrc.ca
SUMMARY:Free community BBQ!
DESCRIPTION:Holy Smokes\, We’re turning 100 as The United Church of Canada So come and Meat us as we’re throwing a Free community BBQ!!!\nJoin us as we celebrate the United Church of Canada’s 100th Anniversary and St. Andrews’ 185 years of faithful service\, being present\, and welcoming all in this Community with a FREE BBQ!!!!\nALL ARE WELCOME!!!!\nWhen: Sunday\, June 22 @ 11 am at St. Andrews United Church Come Celebrate with food\, friends\, and community!\nThere will be a Free will offering for those who wish to help support this Free Event. Give what you can\, eat what you can!
URL:https://northernspiritrc.ca/event/free-community-bbq/
LOCATION:St. Andrew’s United Church\, Spruce Grove\, 1A Fieldstone Drive\,\, Spruce Grove\, Alberta\, Canada
CATEGORIES:100th Anniversary of the UCC,Community events
ATTACH;FMTTYPE=image/jpeg:https://northernspiritrc.ca/wp-content/uploads/2025/05/100th-BBQ.jpg
END:VEVENT
BEGIN:VEVENT
DTSTART;TZID=America/Edmonton:20250622T120000
DTEND;TZID=America/Edmonton:20250622T160000
DTSTAMP:20260421T040543
CREATED:20250605T205240Z
LAST-MODIFIED:20250605T205240Z
UID:10000486-1750593600-1750608000@northernspiritrc.ca
SUMMARY:Centennial Worship at Camrose United Church
DESCRIPTION:We invite all of our UCC neighbours to join us to celebrate the Centennial of the United Church of Canada.\nNoon — Lunch is provided\n1:30 p.m. Worship.
URL:https://northernspiritrc.ca/event/centennial-worship-at-camrose-united-church/
LOCATION:Camrose United Church\, 4829-50 Street\, Camrose\, AB\, T4V 1P6\, Canada
CATEGORIES:100th Anniversary of the UCC,Community events
ATTACH;FMTTYPE=image/jpeg:https://northernspiritrc.ca/wp-content/uploads/2025/06/2025.06.21-22-UCC-100-years-Poster-1-2.jpg
ORGANIZER;CN="Centennial Team":MAILTO:minister@camroseunited.ca
END:VEVENT
BEGIN:VEVENT
DTSTART;TZID=America/Edmonton:20250623T160000
DTEND;TZID=America/Edmonton:20250623T180000
DTSTAMP:20260421T040543
CREATED:20250605T175711Z
LAST-MODIFIED:20250605T175711Z
UID:10000483-1750694400-1750701600@northernspiritrc.ca
SUMMARY:Youth Empowered Together Hangout for Queer and Allied Youth
DESCRIPTION:Youth between grades 7-12 are invited to drop in on Monday evenings from 4-6 during June to celebrate Pride month! These free\, sensory-friendly events include a theme activity\, snacks\, open gym and a variety of crafting materials to explore. The many safe\, welcoming spaces at Spirit of Hope are air-conditioned and have access to free WiFi. The youth leaders and adult volunteers have varied experiences\, talents and clear vulnerable persons criminal record checks. Hope to see you there!! \nSpirit of Hope is an Affirm United congregation. This is not a religious event. \nContact yetedmonton@gmail.com for further information.
URL:https://northernspiritrc.ca/event/youth-empowered-together-hangout-for-queer-and-allied-youth/2025-06-23/
LOCATION:Spirit of Hope United Church\, 7909 82 Ave NW\, Edmonton\, AB\, Canada
CATEGORIES:Community events,LGBTQIA2S+,Youth and young adult
ATTACH;FMTTYPE=image/png:https://northernspiritrc.ca/wp-content/uploads/2025/06/june-poster-scaled.png
ORGANIZER;CN="Spirit of Hope United Church":MAILTO:officeadmin@spiritofhope.ca
END:VEVENT
BEGIN:VEVENT
DTSTART;TZID=America/Edmonton:20250623T160000
DTEND;TZID=America/Edmonton:20250623T180000
DTSTAMP:20260421T040543
CREATED:20250611T193939Z
LAST-MODIFIED:20250611T193939Z
UID:10000490-1750694400-1750701600@northernspiritrc.ca
SUMMARY:Youth Hangout for Queer and Allied Youth
DESCRIPTION:All queer and allied youth are invited to hangout at Sprit of Hope United Church to enjoy time together making crafts\, playing games and sharing snacks. The gym will be open for active sports! No charge. Supplies and snacks will be provided. Free Wi-Fi! \nDrop by anytime between 4 and 6! \nThis event is coordinated by a youth planning team\, sponsored by Spirit of Hope United Church\, pflag and Alberta Health Services.
URL:https://northernspiritrc.ca/event/youth-hangout-for-queer-and-allied-youth/2025-06-23/
LOCATION:Spirit of Hope United Church\, 7909 82 Ave NW\, Edmonton\, AB\, Canada
CATEGORIES:Community events
ATTACH;FMTTYPE=image/png:https://northernspiritrc.ca/wp-content/uploads/2025/06/june-poster-1-scaled.png
ORGANIZER;CN="Spirit of Hope United Church":MAILTO:officeadmin@spiritofhope.ca
END:VEVENT
BEGIN:VEVENT
DTSTART;TZID=America/Edmonton:20250628T173000
DTEND;TZID=America/Edmonton:20250628T210000
DTSTAMP:20260421T040543
CREATED:20250521T215630Z
LAST-MODIFIED:20250521T215630Z
UID:10000476-1751131800-1751144400@northernspiritrc.ca
SUMMARY:"1946: The Mistranslation That Shifted Culture" dinner and a movie event
DESCRIPTION:1946: The Mistranslation That Shifted Culture is a feature documentary that follows the story of tireless researchers who trace the origins of the anti-gay movement among Christians to a grave mistranslation of the Bible in 1946. \nIt chronicles the discovery of never-before-seen archives at Yale University which unveil astonishing new revelations\, and casts significant doubt on any biblical basis for LGBTQIA+ prejudice. Featuring commentary from prominent scholars as well as opposing pastors\, including the personal stories of the film’s creators\, 1946 is at once challenging\, enlightening\, and inspiring. \nJoin us for pizza\, viewing and discussion. Registration is required and closes June 26. Free will offering.
URL:https://northernspiritrc.ca/event/1946-the-mistranslation-that-shifted-culture-dinner-and-a-movie-event/
LOCATION:St. Andrew’s United Church\, Spruce Grove\, 1A Fieldstone Drive\,\, Spruce Grove\, Alberta\, Canada
CATEGORIES:Community events,LGBTQIA2S+
ATTACH;FMTTYPE=image/jpeg:https://northernspiritrc.ca/wp-content/uploads/2025/05/Movie-screening_JPG.jpg
END:VEVENT
END:VCALENDAR