BEGIN:VCALENDAR
VERSION:2.0
PRODID:-//Northern Spirit Regional Council - ECPv6.15.20//NONSGML v1.0//EN
CALSCALE:GREGORIAN
METHOD:PUBLISH
X-WR-CALNAME:Northern Spirit Regional Council
X-ORIGINAL-URL:https://northernspiritrc.ca
X-WR-CALDESC:Events for Northern Spirit Regional Council
REFRESH-INTERVAL;VALUE=DURATION:PT1H
X-Robots-Tag:noindex
X-PUBLISHED-TTL:PT1H
BEGIN:VTIMEZONE
TZID:America/Edmonton
BEGIN:DAYLIGHT
TZOFFSETFROM:-0700
TZOFFSETTO:-0600
TZNAME:MDT
DTSTART:20230312T090000
END:DAYLIGHT
BEGIN:STANDARD
TZOFFSETFROM:-0600
TZOFFSETTO:-0700
TZNAME:MST
DTSTART:20231105T080000
END:STANDARD
BEGIN:DAYLIGHT
TZOFFSETFROM:-0700
TZOFFSETTO:-0600
TZNAME:MDT
DTSTART:20240310T090000
END:DAYLIGHT
BEGIN:STANDARD
TZOFFSETFROM:-0600
TZOFFSETTO:-0700
TZNAME:MST
DTSTART:20241103T080000
END:STANDARD
BEGIN:DAYLIGHT
TZOFFSETFROM:-0700
TZOFFSETTO:-0600
TZNAME:MDT
DTSTART:20250309T090000
END:DAYLIGHT
BEGIN:STANDARD
TZOFFSETFROM:-0600
TZOFFSETTO:-0700
TZNAME:MST
DTSTART:20251102T080000
END:STANDARD
END:VTIMEZONE
BEGIN:VEVENT
DTSTART;TZID=America/Edmonton:20241201T130000
DTEND;TZID=America/Edmonton:20241201T150000
DTSTAMP:20260420T071859
CREATED:20241125T200935Z
LAST-MODIFIED:20241125T200935Z
UID:10000393-1733058000-1733065200@northernspiritrc.ca
SUMMARY:Craft & Bake Sale - Spirit West United Church
DESCRIPTION:The Ladies Group at Spirit West are holding a Craft and Bake Sale on Sunday\, December 1 from 1-3pm. Lots of baking and crafts so come do some of your Christmas shopping! We will have a craft table where\, for $1.00\, kids can make their own craft! Hot chocolate is provided! Bring your friends and spread the word! Cash only!
URL:https://northernspiritrc.ca/event/craft-bake-sale-spirit-west-united-church/
LOCATION:Spirit West United Church\, 7003 199 St NW\, Edmonton\, Alberta\, T5T 3A8\, Canada
CATEGORIES:Community events
ATTACH;FMTTYPE=image/png:https://northernspiritrc.ca/wp-content/uploads/2024/11/CB2024-v2.png
END:VEVENT
BEGIN:VEVENT
DTSTART;TZID=America/Edmonton:20241201T190000
DTEND;TZID=America/Edmonton:20241201T203000
DTSTAMP:20260420T071859
CREATED:20241122T172209Z
LAST-MODIFIED:20241122T172209Z
UID:10000392-1733079600-1733085000@northernspiritrc.ca
SUMMARY:Songs for the Season
DESCRIPTION:A Christmas music concert featuring the Handbell Choir of Camrose United Church with a Community Adult choir “Camrose Camerata”\, and Camrose and Area Children’s Choirs.\nA magical moment to begin the Christmas Season.
URL:https://northernspiritrc.ca/event/songs-for-the-season-2/
LOCATION:Camrose United Church\, 4829-50 Street\, Camrose\, AB\, T4V 1P6\, Canada
CATEGORIES:Community events
ATTACH;FMTTYPE=image/jpeg:https://northernspiritrc.ca/wp-content/uploads/2024/11/2024.12.01-Songs-for-the-Season.jpeg
END:VEVENT
BEGIN:VEVENT
DTSTART;TZID=America/Edmonton:20241202T193000
DTEND;TZID=America/Edmonton:20241202T203000
DTSTAMP:20260420T071859
CREATED:20241028T205155Z
LAST-MODIFIED:20241028T205155Z
UID:10000380-1733167800-1733171400@northernspiritrc.ca
SUMMARY:Festival of Lessons and Carols for Advent and Christmas
DESCRIPTION:Join in this festive tradition heralding Advent and Christmas through readings and song. Thrill to the music of the University of Alberta Mixed Chorus and Handbell Ringers. Sing carols along with the mighty Davis Concert Organ! \nU of A Mixed Chorus\, Adam Robertson\, Dir.; Faculty of Education Handbell Ringers\, Jackie Malcolm\, Dir.\nOrganists: Marnie Giesbrecht & Joachim Segger
URL:https://northernspiritrc.ca/event/festival-of-lessons-and-carols-for-advent-and-christmas/
LOCATION:Winspear Centre\, 4 Sir Winston Churchill Square Northwest & Corner of 99 Street &\, 102 Ave\, Edmonton\, Alberta\, T5J 4X8\, Canada
CATEGORIES:Community events
ATTACH;FMTTYPE=image/jpeg:https://northernspiritrc.ca/wp-content/uploads/2024/10/UAMC-Bells-Sepia.jpg
ORGANIZER;CN="U of A Interfaith Chaplains":MAILTO:richard.reimer@ualberta.ca
END:VEVENT
BEGIN:VEVENT
DTSTART;TZID=America/Edmonton:20241207T140000
DTEND;TZID=America/Edmonton:20241207T190000
DTSTAMP:20260420T071859
CREATED:20241113T160936Z
LAST-MODIFIED:20241113T160936Z
UID:10000387-1733580000-1733598000@northernspiritrc.ca
SUMMARY:Winter Community Fun Fest and Potluck Supper
DESCRIPTION:People of all ages and abilities are invited to celebrate winter\, Kwanzaa\, Hanukkah\, Bodhi Day and Christmas at this fun afternoon event. Drop by anytime in the afternoon for snacks and entertainment\, including active games in the gym\, board/ card games\, music\, seasonal craft activities\, and cookie decorating.\nThe potluck supper will begin at 5. \nThis event is partially funded by a City of Edmonton Neighbourhood Micro Grant
URL:https://northernspiritrc.ca/event/winter-community-fun-fest-and-potluck-supper/
LOCATION:Spirit of Hope United Church\, 7909 82 Ave NW\, Edmonton\, AB\, Canada
CATEGORIES:Community events
ATTACH;FMTTYPE=image/png:https://northernspiritrc.ca/wp-content/uploads/2024/11/winter-fun.png
ORGANIZER;CN="Spirit of Hope United Church":MAILTO:officeadmin@spiritofhope.ca
END:VEVENT
BEGIN:VEVENT
DTSTART;TZID=America/Edmonton:20241208T183000
DTEND;TZID=America/Edmonton:20241208T200000
DTSTAMP:20260420T071859
CREATED:20241119T221926Z
LAST-MODIFIED:20241119T221926Z
UID:10000390-1733682600-1733688000@northernspiritrc.ca
SUMMARY:Morning Star - Spirit West United Church Choir Christmas Concert
DESCRIPTION:The Spirit West Choir is excited to announce the annual Christmas concert will take place on Sunday\, Dec. 8 at 6:30. Voice\, piano\, flute and harp will be featured in Lloyd Larson’s cantata entitled MORNING STAR\, which celebrates the everlasting light of Christmas. Donations received will be directed to the sound system fund.
URL:https://northernspiritrc.ca/event/morning-star-spirit-west-united-church-choir-christmas-concert/
LOCATION:Spirit West United Church\, 7003 199 St NW\, Edmonton\, Alberta\, T5T 3A8\, Canada
CATEGORIES:Community events
ATTACH;FMTTYPE=image/png:https://northernspiritrc.ca/wp-content/uploads/2024/11/Morning-Star-2024-fullpage.png
END:VEVENT
BEGIN:VEVENT
DTSTART;TZID=America/Edmonton:20241215T133000
DTEND;TZID=America/Edmonton:20241215T143000
DTSTAMP:20260420T071859
CREATED:20241205T204914Z
LAST-MODIFIED:20241205T204914Z
UID:10000396-1734269400-1734273000@northernspiritrc.ca
SUMMARY:Christmas Carol Sing-Along
DESCRIPTION:Join us at Grace United for a Christmas Carol Sing-Along\, hosted by the Church School. A free-will offering for donation to the Bissell Centre will be collected.
URL:https://northernspiritrc.ca/event/christmas-carol-sing-along/
LOCATION:Grace United Church\, 6215 104 Ave\, Edmonton\, AB\, Canada
CATEGORIES:Community events
ATTACH;FMTTYPE=image/jpeg:https://northernspiritrc.ca/wp-content/uploads/2024/12/Carol-Sing-Along-2024.jpg
ORGANIZER;CN="Grace United Church":MAILTO:grace.united@shaw.ca
END:VEVENT
BEGIN:VEVENT
DTSTART;TZID=America/Edmonton:20241215T160000
DTEND;TZID=America/Edmonton:20241215T170000
DTSTAMP:20260420T071859
CREATED:20241205T204923Z
LAST-MODIFIED:20241205T204923Z
UID:10000395-1734278400-1734282000@northernspiritrc.ca
SUMMARY:Riverbend United Church - Community Christmas Carol Sing-a-long
DESCRIPTION:Do you and your family enjoy singing Christmas carols? Then make sure you mark your calendar for our annual Community Christmas Carol Sing on Sunday\, December 15th at 4:00 p.m. which is sure to get you in the Christmas spirit. Our music groups come together for this joyous event\, leading us in a selection of Christmas carols and popular secular music. Under the twinkling lights of the Christmas tree\, our amazing RUC musicians will also perform some beautiful anthems for our enjoyment. Everyone is welcome to come and join in the singing\, so why not invite your friends and family to share in this special time. Come for the wonderful music and stay for the fellowship. Coordinated by Paula Roberts.
URL:https://northernspiritrc.ca/event/riverbend-united-church-community-christmas-carol-sing-a-long/
LOCATION:Riverbend United Church\, 14907 45 Avenue\, Edmonton\, Alberta\, T6H 5V6\, Canada
CATEGORIES:Community events
ATTACH;FMTTYPE=image/jpeg:https://northernspiritrc.ca/wp-content/uploads/2024/12/Carol-singing.jpg
END:VEVENT
BEGIN:VEVENT
DTSTART;TZID=America/Edmonton:20241215T163000
DTEND;TZID=America/Edmonton:20241215T210000
DTSTAMP:20260420T071859
CREATED:20241113T200105Z
LAST-MODIFIED:20241113T200105Z
UID:10000389-1734280200-1734296400@northernspiritrc.ca
SUMMARY:Stony Plain United Church Advent Dinner and Cantata
DESCRIPTION:ADVENT DINNER AND CHOIR CANTATA SUNDAY\, DECEMBER 15\, 2024. \nTickets are now available at the Church Office for this year’s Christmas Cantata and Advent Supper. General admission: $25.00; Children 6 to 12 $10.00 and Children 5 & under Free. Dinner starts at 5:00 pm (doors open at 4:30) and will include Ham\, Scalloped Potatoes and all the trimmings. \nThe musical portion of the evening starts with Carol Singing and Special Music at 6:30 followed by the Cantata\, “This is Christmas” by Mary McDonald at 7:00 pm. Plan to stay afterward for fellowship\, coffee and dessert.
URL:https://northernspiritrc.ca/event/stony-plain-united-church-advent-dinner-and-cantata/
LOCATION:AB
CATEGORIES:Community events
ATTACH;FMTTYPE=image/png:https://northernspiritrc.ca/wp-content/uploads/2024/11/cantata-poster.png
END:VEVENT
BEGIN:VEVENT
DTSTART;TZID=America/Edmonton:20241216T080000
DTEND;TZID=America/Edmonton:20241216T190000
DTSTAMP:20260420T071859
CREATED:20241113T160858Z
LAST-MODIFIED:20241113T160858Z
UID:10000388-1734336000-1734375600@northernspiritrc.ca
SUMMARY:An Evening of Caroling and Treats
DESCRIPTION:Celebrate the holiday season by singing your favourite Christmas carols\, visiting\, and enjoying holiday treats with your friends and neighbours.
URL:https://northernspiritrc.ca/event/an-evening-of-caroling-and-treats/
LOCATION:Spirit of Hope United Church\, 7909 82 Ave NW\, Edmonton\, AB\, Canada
CATEGORIES:Community events
ATTACH;FMTTYPE=image/png:https://northernspiritrc.ca/wp-content/uploads/2024/11/An-Evening-of-Christmas-Caroling-and-Sharing-Festive-11-x-8.5-in.png
ORGANIZER;CN="Spirit of Hope United Church":MAILTO:officeadmin@spiritofhope.ca
END:VEVENT
BEGIN:VEVENT
DTSTART;TZID=America/Edmonton:20241221T160000
DTEND;TZID=America/Edmonton:20241221T170000
DTSTAMP:20260420T071859
CREATED:20241125T200854Z
LAST-MODIFIED:20241125T200854Z
UID:10000394-1734796800-1734800400@northernspiritrc.ca
SUMMARY:Wild Church YEG: Honouring the Sun\, Welcoming the Dark
DESCRIPTION:Join Robertson-Wesley’s Wild Church on December 21 at 4pm (Emily Murphy Park Picnic Site 3 – near the east end of the parking lot) for an unstructured winter solstice worship. You are invited (if you wish) to bring a snack or a solstice-related poem\, reading\, prayer or song to share. Bring an empty mug for a fireside drink! All are welcome\, including pets. Cancelled below —15*C.
URL:https://northernspiritrc.ca/event/wild-church-yeg-honouring-the-sun-welcoming-the-dark/
LOCATION:Fire Pit at Emily Murphy Park\, 11904 Emily Murphy Park Rd NW\, Edmonton\, Alberta\, Canada
CATEGORIES:Community events
ATTACH;FMTTYPE=image/png:https://northernspiritrc.ca/wp-content/uploads/2024/11/Honouring-The-Sun-Welcoming-The-Dark-1.png
ORGANIZER;CN="Robertson-Wesley United Church":MAILTO:mail@rwuc.org
END:VEVENT
BEGIN:VEVENT
DTSTART;TZID=America/Edmonton:20241221T190000
DTEND;TZID=America/Edmonton:20241221T210000
DTSTAMP:20260420T071859
CREATED:20241212T204613Z
LAST-MODIFIED:20241212T204613Z
UID:10000397-1734807600-1734814800@northernspiritrc.ca
SUMMARY:Deep Winter Song 2024 ~ Featuring Martin Kerr ~ In Person and Live Stream!
DESCRIPTION:Featuring:\n~ Martin Kerr ~\n~ Gord Oaks ~\n~ and special guests ~ \nDeep Winter Song is an “acoustic” musical presentation exploring and celebrating the Mystery of the Winter Solstice\, Christmas\, and this wondrous dark season of winter. The night will include traditional and modern songs of winter\, inspiring stories & poetry\, angelic voices\, inspiring words\, compelling movement performances\, delightful and mystical moods\, laser starlight\, beautiful winter projections\, a time of Sacred Sound Journey\, and a Solstice Fire Ritual.
URL:https://northernspiritrc.ca/event/deep-winter-song-2024-featuring-martin-kerr-in-person-and-live-stream/
LOCATION:Centre for Spiritual Living\, 7621 101 Ave NW\, Edmonton\, Alberta\, T6A 0J6\, Canada
CATEGORIES:Community events
ATTACH;FMTTYPE=image/jpeg:https://northernspiritrc.ca/wp-content/uploads/2024/12/Winter-Solstice-Damien-M.-Jones.jpg
ORGANIZER;CN="Deep Winter Song":MAILTO:heatherjoaks@gmail.com
END:VEVENT
END:VCALENDAR