BEGIN:VCALENDAR
VERSION:2.0
PRODID:-//Northern Spirit Regional Council - ECPv6.15.20//NONSGML v1.0//EN
CALSCALE:GREGORIAN
METHOD:PUBLISH
X-ORIGINAL-URL:https://northernspiritrc.ca
X-WR-CALDESC:Events for Northern Spirit Regional Council
REFRESH-INTERVAL;VALUE=DURATION:PT1H
X-Robots-Tag:noindex
X-PUBLISHED-TTL:PT1H
BEGIN:VTIMEZONE
TZID:America/Edmonton
BEGIN:DAYLIGHT
TZOFFSETFROM:-0700
TZOFFSETTO:-0600
TZNAME:MDT
DTSTART:20230312T090000
END:DAYLIGHT
BEGIN:STANDARD
TZOFFSETFROM:-0600
TZOFFSETTO:-0700
TZNAME:MST
DTSTART:20231105T080000
END:STANDARD
BEGIN:DAYLIGHT
TZOFFSETFROM:-0700
TZOFFSETTO:-0600
TZNAME:MDT
DTSTART:20240310T090000
END:DAYLIGHT
BEGIN:STANDARD
TZOFFSETFROM:-0600
TZOFFSETTO:-0700
TZNAME:MST
DTSTART:20241103T080000
END:STANDARD
BEGIN:DAYLIGHT
TZOFFSETFROM:-0700
TZOFFSETTO:-0600
TZNAME:MDT
DTSTART:20250309T090000
END:DAYLIGHT
BEGIN:STANDARD
TZOFFSETFROM:-0600
TZOFFSETTO:-0700
TZNAME:MST
DTSTART:20251102T080000
END:STANDARD
END:VTIMEZONE
BEGIN:VEVENT
DTSTART;TZID=America/Edmonton:20240402T103000
DTEND;TZID=America/Edmonton:20240402T113000
DTSTAMP:20260420T040229
CREATED:20240226T201730Z
LAST-MODIFIED:20240226T201730Z
UID:10000292-1712053800-1712057400@northernspiritrc.ca
SUMMARY:Seniors Coffee Break
DESCRIPTION:Kirk Centre has partnered with Dovercourt Community League\, Sage Seniors Association and Edmonton Public Library – Woodcroft Branch to host a Seniors Coffee Break Every Tuesday at 10:30 am from March 12 to April 30\, 2024. The schedule is as follows: \nKirk Centre – 13535-122 ave NW\nMarch 12\nMarch 26\nApril 9\nApril 23 \nDovercourt Community League – 13510 Dovercourt Ave\nMarch 19\nApril 2\nApril 16 \nEdmonton Public Library – Woodcroft Branch – 13420-114 Ave NW\nApril 30 \nCoffee\, Tea and snacks will be provided. Small donations will be accepted gratefully for future coffee events.
URL:https://northernspiritrc.ca/event/seniors-coffee-break/2024-04-02/
LOCATION:Kirk United Church Community Centre\, 13535 122 Ave NW\, Edmonton\, Alberta\, T5L 2V7\, Canada
CATEGORIES:Community events
ATTACH;FMTTYPE=image/jpeg:https://northernspiritrc.ca/wp-content/uploads/2024/02/Seniors-Coffee-Break-2.jpg
END:VEVENT
BEGIN:VEVENT
DTSTART;TZID=America/Edmonton:20240407T153000
DTEND;TZID=America/Edmonton:20240407T170000
DTSTAMP:20260420T040229
CREATED:20240328T172517Z
LAST-MODIFIED:20240328T172517Z
UID:10000302-1712503800-1712509200@northernspiritrc.ca
SUMMARY:Jazz and Reflections
DESCRIPTION:Everyone is welcome to enjoy an afternoon of music\, spiritual reflection and refreshments at no cost. Donations will be accepted to cover the musician’s fees and other expenses.
URL:https://northernspiritrc.ca/event/jazz-and-reflections-3/2024-04-07/
LOCATION:Spirit of Hope United Church\, 7909 82 Ave NW\, Edmonton\, AB\, Canada
CATEGORIES:Community events
ATTACH;FMTTYPE=image/png:https://northernspiritrc.ca/wp-content/uploads/2024/03/Jazz-and-Reflections-Spring-Series-Save-the-Date.png
ORGANIZER;CN="Spirit of Hope United Church":MAILTO:officeadmin@spiritofhope.ca
END:VEVENT
BEGIN:VEVENT
DTSTART;TZID=America/Edmonton:20240408T153000
DTEND;TZID=America/Edmonton:20240408T170000
DTSTAMP:20260420T040229
CREATED:20240328T172517Z
LAST-MODIFIED:20240328T172517Z
UID:10000303-1712590200-1712595600@northernspiritrc.ca
SUMMARY:Jazz and Reflections
DESCRIPTION:Everyone is welcome to enjoy an afternoon of music\, spiritual reflection and refreshments at no cost. Donations will be accepted to cover the musician’s fees and other expenses.
URL:https://northernspiritrc.ca/event/jazz-and-reflections-3/2024-04-08/
LOCATION:Spirit of Hope United Church\, 7909 82 Ave NW\, Edmonton\, AB\, Canada
CATEGORIES:Community events
ATTACH;FMTTYPE=image/png:https://northernspiritrc.ca/wp-content/uploads/2024/03/Jazz-and-Reflections-Spring-Series-Save-the-Date.png
ORGANIZER;CN="Spirit of Hope United Church":MAILTO:officeadmin@spiritofhope.ca
END:VEVENT
BEGIN:VEVENT
DTSTART;TZID=America/Edmonton:20240409T103000
DTEND;TZID=America/Edmonton:20240409T113000
DTSTAMP:20260420T040229
CREATED:20240226T201730Z
LAST-MODIFIED:20240226T201730Z
UID:10000293-1712658600-1712662200@northernspiritrc.ca
SUMMARY:Seniors Coffee Break
DESCRIPTION:Kirk Centre has partnered with Dovercourt Community League\, Sage Seniors Association and Edmonton Public Library – Woodcroft Branch to host a Seniors Coffee Break Every Tuesday at 10:30 am from March 12 to April 30\, 2024. The schedule is as follows: \nKirk Centre – 13535-122 ave NW\nMarch 12\nMarch 26\nApril 9\nApril 23 \nDovercourt Community League – 13510 Dovercourt Ave\nMarch 19\nApril 2\nApril 16 \nEdmonton Public Library – Woodcroft Branch – 13420-114 Ave NW\nApril 30 \nCoffee\, Tea and snacks will be provided. Small donations will be accepted gratefully for future coffee events.
URL:https://northernspiritrc.ca/event/seniors-coffee-break/2024-04-09/
LOCATION:Kirk United Church Community Centre\, 13535 122 Ave NW\, Edmonton\, Alberta\, T5L 2V7\, Canada
CATEGORIES:Community events
ATTACH;FMTTYPE=image/jpeg:https://northernspiritrc.ca/wp-content/uploads/2024/02/Seniors-Coffee-Break-2.jpg
END:VEVENT
BEGIN:VEVENT
DTSTART;TZID=America/Edmonton:20240412T170000
DTEND;TZID=America/Edmonton:20240412T190000
DTSTAMP:20260420T040229
CREATED:20240402T175704Z
LAST-MODIFIED:20240402T175808Z
UID:10000310-1712941200-1712948400@northernspiritrc.ca
SUMMARY:April Messy Church @ Grace United
DESCRIPTION:As we jump into spring\, enjoy crafts\, celebration\, laughter and food during this multigenerational and creative exploration of Easter! Find more information on our event page: https://fb.me/e/1G9Qa7I4x. Event is free and dinner is provided. Free will donations to cover cost of supplies gratefully accepted but are not required.
URL:https://northernspiritrc.ca/event/april-messy-church-grace-united/
LOCATION:Grace United Church\, 6215 104 Ave\, Edmonton\, AB\, Canada
CATEGORIES:Community events
ATTACH;FMTTYPE=image/jpeg:https://northernspiritrc.ca/wp-content/uploads/2024/04/April-Messy-Church-scaled.jpg
ORGANIZER;CN="Grace United Church":MAILTO:grace.united@shaw.ca
END:VEVENT
BEGIN:VEVENT
DTSTART;TZID=America/Edmonton:20240413T164500
DTEND;TZID=America/Edmonton:20240413T200000
DTSTAMP:20260420T040229
CREATED:20240313T192036Z
LAST-MODIFIED:20240313T192036Z
UID:10000301-1713026700-1713038400@northernspiritrc.ca
SUMMARY:Ardrossan United Church Roast Beef Dinner
DESCRIPTION:Ardrossan United Church – Spring Roast Beef Dinner\nApril 13\, 2024\nTwo Sittings: 4:45pm and 6:45pm\nAdults: $30\nChildren: $10\nUnder 6 Free \nCall: Keith and Lauraine Barber 780-464-7235
URL:https://northernspiritrc.ca/event/ardrossan-united-church-roast-beef-dinner/
LOCATION:Ardrossan United Church\, 22 Main Street\, Ardrossan\, AB\, Canada
CATEGORIES:Community events
ATTACH;FMTTYPE=image/png:https://northernspiritrc.ca/wp-content/uploads/2024/03/roast-beef-2024.png
END:VEVENT
BEGIN:VEVENT
DTSTART;TZID=America/Edmonton:20240415T153000
DTEND;TZID=America/Edmonton:20240415T170000
DTSTAMP:20260420T040229
CREATED:20240328T172517Z
LAST-MODIFIED:20240328T172517Z
UID:10000304-1713195000-1713200400@northernspiritrc.ca
SUMMARY:Jazz and Reflections
DESCRIPTION:Everyone is welcome to enjoy an afternoon of music\, spiritual reflection and refreshments at no cost. Donations will be accepted to cover the musician’s fees and other expenses.
URL:https://northernspiritrc.ca/event/jazz-and-reflections-3/2024-04-15/
LOCATION:Spirit of Hope United Church\, 7909 82 Ave NW\, Edmonton\, AB\, Canada
CATEGORIES:Community events
ATTACH;FMTTYPE=image/png:https://northernspiritrc.ca/wp-content/uploads/2024/03/Jazz-and-Reflections-Spring-Series-Save-the-Date.png
ORGANIZER;CN="Spirit of Hope United Church":MAILTO:officeadmin@spiritofhope.ca
END:VEVENT
BEGIN:VEVENT
DTSTART;TZID=America/Edmonton:20240416T103000
DTEND;TZID=America/Edmonton:20240416T113000
DTSTAMP:20260420T040229
CREATED:20240226T201730Z
LAST-MODIFIED:20240226T201730Z
UID:10000294-1713263400-1713267000@northernspiritrc.ca
SUMMARY:Seniors Coffee Break
DESCRIPTION:Kirk Centre has partnered with Dovercourt Community League\, Sage Seniors Association and Edmonton Public Library – Woodcroft Branch to host a Seniors Coffee Break Every Tuesday at 10:30 am from March 12 to April 30\, 2024. The schedule is as follows: \nKirk Centre – 13535-122 ave NW\nMarch 12\nMarch 26\nApril 9\nApril 23 \nDovercourt Community League – 13510 Dovercourt Ave\nMarch 19\nApril 2\nApril 16 \nEdmonton Public Library – Woodcroft Branch – 13420-114 Ave NW\nApril 30 \nCoffee\, Tea and snacks will be provided. Small donations will be accepted gratefully for future coffee events.
URL:https://northernspiritrc.ca/event/seniors-coffee-break/2024-04-16/
LOCATION:Kirk United Church Community Centre\, 13535 122 Ave NW\, Edmonton\, Alberta\, T5L 2V7\, Canada
CATEGORIES:Community events
ATTACH;FMTTYPE=image/jpeg:https://northernspiritrc.ca/wp-content/uploads/2024/02/Seniors-Coffee-Break-2.jpg
END:VEVENT
BEGIN:VEVENT
DTSTART;TZID=America/Edmonton:20240421T130000
DTEND;TZID=America/Edmonton:20240421T140000
DTSTAMP:20260420T040229
CREATED:20240402T175652Z
LAST-MODIFIED:20240402T175652Z
UID:10000309-1713704400-1713708000@northernspiritrc.ca
SUMMARY:Wild Church YEG
DESCRIPTION:Robertson-Wesley’s Wild Church will congregate next on April 21 at 1pm; in acknowledgment of Earth Day\, our theme will be ‘Earth and Our “Geobiographies.” ‘ Join us at Emily Murphy Park (Fire Circle #3\, at the east end of the park – look for the Wild Church sign)\, bring your furry friends\, and pack a mug for a provided warm drink! Cancelled below -15C with windchill. \nWild Church is a monthly all-age worship that follows Jesus’ example of going into the wilderness to connect with the sacred; it involves solo reflection time as well as deep interpersonal dialogue. \nFollow us online – Instagram @wildchurchyeg\, website: wildchurchyeg.org
URL:https://northernspiritrc.ca/event/wild-church-yeg-7/
LOCATION:Emily Murphy Park\, Picnic Site #3
CATEGORIES:Community events
ATTACH;FMTTYPE=image/png:https://northernspiritrc.ca/wp-content/uploads/2024/03/Screen-Shot-2022-11-04-at-3.27.44-PM.png
ORGANIZER;CN="Robertson-Wesley United Church":MAILTO:mail@rwuc.org
END:VEVENT
BEGIN:VEVENT
DTSTART;TZID=America/Edmonton:20240422T153000
DTEND;TZID=America/Edmonton:20240422T170000
DTSTAMP:20260420T040229
CREATED:20240328T172517Z
LAST-MODIFIED:20240328T172517Z
UID:10000305-1713799800-1713805200@northernspiritrc.ca
SUMMARY:Jazz and Reflections
DESCRIPTION:Everyone is welcome to enjoy an afternoon of music\, spiritual reflection and refreshments at no cost. Donations will be accepted to cover the musician’s fees and other expenses.
URL:https://northernspiritrc.ca/event/jazz-and-reflections-3/2024-04-22/
LOCATION:Spirit of Hope United Church\, 7909 82 Ave NW\, Edmonton\, AB\, Canada
CATEGORIES:Community events
ATTACH;FMTTYPE=image/png:https://northernspiritrc.ca/wp-content/uploads/2024/03/Jazz-and-Reflections-Spring-Series-Save-the-Date.png
ORGANIZER;CN="Spirit of Hope United Church":MAILTO:officeadmin@spiritofhope.ca
END:VEVENT
BEGIN:VEVENT
DTSTART;TZID=America/Edmonton:20240423T103000
DTEND;TZID=America/Edmonton:20240423T113000
DTSTAMP:20260420T040229
CREATED:20240226T201730Z
LAST-MODIFIED:20240226T201730Z
UID:10000295-1713868200-1713871800@northernspiritrc.ca
SUMMARY:Seniors Coffee Break
DESCRIPTION:Kirk Centre has partnered with Dovercourt Community League\, Sage Seniors Association and Edmonton Public Library – Woodcroft Branch to host a Seniors Coffee Break Every Tuesday at 10:30 am from March 12 to April 30\, 2024. The schedule is as follows: \nKirk Centre – 13535-122 ave NW\nMarch 12\nMarch 26\nApril 9\nApril 23 \nDovercourt Community League – 13510 Dovercourt Ave\nMarch 19\nApril 2\nApril 16 \nEdmonton Public Library – Woodcroft Branch – 13420-114 Ave NW\nApril 30 \nCoffee\, Tea and snacks will be provided. Small donations will be accepted gratefully for future coffee events.
URL:https://northernspiritrc.ca/event/seniors-coffee-break/2024-04-23/
LOCATION:Kirk United Church Community Centre\, 13535 122 Ave NW\, Edmonton\, Alberta\, T5L 2V7\, Canada
CATEGORIES:Community events
ATTACH;FMTTYPE=image/jpeg:https://northernspiritrc.ca/wp-content/uploads/2024/02/Seniors-Coffee-Break-2.jpg
END:VEVENT
BEGIN:VEVENT
DTSTART;TZID=America/Edmonton:20240423T103000
DTEND;TZID=America/Edmonton:20240423T120000
DTSTAMP:20260420T040229
CREATED:20240422T161419Z
LAST-MODIFIED:20240422T161419Z
UID:10000314-1713868200-1713873600@northernspiritrc.ca
SUMMARY:Seniors Coffee Break
DESCRIPTION:Join us for a Coffee Break! Everyone 50+ is welcome. Come socialize with other from the surrounding neighborhoods\, check out Kirk Centre and what we are all about and have some coffee and snacks. \nKirk Centre is hosting these events in partnership with Sage Seniors Association\, Dovercourt Community League and Woodcroft Public Library. Location vary between 3 locations. \nApril 23rd – Kirk Centre\nApril 30 – Woodcroft Library\nMay 7 – Dovercourt Community League\nMay 14th – Kirk Centre\nMay 21 – Dovercourt Community League\nMay 28 – Woodcroft Library\nJune 4 – Kirk Centre\nJune 11 – Dovercourt Community League\nJune 18 – Kirk centre\nJune 25 – Woodcroft Library
URL:https://northernspiritrc.ca/event/seniors-coffee-break-2/2024-04-23/
LOCATION:Kirk United Church Community Centre\, 13535 122 Ave NW\, Edmonton\, Alberta\, T5L 2V7\, Canada
CATEGORIES:Community events
ATTACH;FMTTYPE=image/jpeg:https://northernspiritrc.ca/wp-content/uploads/2024/04/Seniors-Coffee-Break-Apr-to-june-2024.jpg
END:VEVENT
BEGIN:VEVENT
DTSTART;TZID=America/Edmonton:20240425T100000
DTEND;TZID=America/Edmonton:20240425T153000
DTSTAMP:20260420T040229
CREATED:20240404T202022Z
LAST-MODIFIED:20240404T202022Z
UID:10000312-1714039200-1714059000@northernspiritrc.ca
SUMMARY:Dare to Share: Ecumenical Shared Ministries Workshop
DESCRIPTION:Dare to Share: Ecumenical Shared Ministry & the Future of Church \nA workshop for leaders within the Anglican\, Lutheran\, Moravian\, and United Churches\, \nApril 25\, 2024\, 10 a.m. – 3:30 p.m. \nat Glory Lutheran Church\, Sherwood Park\, AB \nFor full details and registration\, visit: https://form.jotform.com/230435874518259 \nRegistration for this event is free.  Refreshments and a light lunch will be provided.  The deadline for registration is Friday\, April 17\, 2024.
URL:https://northernspiritrc.ca/event/dare-to-share-ecumenical-shared-ministries-workshop/
LOCATION:Glory Lutheran Church\, 22577 AB-16\, Sherwood Park\, AB\, T8A 4T7\, Canada
CATEGORIES:Ecumenical Partners,Regional event
ATTACH;FMTTYPE=image/jpeg:https://northernspiritrc.ca/wp-content/uploads/2024/04/Dare-To-Share-scaled.jpg
END:VEVENT
BEGIN:VEVENT
DTSTART;TZID=America/Edmonton:20240425T173000
DTEND;TZID=America/Edmonton:20240425T183000
DTSTAMP:20260420T040229
CREATED:20240422T161400Z
LAST-MODIFIED:20240422T161400Z
UID:10000324-1714066200-1714069800@northernspiritrc.ca
SUMMARY:Kirk Centre's Free Chili Dinner
DESCRIPTION:Join us on April 25th at Kirk Centre for a free chili dinner . Gluten free and vegetarian options will be available. Take this opportunity to check out Kirk Centre and what we have to offer! Please register for the 5:30pm or 6:30 pm seating time.
URL:https://northernspiritrc.ca/event/kirk-centres-free-chili-dinner/
LOCATION:Kirk United Church Community Centre\, 13535 122 Ave NW\, Edmonton\, Alberta\, T5L 2V7\, Canada
CATEGORIES:Community events
ATTACH;FMTTYPE=image/png:https://northernspiritrc.ca/wp-content/uploads/2024/04/April-2524-Chili-Dinner-1.png
END:VEVENT
BEGIN:VEVENT
DTSTART;TZID=America/Edmonton:20240427T190000
DTEND;TZID=America/Edmonton:20240427T220000
DTSTAMP:20260420T040230
CREATED:20240223T222137Z
LAST-MODIFIED:20240223T222137Z
UID:10000286-1714244400-1714255200@northernspiritrc.ca
SUMMARY:Mill Woods United Spring Soirée and Variety Show
DESCRIPTION:Mill Woods United Church is hosting a Spring Soirée and Variety Show fundraiser on Saturday\, April 27\, 2024 at 7:00 p.m. Join us for a fun evening of music\, entertainment\, appetizers\, desserts\, wine\, beer\, soft drinks\, coffee and tea. We’ll also be holding a silent auction of beautifully themed baskets during the evening. Get together with a group of friends and join us in community and friendship!\nWe are located at 15 Grand Meadow Crescent in Millwoods\, halfway between 50th and 66th Streets\, south of the Whitemud.\nWe ask that if you plan to attend\, please contact our church office to confirm (mwuc1@telus.net or 780-463-2202) to help us plan accordingly. See you in April!!
URL:https://northernspiritrc.ca/event/mill-woods-united-spring-soiree-and-variety-show/
LOCATION:Mill Woods United Church\, 15 Grand Meadow Cres\, Edmonton\, AB\, T6L 1A1\, Canada
CATEGORIES:Community events
ATTACH;FMTTYPE=image/jpeg:https://northernspiritrc.ca/wp-content/uploads/2024/02/Variety-Show.jpg
END:VEVENT
BEGIN:VEVENT
DTSTART;TZID=America/Edmonton:20240429T153000
DTEND;TZID=America/Edmonton:20240429T170000
DTSTAMP:20260420T040230
CREATED:20240328T172517Z
LAST-MODIFIED:20240328T172517Z
UID:10000306-1714404600-1714410000@northernspiritrc.ca
SUMMARY:Jazz and Reflections
DESCRIPTION:Everyone is welcome to enjoy an afternoon of music\, spiritual reflection and refreshments at no cost. Donations will be accepted to cover the musician’s fees and other expenses.
URL:https://northernspiritrc.ca/event/jazz-and-reflections-3/2024-04-29/
LOCATION:Spirit of Hope United Church\, 7909 82 Ave NW\, Edmonton\, AB\, Canada
CATEGORIES:Community events
ATTACH;FMTTYPE=image/png:https://northernspiritrc.ca/wp-content/uploads/2024/03/Jazz-and-Reflections-Spring-Series-Save-the-Date.png
ORGANIZER;CN="Spirit of Hope United Church":MAILTO:officeadmin@spiritofhope.ca
END:VEVENT
BEGIN:VEVENT
DTSTART;TZID=America/Edmonton:20240430T103000
DTEND;TZID=America/Edmonton:20240430T113000
DTSTAMP:20260420T040230
CREATED:20240226T201730Z
LAST-MODIFIED:20240226T201730Z
UID:10000296-1714473000-1714476600@northernspiritrc.ca
SUMMARY:Seniors Coffee Break
DESCRIPTION:Kirk Centre has partnered with Dovercourt Community League\, Sage Seniors Association and Edmonton Public Library – Woodcroft Branch to host a Seniors Coffee Break Every Tuesday at 10:30 am from March 12 to April 30\, 2024. The schedule is as follows: \nKirk Centre – 13535-122 ave NW\nMarch 12\nMarch 26\nApril 9\nApril 23 \nDovercourt Community League – 13510 Dovercourt Ave\nMarch 19\nApril 2\nApril 16 \nEdmonton Public Library – Woodcroft Branch – 13420-114 Ave NW\nApril 30 \nCoffee\, Tea and snacks will be provided. Small donations will be accepted gratefully for future coffee events.
URL:https://northernspiritrc.ca/event/seniors-coffee-break/2024-04-30/
LOCATION:Kirk United Church Community Centre\, 13535 122 Ave NW\, Edmonton\, Alberta\, T5L 2V7\, Canada
CATEGORIES:Community events
ATTACH;FMTTYPE=image/jpeg:https://northernspiritrc.ca/wp-content/uploads/2024/02/Seniors-Coffee-Break-2.jpg
END:VEVENT
BEGIN:VEVENT
DTSTART;TZID=America/Edmonton:20240430T103000
DTEND;TZID=America/Edmonton:20240430T120000
DTSTAMP:20260420T040230
CREATED:20240422T161419Z
LAST-MODIFIED:20240422T161419Z
UID:10000315-1714473000-1714478400@northernspiritrc.ca
SUMMARY:Seniors Coffee Break
DESCRIPTION:Join us for a Coffee Break! Everyone 50+ is welcome. Come socialize with other from the surrounding neighborhoods\, check out Kirk Centre and what we are all about and have some coffee and snacks. \nKirk Centre is hosting these events in partnership with Sage Seniors Association\, Dovercourt Community League and Woodcroft Public Library. Location vary between 3 locations. \nApril 23rd – Kirk Centre\nApril 30 – Woodcroft Library\nMay 7 – Dovercourt Community League\nMay 14th – Kirk Centre\nMay 21 – Dovercourt Community League\nMay 28 – Woodcroft Library\nJune 4 – Kirk Centre\nJune 11 – Dovercourt Community League\nJune 18 – Kirk centre\nJune 25 – Woodcroft Library
URL:https://northernspiritrc.ca/event/seniors-coffee-break-2/2024-04-30/
LOCATION:Kirk United Church Community Centre\, 13535 122 Ave NW\, Edmonton\, Alberta\, T5L 2V7\, Canada
CATEGORIES:Community events
ATTACH;FMTTYPE=image/jpeg:https://northernspiritrc.ca/wp-content/uploads/2024/04/Seniors-Coffee-Break-Apr-to-june-2024.jpg
END:VEVENT
END:VCALENDAR