BEGIN:VCALENDAR
VERSION:2.0
PRODID:-//Northern Spirit Regional Council - ECPv6.15.20//NONSGML v1.0//EN
CALSCALE:GREGORIAN
METHOD:PUBLISH
X-ORIGINAL-URL:https://northernspiritrc.ca
X-WR-CALDESC:Events for Northern Spirit Regional Council
REFRESH-INTERVAL;VALUE=DURATION:PT1H
X-Robots-Tag:noindex
X-PUBLISHED-TTL:PT1H
BEGIN:VTIMEZONE
TZID:America/Edmonton
BEGIN:DAYLIGHT
TZOFFSETFROM:-0700
TZOFFSETTO:-0600
TZNAME:MDT
DTSTART:20230312T090000
END:DAYLIGHT
BEGIN:STANDARD
TZOFFSETFROM:-0600
TZOFFSETTO:-0700
TZNAME:MST
DTSTART:20231105T080000
END:STANDARD
BEGIN:DAYLIGHT
TZOFFSETFROM:-0700
TZOFFSETTO:-0600
TZNAME:MDT
DTSTART:20240310T090000
END:DAYLIGHT
BEGIN:STANDARD
TZOFFSETFROM:-0600
TZOFFSETTO:-0700
TZNAME:MST
DTSTART:20241103T080000
END:STANDARD
BEGIN:DAYLIGHT
TZOFFSETFROM:-0700
TZOFFSETTO:-0600
TZNAME:MDT
DTSTART:20250309T090000
END:DAYLIGHT
BEGIN:STANDARD
TZOFFSETFROM:-0600
TZOFFSETTO:-0700
TZNAME:MST
DTSTART:20251102T080000
END:STANDARD
END:VTIMEZONE
BEGIN:VEVENT
DTSTART;TZID=America/Edmonton:20240301T133000
DTEND;TZID=America/Edmonton:20240301T143000
DTSTAMP:20260420T052252
CREATED:20240117T210526Z
LAST-MODIFIED:20240117T210526Z
UID:10000276-1709299800-1709303400@northernspiritrc.ca
SUMMARY:WORLD DAY OF PRAYER SERVICE
DESCRIPTION:Through music\, scripture and story\, everyone is invited to pray and reflect on the Women of Palestine in this service prepared by the Women’s Inter-Church Council of Canada\, hosted by the Spirit of Hope United Church.
URL:https://northernspiritrc.ca/event/world-day-of-prayer-service/
LOCATION:Spirit of Hope United Church\, 7909 82 Ave NW\, Edmonton\, AB\, Canada
CATEGORIES:Community events,Ecumenical Partners
ATTACH;FMTTYPE=image/jpeg:https://northernspiritrc.ca/wp-content/uploads/2024/01/WDP2024_poster.jpg
END:VEVENT
BEGIN:VEVENT
DTSTART;TZID=America/Edmonton:20240302T110000
DTEND;TZID=America/Edmonton:20240302T140000
DTSTAMP:20260420T052252
CREATED:20240215T213958Z
LAST-MODIFIED:20240215T213958Z
UID:10000283-1709377200-1709388000@northernspiritrc.ca
SUMMARY:Celebrate Leisure Sale
DESCRIPTION:Drop by to visit\, enjoy refreshments and shop for books\, puzzles\, DVDs\, CDs and games.
URL:https://northernspiritrc.ca/event/celebrate-leisure-sale/
LOCATION:Spirit of Hope United Church\, 7909 82 Ave NW\, Edmonton\, AB\, Canada
CATEGORIES:Community events
ATTACH;FMTTYPE=image/png:https://northernspiritrc.ca/wp-content/uploads/2024/02/Celebrating-Leiisure-Sale.png
END:VEVENT
BEGIN:VEVENT
DTSTART;TZID=America/Edmonton:20240303T090000
DTEND;TZID=America/Edmonton:20240317T090000
DTSTAMP:20260420T052252
CREATED:20240215T213456Z
LAST-MODIFIED:20240215T213456Z
UID:10000284-1709456400-1710666000@northernspiritrc.ca
SUMMARY:Ottewell United Church Online Auction
DESCRIPTION:Greetings auction enthusiasts and fellow bidders! Our online auction will begin Sunday\, March 3\, at 9:00 am and will end with the final bid on Sunday\, March 17th at 9:00am.\nWe invite you to browse our auction catalogue and bid on a variety of items including vintage Crystal and Glassware\, Puzzles\, Theme Baskets\, Family Passes\, Gift Certificates\, Handicrafts\, and more for your house and home!\nPlease go to www.charityauction.bid/ottewellchurch to register.\nOnly your name and email address are required.\nOnce registered\, you will receive more information regarding the bidding process and how to claim your items.\nPlease share this with the family and friends\nIs there something you would like to donate? Please contact\nJoan at tabakjoan1955@gmail.com 780 919-0242\nBecky at rlcharette@shaw.ca 780 235-1957\nThank you for your support. Happy Bidding!
URL:https://northernspiritrc.ca/event/ottewell-united-church-online-auction-3/
LOCATION:AB
CATEGORIES:Community events
ATTACH;FMTTYPE=image/jpeg:https://northernspiritrc.ca/wp-content/uploads/2024/02/glenn-carstens-peters-npxXWgQ33ZQ-unsplash-scaled.jpg
END:VEVENT
BEGIN:VEVENT
DTSTART;TZID=America/Edmonton:20240312T103000
DTEND;TZID=America/Edmonton:20240312T113000
DTSTAMP:20260420T052252
CREATED:20240226T201730Z
LAST-MODIFIED:20240226T201730Z
UID:10000289-1710239400-1710243000@northernspiritrc.ca
SUMMARY:Seniors Coffee Break
DESCRIPTION:Kirk Centre has partnered with Dovercourt Community League\, Sage Seniors Association and Edmonton Public Library – Woodcroft Branch to host a Seniors Coffee Break Every Tuesday at 10:30 am from March 12 to April 30\, 2024. The schedule is as follows: \nKirk Centre – 13535-122 ave NW\nMarch 12\nMarch 26\nApril 9\nApril 23 \nDovercourt Community League – 13510 Dovercourt Ave\nMarch 19\nApril 2\nApril 16 \nEdmonton Public Library – Woodcroft Branch – 13420-114 Ave NW\nApril 30 \nCoffee\, Tea and snacks will be provided. Small donations will be accepted gratefully for future coffee events.
URL:https://northernspiritrc.ca/event/seniors-coffee-break/2024-03-12/
LOCATION:Kirk United Church Community Centre\, 13535 122 Ave NW\, Edmonton\, Alberta\, T5L 2V7\, Canada
CATEGORIES:Community events
ATTACH;FMTTYPE=image/jpeg:https://northernspiritrc.ca/wp-content/uploads/2024/02/Seniors-Coffee-Break-2.jpg
END:VEVENT
BEGIN:VEVENT
DTSTART;TZID=America/Edmonton:20240315T120000
DTEND;TZID=America/Edmonton:20240315T130000
DTSTAMP:20260420T052252
CREATED:20240307T222204Z
LAST-MODIFIED:20240307T222204Z
UID:10000300-1710504000-1710507600@northernspiritrc.ca
SUMMARY:CCS Friday - An Ecology of Faith Formation
DESCRIPTION:Join the Centre for Christian Studies (CCS) on Friday\, March 15 (noon Central\, 1pm Eastern\, 11am Mountain\, 10am Pacific\, 2pm Atlantic) for an online conversation about the eco-system of faith formation in congregations. Our special guest will be UCC Growth Animator Greg Smith-Young. \nWithin creation\, ecosystems form as different and diverse creatures (living and non-living) interact together. Each part plays a vital role in making the whole. Ecosystems are about interdependence and integration. What can happen when we bring an “ecosystem” way of thinking into the faith formation work of congregations? Join us as we imagine the possibilities. \nGreg Smith-Young (he/him) is a Growth Animator with the United Church of Canada. He serves alongside existing and newly-forming communities of faith in southwest Ontario\, helping them to share in what Jesus is already doing in their places: inviting\, welcoming\, engaging\, forming disciples\, and sending to share in God’s Presence. \nCCS Fridays are free. Please register to receive a zoom link: https://us02web.zoom.us/meeting/register/tZwsceGsqzIuHtcJfObCM1xhPf4sRLMj18nC#/registration \nCCS Fridays are online conversations to help us all to respond faithfully to emerging issues in local contexts. These workshops are open to anyone who might be interested. Each session will be on a Friday from 12:00 to 1:00 CT and in the form of a Zoom workshop. There will be a presentation that will be recorded for future viewing\, plus opportunities to engage with the ideas in small groups.
URL:https://northernspiritrc.ca/event/ccs-friday-an-ecology-of-faith-formation/
LOCATION:Zoom\, Canada
CATEGORIES:Community events
ATTACH;FMTTYPE=image/jpeg:https://northernspiritrc.ca/wp-content/uploads/2023/10/sixteen-miles-out-L-mNqn89I2s-unsplash-scaled.jpg
ORGANIZER;CN="Centre for Christian Studies":MAILTO:info@ccsonline.ca
END:VEVENT
BEGIN:VEVENT
DTSTART;TZID=America/Edmonton:20240319T103000
DTEND;TZID=America/Edmonton:20240319T113000
DTSTAMP:20260420T052252
CREATED:20240226T201730Z
LAST-MODIFIED:20240226T201730Z
UID:10000290-1710844200-1710847800@northernspiritrc.ca
SUMMARY:Seniors Coffee Break
DESCRIPTION:Kirk Centre has partnered with Dovercourt Community League\, Sage Seniors Association and Edmonton Public Library – Woodcroft Branch to host a Seniors Coffee Break Every Tuesday at 10:30 am from March 12 to April 30\, 2024. The schedule is as follows: \nKirk Centre – 13535-122 ave NW\nMarch 12\nMarch 26\nApril 9\nApril 23 \nDovercourt Community League – 13510 Dovercourt Ave\nMarch 19\nApril 2\nApril 16 \nEdmonton Public Library – Woodcroft Branch – 13420-114 Ave NW\nApril 30 \nCoffee\, Tea and snacks will be provided. Small donations will be accepted gratefully for future coffee events.
URL:https://northernspiritrc.ca/event/seniors-coffee-break/2024-03-19/
LOCATION:Kirk United Church Community Centre\, 13535 122 Ave NW\, Edmonton\, Alberta\, T5L 2V7\, Canada
CATEGORIES:Community events
ATTACH;FMTTYPE=image/jpeg:https://northernspiritrc.ca/wp-content/uploads/2024/02/Seniors-Coffee-Break-2.jpg
END:VEVENT
BEGIN:VEVENT
DTSTART;TZID=America/Edmonton:20240326T103000
DTEND;TZID=America/Edmonton:20240326T113000
DTSTAMP:20260420T052252
CREATED:20240226T201730Z
LAST-MODIFIED:20240226T201730Z
UID:10000291-1711449000-1711452600@northernspiritrc.ca
SUMMARY:Seniors Coffee Break
DESCRIPTION:Kirk Centre has partnered with Dovercourt Community League\, Sage Seniors Association and Edmonton Public Library – Woodcroft Branch to host a Seniors Coffee Break Every Tuesday at 10:30 am from March 12 to April 30\, 2024. The schedule is as follows: \nKirk Centre – 13535-122 ave NW\nMarch 12\nMarch 26\nApril 9\nApril 23 \nDovercourt Community League – 13510 Dovercourt Ave\nMarch 19\nApril 2\nApril 16 \nEdmonton Public Library – Woodcroft Branch – 13420-114 Ave NW\nApril 30 \nCoffee\, Tea and snacks will be provided. Small donations will be accepted gratefully for future coffee events.
URL:https://northernspiritrc.ca/event/seniors-coffee-break/2024-03-26/
LOCATION:Kirk United Church Community Centre\, 13535 122 Ave NW\, Edmonton\, Alberta\, T5L 2V7\, Canada
CATEGORIES:Community events
ATTACH;FMTTYPE=image/jpeg:https://northernspiritrc.ca/wp-content/uploads/2024/02/Seniors-Coffee-Break-2.jpg
END:VEVENT
BEGIN:VEVENT
DTSTART;TZID=America/Edmonton:20240329T100000
DTEND;TZID=America/Edmonton:20240329T133000
DTSTAMP:20260420T052252
CREATED:20240228T164151Z
LAST-MODIFIED:20240228T164151Z
UID:10000298-1711706400-1711719000@northernspiritrc.ca
SUMMARY:Edmonton‛s 44th Annual Good Friday Outdoor Way of the Cross “ Journeying Home"
DESCRIPTION:Good Friday\, March 29\, 2024\, 10 a.m. (99 Street and 107 Avenue\, Edmonton AB) \nThe 44th annual Outdoor Way of the Cross invites people to think about the relevance and importance of the Gospel message in our world today. This year’s theme\, “Journeying Home\,” is based on Isaiah 58:6-7: “Is not this the fast that I choose. . .to share your bread with the hungry and bring the homeless into your house.” \nThe walk will once again take place in person\, along the streets of Edmonton’s inner city. It will include six stations\, and each station will offer a reflection on an aspect of the overall theme that highlights both a challenge and a source of hope\, woven together with music. \nPeople of all faith traditions are welcome. The 1.5-kilometre walk is reasonable for most ages and levels of fitness and ability. Free street parking is available near the start location. Light refreshments will be provided at Hope Mission (106 Avenue and 99 Street) after the final station. \nFor more information\, contact Marguerite Watson at marguerite.watson@telus.net or visit the Way of the Cross website here.
URL:https://northernspiritrc.ca/event/edmontons-44th-annual-good-friday-outdoor-way-of-the-cross-journeying-home/
LOCATION:AB
CATEGORIES:Community events
ATTACH;FMTTYPE=image/jpeg:https://northernspiritrc.ca/wp-content/uploads/2024/02/2024-Way-of-the-Cross-church-bulletin-announcement.jpg
ORGANIZER;CN="Way of the Cross":MAILTO:marguerite.watson@telus.net
END:VEVENT
END:VCALENDAR