BEGIN:VCALENDAR
VERSION:2.0
PRODID:-//Northern Spirit Regional Council - ECPv6.15.20//NONSGML v1.0//EN
CALSCALE:GREGORIAN
METHOD:PUBLISH
X-ORIGINAL-URL:https://northernspiritrc.ca
X-WR-CALDESC:Events for Northern Spirit Regional Council
REFRESH-INTERVAL;VALUE=DURATION:PT1H
X-Robots-Tag:noindex
X-PUBLISHED-TTL:PT1H
BEGIN:VTIMEZONE
TZID:America/Edmonton
BEGIN:DAYLIGHT
TZOFFSETFROM:-0700
TZOFFSETTO:-0600
TZNAME:MDT
DTSTART:20220313T090000
END:DAYLIGHT
BEGIN:STANDARD
TZOFFSETFROM:-0600
TZOFFSETTO:-0700
TZNAME:MST
DTSTART:20221106T080000
END:STANDARD
BEGIN:DAYLIGHT
TZOFFSETFROM:-0700
TZOFFSETTO:-0600
TZNAME:MDT
DTSTART:20230312T090000
END:DAYLIGHT
BEGIN:STANDARD
TZOFFSETFROM:-0600
TZOFFSETTO:-0700
TZNAME:MST
DTSTART:20231105T080000
END:STANDARD
BEGIN:DAYLIGHT
TZOFFSETFROM:-0700
TZOFFSETTO:-0600
TZNAME:MDT
DTSTART:20240310T090000
END:DAYLIGHT
BEGIN:STANDARD
TZOFFSETFROM:-0600
TZOFFSETTO:-0700
TZNAME:MST
DTSTART:20241103T080000
END:STANDARD
END:VTIMEZONE
BEGIN:VEVENT
DTSTART;TZID=America/Edmonton:20230301T190000
DTEND;TZID=America/Edmonton:20230301T203000
DTSTAMP:20260420T200743
CREATED:20230207T175114Z
LAST-MODIFIED:20230214T200509Z
UID:10000144-1677697200-1677702600@northernspiritrc.ca
SUMMARY:Being Good Relations Network Learning for Lent Event
DESCRIPTION:Instead of Chocolate\, Why Not Give Up Myths & Misconceptions This Lent?\nJoin Grace Hussey\, BSW\, RSW & Student Minister\, to learn the facts about Canadian Indigenous Issues in a safe online space. We will be reading & discussing Chelsea Vowel’s informative & funny book\, “Indigenous Writes”. Come to 1 or all 5 sessions running Wednesdays 7-8:30pm MST\, from March 1st-29th\, 2023. You are also welcome to sign up & join online as a group! \nWe Hope to see you there! \nPlease Register by Sun. Feb. 26th\, 2023. To register click here\, or scan the QR code. \nContact Grace if you have any questions or concerns.
URL:https://northernspiritrc.ca/event/learning-for-lent-book-study/
LOCATION:Zoom
CATEGORIES:Regional event,Right Relations
ATTACH;FMTTYPE=image/png:https://northernspiritrc.ca/wp-content/uploads/2023/02/Learning-for-Lent-Poster_Final.png
END:VEVENT
BEGIN:VEVENT
DTSTART;TZID=America/Edmonton:20230301T190000
DTEND;TZID=America/Edmonton:20230301T210000
DTSTAMP:20260420T200743
CREATED:20230131T202443Z
LAST-MODIFIED:20230131T202541Z
UID:10000140-1677697200-1677704400@northernspiritrc.ca
SUMMARY:Liberating Liturgy
DESCRIPTION:★ Liberating Liturgy: Wednesday\, March 1\, 7:00 – 9:00 pm\nFeaturing Dr. Becca Whitla\, Professor of Practical Ministry and Lydia E. Gruchy Chair in Pastoral Theology. Livestreamed by the Saskatoon Theological Union.\nDr. Whitla explores what it means to liberate liturgy in today’s contexts. Drawing from the experience of several communities\, she proposes that churches that want to fully embrace the multilingual\, multiethnic\, multicultural realities of the Canadian context need to examine and transform what goes on at church on a Sunday morning. Using a couple of case studies – singing and territorial acknowledgements – she proposes some initial principles for liberating and decolonizing how we worship. There will even be a couple of chances to sing and dance. Please join us for some mid-winter warmth and conversation!!! Please register for both in-person and livestream options by emailing standrews.college@saskatoontheologicalunion.ca by February 22.
URL:https://northernspiritrc.ca/event/liberating-liturgy/
LOCATION:Livestream
CATEGORIES:Community events
END:VEVENT
BEGIN:VEVENT
DTSTART;VALUE=DATE:20230303
DTEND;VALUE=DATE:20230305
DTSTAMP:20260420T200743
CREATED:20230113T175713Z
LAST-MODIFIED:20230124T211540Z
UID:10000137-1677801600-1677974399@northernspiritrc.ca
SUMMARY:The Art of Living and Dying Workshop Series
DESCRIPTION:The Art of Living & Dying Series is more about living than about the end of life. This series of four internationally acclaimed workshops draws from the wisdom of our ancestors that the quality of life is enhanced when we do not live in fear or denial of suffering or our mortality. The results of facing or “leaning into”’ existential-spiritual pain are profound for both care-givers and care receivers and include:\n• Physical and emotional well-being\n• Antidotes for compassion fatigue and burnout\n• Enhanced capacity for healing\n• Improved pain and symptom-control management\n• Peace of mind and improved relationships \nEach workshop is an interactive and inspirational learning experience appropriate for professional and lay caregivers alike\, and are followed by a three-month study group process called Circles of Trust©. Participants explore universal patterns of spiritual and emotional suffering with time-tested ways to relieve them. All programs are a creative blend of best practices\, instruction\, personal reflection\, hands-on experience\, multimedia presentations\, and creative rituals from the world’s great wisdom traditions. \nSpecial United Church single + group pricing available. \nFor registration information email karin@sacredartofliving.org \n \nFull four workshop series flyer – UCC \nModule One Workshop:\nUnderstanding Spiritual Suffering\nMarch 3-4\, 2023 \nModule Two Workshop:\nRecognizing Spiritual Suffering\nMay 19-20\, 2023 \nModule Three Workshop:\nResponding to Spiritual Suffering\nSeptember 29-30\, 2023 \nModule Four Workshop:\nTransforming Spiritual Suffering\nJanuary 19-20\, 2024
URL:https://northernspiritrc.ca/event/the-art-of-living-and-dying-workshop-series/
LOCATION:AB
CATEGORIES:Community events
ATTACH;FMTTYPE=application/pdf:https://northernspiritrc.ca/wp-content/uploads/2023/01/Module-1-Understanding-Spiritual-Suffering-Flyer-UCC.pdf
END:VEVENT
BEGIN:VEVENT
DTSTART;TZID=America/Edmonton:20230307T103000
DTEND;TZID=America/Edmonton:20230307T120000
DTSTAMP:20260420T200743
CREATED:20230302T201509Z
LAST-MODIFIED:20230302T201509Z
UID:10000149-1678185000-1678190400@northernspiritrc.ca
SUMMARY:Earth Week 2023: Together for the Love of Creation Discussion
DESCRIPTION:During Earth Week 2023 (April 16–23)\, The United Church of Canada is joining with\nnumerous sibling denominations and faith-based organizations under one\nbanner\, Together for the Love of Creation. During Earth Week\, we invite you to hold\nevents to pray\, learn\, and act for climate justice. \nReady to take action? On Tuesday\, March 7\, 2023\, at 10:30 a.m. MT\, come learn more\, brainstorm possibilities\, and hear from Moderator Carmen Lansdowne at the Together for the Love of Creation Zoom session. \n*Please note that in the Northern Spirit Newsletter\, this event was incorrectly listed as taking place at 10:30 p.m.. This was a typo: the event is at 10:30 a.m. MT / 12:30 p.m. EST. \nClick here for more information about the Tuesday March 7th Discussion.  \nClick here for more information about Earth Week 2023\, Together for the Love of Creation!
URL:https://northernspiritrc.ca/event/earth-week-2023-together-for-the-love-of-creation-discussion/
LOCATION:Zoom
ATTACH;FMTTYPE=image/jpeg:https://northernspiritrc.ca/wp-content/uploads/2023/03/EarthWeekLogoEn-1.jpg
END:VEVENT
BEGIN:VEVENT
DTSTART;TZID=America/Edmonton:20230314T190000
DTEND;TZID=America/Edmonton:20230314T203000
DTSTAMP:20260420T200743
CREATED:20230228T171944Z
LAST-MODIFIED:20230228T171944Z
UID:10000148-1678820400-1678825800@northernspiritrc.ca
SUMMARY:GatheringWorship.ca Orientation
DESCRIPTION:The Reverend Susan Lukey\, B.Ed.\, M.Div.\, Th.M.\, is a mother\, educator\, editor\, and an ordained minister in The United Church of Canada. Currently\, she serves in full-time ministry with her husband and colleague\, The Reverend David Robertson\, at High River United Church\, High River\, Alberta.  She is also the editor of Gathering\, the United Church of Canada’s worship resource (in print and now also a website).  \nGathering is a resource by and for worship planners and leaders.  It is a gathering of worship gifts from the church for the church; gifts that come out of lived worship experience.  Gathering also shares with you the pulse of United Church worship practice and theology.    \nIn this session\, Susan is thrilled to introduce you to the GatheringWorship.ca website\, which was launched this past year.  She’ll take you on a tour through the website and show you all the tools it has to help you in your worship planning. Whether you are a current Gathering subscriber or if you haven’t subscribed to Gathering\, come and find out what this online extension of our print resource can offer to your congregation.  Bring your questions and your ideas\, and we’ll explore GatheringWorship.ca together. \nPlease contact the office at NorthernSpirit@united-church.ca for more information.
URL:https://northernspiritrc.ca/event/gatheringworship-ca-orientation/
LOCATION:Zoom\, Canada
ATTACH;FMTTYPE=image/png:https://northernspiritrc.ca/wp-content/uploads/2023/02/gathering-worship-logo.png
END:VEVENT
BEGIN:VEVENT
DTSTART;TZID=America/Edmonton:20230319T100000
DTEND;TZID=America/Edmonton:20230402T090000
DTSTAMP:20260420T200743
CREATED:20230308T182823Z
LAST-MODIFIED:20230328T200649Z
UID:10000150-1679220000-1680426000@northernspiritrc.ca
SUMMARY:Ottewell United Church Online Auction
DESCRIPTION:Online Auction To Support Ottewell United Church \nGreetings fellow auction enthusiasts! Our online auction will begin accepting bids on Sunday\, March 19 at 10:00 am. All bids must be submitted before closing on Sunday\, April 2 at 9:00 am.\nWe invite you to browse our auction catalogue and bid on a variety of items including Lego\, Family Passes\, Puzzles\, Homemade Items\, Assorted Baskets and more which have been generously donated by many local businesses and individuals. We thank them with gratitude. \nTo Access and View the Auction Website\nPlease go to charityauction.bid/ottewellchurch to register.\nOnly your name and email address are required.\nOnce registered\, you will receive more information regarding the bidding process. \nA few questions I have been asked\nHow do I pay for the item ?\nYou can pay by registering your credit card online or in person by cash or cheque within 1 week of the auction closing.\nHow will I get the item?\nYou can come to pick up your item(s) at the church on Wednesday\, April 5\, from 11:00 am to 2:00 pm or on Sunday\, April 9 following church at 11:15 am. If you are unable to pick up at these times\, contact us to discuss an alternate arrangement. \nContact Joan at tabakjoan1955@gmail.com 780 919-0242 or Becky at rlcharette@shaw.ca 780 235-1957 if you have any questions. Thank you for your interest and support. God Bless\, Joan and Becky
URL:https://northernspiritrc.ca/event/ottewell-united-church-online-auction-2/
LOCATION:Ottewell United Church\, 6611-93A Ave\, Edmonton\, AB\, Canada
CATEGORIES:Community events
ATTACH;FMTTYPE=image/jpeg:https://northernspiritrc.ca/wp-content/uploads/2023/03/andy-hermawan-uFdCDgnoNVI-unsplash-scaled.jpg
END:VEVENT
BEGIN:VEVENT
DTSTART;TZID=America/Edmonton:20230331T190000
DTEND;TZID=America/Edmonton:20230331T210000
DTSTAMP:20260420T200743
CREATED:20230313T181327Z
LAST-MODIFIED:20230313T181327Z
UID:10000152-1680289200-1680296400@northernspiritrc.ca
SUMMARY:Movie Night:  Dawn\, Her Dad and the Tractor
DESCRIPTION:In honour of International Transgender Day of Visibility\, we will be showing Dawn\, Her Dad and the Tractor\, a Canadian true story of love and transformation. \nThe funds giving us permission to show it go to DAWN\, a Halifax based group supporting transgender youth.\nFree will donations will be collected for an organization doing the same in our area. \nFriday\, March 31\, 2023 starting at 7 PM\nSt. David’s United Church\, Leduc\n4614-48 Street\nPopcorn will be provided!
URL:https://northernspiritrc.ca/event/movie-night-dawn-her-dad-and-the-tractor/
LOCATION:St. David’s United Church\, Leduc\, 4614 - 48 St.\, Leduc\, Alberta\, T9E 5X7\, Canada
CATEGORIES:Community events
ATTACH;FMTTYPE=image/jpeg:https://northernspiritrc.ca/wp-content/uploads/2023/02/timothy-eberly-dTLlhgeEJWg-unsplash-scaled.jpg
END:VEVENT
END:VCALENDAR