BEGIN:VCALENDAR
VERSION:2.0
PRODID:-//Northern Spirit Regional Council - ECPv6.15.20//NONSGML v1.0//EN
CALSCALE:GREGORIAN
METHOD:PUBLISH
X-ORIGINAL-URL:https://northernspiritrc.ca
X-WR-CALDESC:Events for Northern Spirit Regional Council
REFRESH-INTERVAL;VALUE=DURATION:PT1H
X-Robots-Tag:noindex
X-PUBLISHED-TTL:PT1H
BEGIN:VTIMEZONE
TZID:America/Edmonton
BEGIN:DAYLIGHT
TZOFFSETFROM:-0700
TZOFFSETTO:-0600
TZNAME:MDT
DTSTART:20220313T090000
END:DAYLIGHT
BEGIN:STANDARD
TZOFFSETFROM:-0600
TZOFFSETTO:-0700
TZNAME:MST
DTSTART:20221106T080000
END:STANDARD
BEGIN:DAYLIGHT
TZOFFSETFROM:-0700
TZOFFSETTO:-0600
TZNAME:MDT
DTSTART:20230312T090000
END:DAYLIGHT
BEGIN:STANDARD
TZOFFSETFROM:-0600
TZOFFSETTO:-0700
TZNAME:MST
DTSTART:20231105T080000
END:STANDARD
BEGIN:DAYLIGHT
TZOFFSETFROM:-0700
TZOFFSETTO:-0600
TZNAME:MDT
DTSTART:20240310T090000
END:DAYLIGHT
BEGIN:STANDARD
TZOFFSETFROM:-0600
TZOFFSETTO:-0700
TZNAME:MST
DTSTART:20241103T080000
END:STANDARD
END:VTIMEZONE
BEGIN:VEVENT
DTSTART;VALUE=DATE:20230203
DTEND;VALUE=DATE:20230207
DTSTAMP:20260420T230719
CREATED:20230103T215750Z
LAST-MODIFIED:20230103T215824Z
UID:10000135-1675386000-1675645199@northernspiritrc.ca
SUMMARY:Biblical Telling: A New Way Home
DESCRIPTION:Storytellers from across Canada\, India\, the USA\, and around the world gather to hone their bible telling skills and repertoire in a 2 ½-day Festival of Biblical Telling. \nWorkshops will cover a spectrum of topics: Biblical Telling 101\, an introduction to performance criticism\, biblical telling as a contemplative practice\, sharing the Bible with children\, starting small with little\, tiny tellings\, the ring shape found in biblical text\, Deaf signing our telling\, coaching from the world of drama on how to prepare a text\, the connection between paperless music leading and paperless biblical telling\, Godly Play\, and the role of story in Indigenous wisdom and community. \nYou can find out more about us and the festival here.
URL:https://northernspiritrc.ca/event/biblical-telling-a-new-way-home/
LOCATION:Zoom
CATEGORIES:Community events
ATTACH;FMTTYPE=image/png:https://northernspiritrc.ca/wp-content/uploads/2023/01/NBSC.png
ORGANIZER;CN="Network of Biblical Storytellers Canada":MAILTO:NBSCanada@outlook.com
END:VEVENT
BEGIN:VEVENT
DTSTART;TZID=America/Edmonton:20230203T090000
DTEND;TZID=America/Edmonton:20230203T130000
DTSTAMP:20260420T230719
CREATED:20230111T222724Z
LAST-MODIFIED:20230124T214036Z
UID:10000136-1675414800-1675429200@northernspiritrc.ca
SUMMARY:Lighten Up: A Candlemas Contemplation
DESCRIPTION:“Lighten Up: A Candlemas Contemplation” … a Contemplative Gathering co-sponsored by St. Andrew’s College and the Living Skies Regional Council. Join us at either 10 am or 2 pm (Sask Time) on Friday Feb 3  for this hour-long contemplative pause as the light slowly returns. \nClick here to register.\nFor more information\, please be in touch with Dr. Bernon Lee\, at bernon.lee@saskatoontheologicalunion.ca
URL:https://northernspiritrc.ca/event/lighten-up-a-candlemas-contemplation/
LOCATION:Zoom
CATEGORIES:Community events
END:VEVENT
BEGIN:VEVENT
DTSTART;TZID=America/Edmonton:20230206T060000
DTEND;TZID=America/Edmonton:20230206T080000
DTSTAMP:20260420T230719
CREATED:20230203T181736Z
LAST-MODIFIED:20230203T181736Z
UID:10000142-1675663200-1675670400@northernspiritrc.ca
SUMMARY:Memorial Service for Omega Chilufya Bula
DESCRIPTION:Memorial Service for Omega Chilufya Bula: Monday February 6th 2023 at 8 AM EST (6 AM Mountain Time). \nA great Tree has fallen\n   – (African proverb)   \nIt is with broken hearts that people of The United Church of Canada mourn the passing of Omega Chilufya Bula\, Beloved Justice Leader\, Sister\, Elder\, Pioneer\, Mentor\, Friend and Colleague. Omega passed away in Lusaka\, Zambia on January 31 2023. Her son Mwai Bula shared the sad news that Omega passed away from heart complications after a long battle with cancer. \nOmega leaves an incomparable legacy of ecumenical leadership in the struggle for racial\, gender\, economic and social justice in her home country of Zambia\, across the African continent\, in The United Church of Canada\, and globally. She served in the General Council Offices in the Division of World Outreach as Area Secretary for Southern Africa and Gender Justice\, as the first-ever Racial Justice Minister\, and as Executive Minister of the former Justice\, Global and Ecumenical Relations (JGER) and Partners in Mission Units (PIM). Her commitment to partnership led to the formation of the Partner Council\, and was instrumental in shaping the Principles of Global Partnership that guide the global partnership program of The United Church of Canada today. \nThe global ecumenical movement has lost one of its greatest leaders\, and Omega will be deeply missed. \n“Well done\, good and faithful servant”.   \n(In Bemba):  Ichibote cha kwa Lesa chende naimwe (God’s peace go with you)  \n  \nThe United Church of Canada is hosting an online space on Zoom on Monday\, February 6th 2023 at 8 AM ET. where those who knew Omega Bula can gather to pray\, to remember her\, and to sing her soul to rest with God. Please join us. The Zoom link can be found on this page.  \nWe ask for your help to share this email with those whom you know of who would wish to join the online memorial who may not be aware of the online gathering. \n♥
URL:https://northernspiritrc.ca/event/memorial-service-for-omega-chilufya-bula/
LOCATION:Zoom\, Canada
CATEGORIES:Regional event
ATTACH;FMTTYPE=image/png:https://northernspiritrc.ca/wp-content/uploads/2023/02/omega.png
END:VEVENT
BEGIN:VEVENT
DTSTART;TZID=America/Edmonton:20230211T110000
DTEND;TZID=America/Edmonton:20230211T160000
DTSTAMP:20260420T230719
CREATED:20230203T172431Z
LAST-MODIFIED:20230203T172847Z
UID:10000141-1676113200-1676131200@northernspiritrc.ca
SUMMARY:Valentine’s Art Show and Tea @ Spirit of Hope United Church
DESCRIPTION:Join us for a delightful afternoon of tea\, fellowship and art! \nDate: February 11\, 2023 – 11:00 a.m. to 4:00 p.m.\nLocation: Spirit of Hope United Church (7909 82 Avenue NW\, Edmonton\, Alberta T6C 0Y1) \nRelax and enjoy a cup of tea while admiring artwork by local artists and connecting with others in the community. \nDon’t miss out on this chance to connect and be inspired. We look forward to seeing you there! \nFor more information\, contact the Spirit of Hope United Church office at 780.468.1418 or officeadmin@spiritofhope.ca
URL:https://northernspiritrc.ca/event/valentines-art-show-and-tea-spirit-of-hope-united-church/
LOCATION:Spirit of Hope United Church\, 7909 82 Ave NW\, Edmonton\, AB\, Canada
CATEGORIES:Community events
ORGANIZER;CN="Spirit of Hope United Church":MAILTO:officeadmin@spiritofhope.ca
END:VEVENT
BEGIN:VEVENT
DTSTART;TZID=America/Edmonton:20230211T130000
DTEND;TZID=America/Edmonton:20230211T170000
DTSTAMP:20260420T230719
CREATED:20230117T222207Z
LAST-MODIFIED:20230124T213755Z
UID:10000138-1676120400-1676134800@northernspiritrc.ca
SUMMARY:Mill Woods Previously Loved Jewelry and Scarves Fundraiser
DESCRIPTION:SAVE THE DATE ! \nSaturday February 11\, 1:00 – 5:00 PM.  \nCome\, bring a friend for coffee\, browse\, or shop!! \nCASH ONLY \nMill Woods United Church  \n15 Grand Meadow Crescent  \n(780)463 2202
URL:https://northernspiritrc.ca/event/mill-woods-previously-loved-jewelry-and-scarves-fundraiser/
LOCATION:Mill Woods United Church\, 15 Grand Meadow Cres\, Edmonton\, AB\, T6L 1A1\, Canada
CATEGORIES:Community events
END:VEVENT
BEGIN:VEVENT
DTSTART;TZID=America/Edmonton:20230212T143000
DTEND;TZID=America/Edmonton:20230212T163000
DTSTAMP:20260420T230719
CREATED:20230203T214403Z
LAST-MODIFIED:20230203T214403Z
UID:10000143-1676212200-1676219400@northernspiritrc.ca
SUMMARY:Covenanting: Sherwood Park United Church
DESCRIPTION:Sherwood Park United Church invites you to join them in celebrating their Covenanting with Rev. Marlene Salmonson on Sunday\, February 12th\, at 2:30 p.m..
URL:https://northernspiritrc.ca/event/covenanting-sherwood-park-united-church/
LOCATION:Sherwood Park United Church\, 20 Fir St\, Sherwood Park\, Alberta\, T8A 1Z6\, Canada
CATEGORIES:Community events
ATTACH;FMTTYPE=image/jpeg:https://northernspiritrc.ca/wp-content/uploads/2023/02/ali-kokab-lhyzTHwXS9o-unsplash-scaled.jpg
END:VEVENT
BEGIN:VEVENT
DTSTART;TZID=America/Edmonton:20230215T180000
DTEND;TZID=America/Edmonton:20230215T193000
DTSTAMP:20260420T230719
CREATED:20230124T215105Z
LAST-MODIFIED:20230124T215105Z
UID:10000139-1676484000-1676489400@northernspiritrc.ca
SUMMARY:United Against Hate public forum for faith communities
DESCRIPTION:United Against Hate: faithfully responding to anti-2SLGBTQ+ actions\, Wednesday\, February 15\, 6:00pm MT\, 7:00pm Central. Join Affirm United/ S’affirmer Ensemble\, Alberta’s Affirming Connections\, and United in Learning to learn about the malicious misinformation campaign and threats that have been launched against the drag and 2SLGBTQ+ communities across Canada-and what you and your faith community can do. Registration and details are here.
URL:https://northernspiritrc.ca/event/united-against-hate-public-forum-for-faith-communities/
LOCATION:Zoom
CATEGORIES:LGBTQIA2S+,Regional event
ATTACH;FMTTYPE=image/jpeg:https://northernspiritrc.ca/wp-content/uploads/2023/01/UnitedAgainstHate-15Feb2023-LandscapePoster.jpg
END:VEVENT
BEGIN:VEVENT
DTSTART;TZID=America/Edmonton:20230226T103000
DTEND;TZID=America/Edmonton:20230226T130000
DTSTAMP:20260420T230719
CREATED:20230221T215425Z
LAST-MODIFIED:20230221T215425Z
UID:10000146-1677407400-1677416400@northernspiritrc.ca
SUMMARY:"I Can't Breathe": Black History Month film screening
DESCRIPTION:“I Can’t Breathe” honours Black History Month at McDougall United Church\, Edmonton – Sunday\, February 26\, 10:30 am.    \nRed Deer film maker Love Nwigwe shares true stories of racial discrimination faced by Black people living in Canada.  The film features a Red Deer family whose members are grappling with what can and must be done to put an end to the prejudice and harm that many in their community endure.  There will be a Q & A with the film maker following the service – and a pancake lunch!  Our address is 10025 – 101 Street\, Edmonton\, phone 780-428-1818 or email info@mcdougallunited.com
URL:https://northernspiritrc.ca/event/i-cant-breathe-black-history-month-film-screening/
LOCATION:McDougall United Church\, 10025 101 Street\, Edmonton\, Alberta\, T5J 2B7\, Canada
CATEGORIES:Community events
ATTACH;FMTTYPE=image/jpeg:https://northernspiritrc.ca/wp-content/uploads/2023/02/timothy-eberly-dTLlhgeEJWg-unsplash-scaled.jpg
ORGANIZER;CN="McDougall United Church":MAILTO:info@mcdougallunited.com
END:VEVENT
END:VCALENDAR