BEGIN:VCALENDAR
VERSION:2.0
PRODID:-//Northern Spirit Regional Council - ECPv6.15.20//NONSGML v1.0//EN
CALSCALE:GREGORIAN
METHOD:PUBLISH
X-ORIGINAL-URL:https://northernspiritrc.ca
X-WR-CALDESC:Events for Northern Spirit Regional Council
REFRESH-INTERVAL;VALUE=DURATION:PT1H
X-Robots-Tag:noindex
X-PUBLISHED-TTL:PT1H
BEGIN:VTIMEZONE
TZID:America/Edmonton
BEGIN:DAYLIGHT
TZOFFSETFROM:-0700
TZOFFSETTO:-0600
TZNAME:MDT
DTSTART:20220313T090000
END:DAYLIGHT
BEGIN:STANDARD
TZOFFSETFROM:-0600
TZOFFSETTO:-0700
TZNAME:MST
DTSTART:20221106T080000
END:STANDARD
BEGIN:DAYLIGHT
TZOFFSETFROM:-0700
TZOFFSETTO:-0600
TZNAME:MDT
DTSTART:20230312T090000
END:DAYLIGHT
BEGIN:STANDARD
TZOFFSETFROM:-0600
TZOFFSETTO:-0700
TZNAME:MST
DTSTART:20231105T080000
END:STANDARD
BEGIN:DAYLIGHT
TZOFFSETFROM:-0700
TZOFFSETTO:-0600
TZNAME:MDT
DTSTART:20240310T090000
END:DAYLIGHT
BEGIN:STANDARD
TZOFFSETFROM:-0600
TZOFFSETTO:-0700
TZNAME:MST
DTSTART:20241103T080000
END:STANDARD
END:VTIMEZONE
BEGIN:VEVENT
DTSTART;TZID=America/Edmonton:20230105T190000
DTEND;TZID=America/Edmonton:20230105T210000
DTSTAMP:20260420T231212
CREATED:20221024T181832Z
LAST-MODIFIED:20221024T181900Z
UID:10000121-1672945200-1672952400@northernspiritrc.ca
SUMMARY:Night: an exploration series
DESCRIPTION:This 6 part contemplative spirituality series will invite us to explore and embrace the theme of ‘Night’. We’ll explore and dig deeper into the meaning of celestial bodies\, northern lights\, nocturnal animals\, and solstice and more! November 16 – December 21\, 2022. 7:00pm -9:30pm MST on zoom. Cost: $88.00. Register at https://www.emberwood.ca/stillpoint/night \nEmberwood is a project of Spiritual Seekers United in Community\, affiliated with the United Church.
URL:https://northernspiritrc.ca/event/night/2023-01-05/
LOCATION:Zoom
CATEGORIES:Community events,LGBTQIA2S+,Youth and young adult
ATTACH;FMTTYPE=image/jpeg:https://northernspiritrc.ca/wp-content/uploads/2022/10/unnamed.jpg
ORGANIZER;CN="Emberwood":MAILTO:emberwood.nature@gmail.com
END:VEVENT
BEGIN:VEVENT
DTSTART;TZID=America/Edmonton:20230112T190000
DTEND;TZID=America/Edmonton:20230112T210000
DTSTAMP:20260420T231212
CREATED:20221024T181832Z
LAST-MODIFIED:20221024T181900Z
UID:10000122-1673550000-1673557200@northernspiritrc.ca
SUMMARY:Night: an exploration series
DESCRIPTION:This 6 part contemplative spirituality series will invite us to explore and embrace the theme of ‘Night’. We’ll explore and dig deeper into the meaning of celestial bodies\, northern lights\, nocturnal animals\, and solstice and more! November 16 – December 21\, 2022. 7:00pm -9:30pm MST on zoom. Cost: $88.00. Register at https://www.emberwood.ca/stillpoint/night \nEmberwood is a project of Spiritual Seekers United in Community\, affiliated with the United Church.
URL:https://northernspiritrc.ca/event/night/2023-01-12/
LOCATION:Zoom
CATEGORIES:Community events,LGBTQIA2S+,Youth and young adult
ATTACH;FMTTYPE=image/jpeg:https://northernspiritrc.ca/wp-content/uploads/2022/10/unnamed.jpg
ORGANIZER;CN="Emberwood":MAILTO:emberwood.nature@gmail.com
END:VEVENT
END:VCALENDAR