BEGIN:VCALENDAR
VERSION:2.0
PRODID:-//Northern Spirit Regional Council - ECPv6.15.20//NONSGML v1.0//EN
CALSCALE:GREGORIAN
METHOD:PUBLISH
X-WR-CALNAME:Northern Spirit Regional Council
X-ORIGINAL-URL:https://northernspiritrc.ca
X-WR-CALDESC:Events for Northern Spirit Regional Council
REFRESH-INTERVAL;VALUE=DURATION:PT1H
X-Robots-Tag:noindex
X-PUBLISHED-TTL:PT1H
BEGIN:VTIMEZONE
TZID:America/Edmonton
BEGIN:DAYLIGHT
TZOFFSETFROM:-0700
TZOFFSETTO:-0600
TZNAME:MDT
DTSTART:20210314T090000
END:DAYLIGHT
BEGIN:STANDARD
TZOFFSETFROM:-0600
TZOFFSETTO:-0700
TZNAME:MST
DTSTART:20211107T080000
END:STANDARD
BEGIN:DAYLIGHT
TZOFFSETFROM:-0700
TZOFFSETTO:-0600
TZNAME:MDT
DTSTART:20220313T090000
END:DAYLIGHT
BEGIN:STANDARD
TZOFFSETFROM:-0600
TZOFFSETTO:-0700
TZNAME:MST
DTSTART:20221106T080000
END:STANDARD
BEGIN:DAYLIGHT
TZOFFSETFROM:-0700
TZOFFSETTO:-0600
TZNAME:MDT
DTSTART:20230312T090000
END:DAYLIGHT
BEGIN:STANDARD
TZOFFSETFROM:-0600
TZOFFSETTO:-0700
TZNAME:MST
DTSTART:20231105T080000
END:STANDARD
END:VTIMEZONE
BEGIN:VEVENT
DTSTART;VALUE=DATE:20220909
DTEND;VALUE=DATE:20221210
DTSTAMP:20260421T020754
CREATED:20220725T161836Z
LAST-MODIFIED:20220823T180027Z
UID:10000011-1662681600-1670630399@northernspiritrc.ca
SUMMARY:St. Andrew's College 3rd #NoGalaGala
DESCRIPTION:Coming this fall! St. Andrew’s College third annual NoGalaGala\, featuring Brenda Baker on Faith\, Folk\, and Feminism.\nThis is going to be an amazing event\, filled with musical performances and thought-provoking conversations … not to be missed! Get more information and your $30 tickets here\, for digital release on September 9.\nAs a registrant for this fundraiser\, you will be able to access this content exclusively on YouTube for six months following the release of the event. You can choose to watch on your own\, or organize an evening with family\, friends and/or congregants.\nYour support for the college is appreciated\, as is your ongoing trust to help St. Andrew’s prepare disciples called to go out into the world boldly and humbly.
URL:https://northernspiritrc.ca/event/st-andrews-college-3rd-nogalagala/
LOCATION:AB
CATEGORIES:Ecumenical Partners,Events,Regional Council,Regional event
END:VEVENT
BEGIN:VEVENT
DTSTART;TZID=America/Edmonton:20221201T190000
DTEND;TZID=America/Edmonton:20221201T210000
DTSTAMP:20260421T020754
CREATED:20221024T181832Z
LAST-MODIFIED:20221024T181900Z
UID:10000116-1669921200-1669928400@northernspiritrc.ca
SUMMARY:Night: an exploration series
DESCRIPTION:This 6 part contemplative spirituality series will invite us to explore and embrace the theme of ‘Night’. We’ll explore and dig deeper into the meaning of celestial bodies\, northern lights\, nocturnal animals\, and solstice and more! November 16 – December 21\, 2022. 7:00pm -9:30pm MST on zoom. Cost: $88.00. Register at https://www.emberwood.ca/stillpoint/night \nEmberwood is a project of Spiritual Seekers United in Community\, affiliated with the United Church.
URL:https://northernspiritrc.ca/event/night/2022-12-01/
LOCATION:Zoom
CATEGORIES:Community events,LGBTQIA2S+,Youth and young adult
ATTACH;FMTTYPE=image/jpeg:https://northernspiritrc.ca/wp-content/uploads/2022/10/unnamed.jpg
ORGANIZER;CN="Emberwood":MAILTO:emberwood.nature@gmail.com
END:VEVENT
BEGIN:VEVENT
DTSTART;TZID=America/Edmonton:20221203T100000
DTEND;TZID=America/Edmonton:20221203T160000
DTSTAMP:20260421T020754
CREATED:20221124T163038Z
LAST-MODIFIED:20221124T184945Z
UID:10000021-1670061600-1670083200@northernspiritrc.ca
SUMMARY:Mill Woods United Church Christmas Craft Market
DESCRIPTION:December 03 from 10-4pm \nThe Christmas Market has been happening for over two decades. We have a variety of vendors selling items from handmade products to commercial vendors such as Norwex and Epicure on both floors of our church. There is usually a hot lunch with soup put together by our Heavenly Hospitality group for purchase at the downstairs concession on the date of the sale. Entry to our sale is by donation. This fundraiser supports the life and work of our church in the community of Mill Woods.
URL:https://northernspiritrc.ca/event/mill-woods-united-church-christmas-craft-market/
LOCATION:Mill Woods United Church\, 15 Grand Meadow Cres\, Edmonton\, AB\, T6L 1A1\, Canada
CATEGORIES:Community events
ATTACH;FMTTYPE=image/jpeg:https://northernspiritrc.ca/wp-content/uploads/2022/11/2022.jpg
END:VEVENT
BEGIN:VEVENT
DTSTART;TZID=America/Edmonton:20221206T130000
DTEND;TZID=America/Edmonton:20221206T143000
DTSTAMP:20260421T020754
CREATED:20221206T182131Z
LAST-MODIFIED:20221206T182131Z
UID:10000131-1670331600-1670337000@northernspiritrc.ca
SUMMARY:Weekly ministry personnel gatherings 
DESCRIPTION:All Ministry Personnel are invited to join colleagues every Tuesday at 1pm over Zoom for conversation\, support and information sharing. Vocational Minister\, Laura Fouhse\, will be hosting the gatherings while Earl is away.  NOTE:  we will not meet on December 27th. Join the Zoom meeting at: \nJoin the Zoom meeting at: https://united-church.zoom.us/j/87847286336?pwd=Si9rbzJYWjlJS0lKSnhPeDN1T05vdz09
URL:https://northernspiritrc.ca/event/weekly-ministry-personnel-gatherings/2022-12-06/
LOCATION:Zoom
CATEGORIES:Regional event
ATTACH;FMTTYPE=image/png:https://northernspiritrc.ca/wp-content/uploads/2021/09/hand-in-front-of-sunset-600x400-1.png
END:VEVENT
BEGIN:VEVENT
DTSTART;TZID=America/Edmonton:20221207T130000
DTEND;TZID=America/Edmonton:20221207T143000
DTSTAMP:20260421T020754
CREATED:20221125T162801Z
LAST-MODIFIED:20221125T162801Z
UID:10000023-1670418000-1670423400@northernspiritrc.ca
SUMMARY:Ministry Personnel Lunch
DESCRIPTION:Please join your colleagues for an informal clergy lunch on Wednesday\, December 7\, 2022 at the Muttart Conservatory in Edmonton. Please RSVP:  catherine@stpaulsunited.org.
URL:https://northernspiritrc.ca/event/ministry-personnel-lunch/
LOCATION:Muttart Conservatory\, 9626 96a St NW\, Edmonton\, Alberta\, T6C 4L8\, Canada
CATEGORIES:Events
ATTACH;FMTTYPE=image/jpeg:https://northernspiritrc.ca/wp-content/uploads/2022/11/muttart.jpg
END:VEVENT
BEGIN:VEVENT
DTSTART;TZID=America/Edmonton:20221207T190000
DTEND;TZID=America/Edmonton:20221207T210000
DTSTAMP:20260421T020754
CREATED:20221201T161146Z
LAST-MODIFIED:20221201T161146Z
UID:10000024-1670439600-1670446800@northernspiritrc.ca
SUMMARY:Talking Hands Spirited Arts Writing Workshop
DESCRIPTION:Wednesday December 7\, 7:00 to 9:00 pm\, in the Club Room at Robertson-Wesley 10209 123 st. \nThis workshop will use simple hand gestures as our starting point to explore past and present together and to create written conversations\, stories\, poems\, or other language pieces.
URL:https://northernspiritrc.ca/event/talking-hands-spirited-arts-writing-workshop/
LOCATION:Robertson-Wesley United Church\, 10209 123 st\, Edmonton\, Alberta\, T5N 1N3\, Canada
CATEGORIES:Community events
ATTACH;FMTTYPE=image/png:https://northernspiritrc.ca/wp-content/uploads/2022/12/talking-hands-1280-×-720-px-1.png
END:VEVENT
BEGIN:VEVENT
DTSTART;TZID=America/Edmonton:20221208T190000
DTEND;TZID=America/Edmonton:20221208T210000
DTSTAMP:20260421T020754
CREATED:20221024T181832Z
LAST-MODIFIED:20221024T181900Z
UID:10000117-1670526000-1670533200@northernspiritrc.ca
SUMMARY:Night: an exploration series
DESCRIPTION:This 6 part contemplative spirituality series will invite us to explore and embrace the theme of ‘Night’. We’ll explore and dig deeper into the meaning of celestial bodies\, northern lights\, nocturnal animals\, and solstice and more! November 16 – December 21\, 2022. 7:00pm -9:30pm MST on zoom. Cost: $88.00. Register at https://www.emberwood.ca/stillpoint/night \nEmberwood is a project of Spiritual Seekers United in Community\, affiliated with the United Church.
URL:https://northernspiritrc.ca/event/night/2022-12-08/
LOCATION:Zoom
CATEGORIES:Community events,LGBTQIA2S+,Youth and young adult
ATTACH;FMTTYPE=image/jpeg:https://northernspiritrc.ca/wp-content/uploads/2022/10/unnamed.jpg
ORGANIZER;CN="Emberwood":MAILTO:emberwood.nature@gmail.com
END:VEVENT
BEGIN:VEVENT
DTSTART;TZID=America/Edmonton:20221211T160000
DTEND;TZID=America/Edmonton:20221211T170000
DTSTAMP:20260421T020754
CREATED:20221201T161525Z
LAST-MODIFIED:20221201T161525Z
UID:10000130-1670774400-1670778000@northernspiritrc.ca
SUMMARY:A Service of Lessons & Carols
DESCRIPTION:December 11 at 4:00 pm at Robertson-Wesley 10209 123 st. \nThis gentle candlelight service is a classic tradition\, with a series of scripture readings that take us through the story of God’s promise\, Israel’s longing and waiting\, and the fulfilment of the promise in the birth of Christ. In person and online: please click here.
URL:https://northernspiritrc.ca/event/a-service-of-lessons-carols/
LOCATION:Robertson-Wesley United Church\, 10209 123 st\, Edmonton\, Alberta\, T5N 1N3\, Canada
CATEGORIES:Community events
ATTACH;FMTTYPE=image/png:https://northernspiritrc.ca/wp-content/uploads/2022/12/Lessons-1280-×-720-px.png
ORGANIZER;CN="Robertson-Wesley United Church":MAILTO:mail@rwuc.org
END:VEVENT
BEGIN:VEVENT
DTSTART;TZID=America/Edmonton:20221213T130000
DTEND;TZID=America/Edmonton:20221213T143000
DTSTAMP:20260421T020754
CREATED:20221206T182131Z
LAST-MODIFIED:20221206T182131Z
UID:10000132-1670936400-1670941800@northernspiritrc.ca
SUMMARY:Weekly ministry personnel gatherings 
DESCRIPTION:All Ministry Personnel are invited to join colleagues every Tuesday at 1pm over Zoom for conversation\, support and information sharing. Vocational Minister\, Laura Fouhse\, will be hosting the gatherings while Earl is away.  NOTE:  we will not meet on December 27th. Join the Zoom meeting at: \nJoin the Zoom meeting at: https://united-church.zoom.us/j/87847286336?pwd=Si9rbzJYWjlJS0lKSnhPeDN1T05vdz09
URL:https://northernspiritrc.ca/event/weekly-ministry-personnel-gatherings/2022-12-13/
LOCATION:Zoom
CATEGORIES:Regional event
ATTACH;FMTTYPE=image/png:https://northernspiritrc.ca/wp-content/uploads/2021/09/hand-in-front-of-sunset-600x400-1.png
END:VEVENT
BEGIN:VEVENT
DTSTART;TZID=America/Edmonton:20221215T190000
DTEND;TZID=America/Edmonton:20221215T210000
DTSTAMP:20260421T020754
CREATED:20221024T181832Z
LAST-MODIFIED:20221024T181900Z
UID:10000118-1671130800-1671138000@northernspiritrc.ca
SUMMARY:Night: an exploration series
DESCRIPTION:This 6 part contemplative spirituality series will invite us to explore and embrace the theme of ‘Night’. We’ll explore and dig deeper into the meaning of celestial bodies\, northern lights\, nocturnal animals\, and solstice and more! November 16 – December 21\, 2022. 7:00pm -9:30pm MST on zoom. Cost: $88.00. Register at https://www.emberwood.ca/stillpoint/night \nEmberwood is a project of Spiritual Seekers United in Community\, affiliated with the United Church.
URL:https://northernspiritrc.ca/event/night/2022-12-15/
LOCATION:Zoom
CATEGORIES:Community events,LGBTQIA2S+,Youth and young adult
ATTACH;FMTTYPE=image/jpeg:https://northernspiritrc.ca/wp-content/uploads/2022/10/unnamed.jpg
ORGANIZER;CN="Emberwood":MAILTO:emberwood.nature@gmail.com
END:VEVENT
BEGIN:VEVENT
DTSTART;TZID=America/Edmonton:20221218T190000
DTEND;TZID=America/Edmonton:20221218T200000
DTSTAMP:20260421T020754
CREATED:20221201T161358Z
LAST-MODIFIED:20221201T161358Z
UID:10000129-1671390000-1671393600@northernspiritrc.ca
SUMMARY:Blue Christmas
DESCRIPTION:December 18 at 7:00 pm at Robertson-Wesley 10209 123 st. \nChristmas is a holy time that is not always happy. It brings up so many memories that can heighten our feelings of grief or sadness\, pain or loneliness. This is a service of quiet reflection\, remembrance and peace. We hope that this service will bring a sense of peace in this sacred season with quiet music\, scripture\, silence and candle light. Everyone is welcome. In person and online: please click here.
URL:https://northernspiritrc.ca/event/blue-christmas/
LOCATION:Robertson-Wesley United Church\, 10209 123 st\, Edmonton\, Alberta\, T5N 1N3\, Canada
CATEGORIES:Community events
ATTACH;FMTTYPE=image/png:https://northernspiritrc.ca/wp-content/uploads/2022/12/Blue-1280-×-720-px.png
ORGANIZER;CN="Robertson-Wesley United Church":MAILTO:mail@rwuc.org
END:VEVENT
BEGIN:VEVENT
DTSTART;TZID=America/Edmonton:20221218T190000
DTEND;TZID=America/Edmonton:20221218T210000
DTSTAMP:20260421T020754
CREATED:20221209T195730Z
LAST-MODIFIED:20221209T195730Z
UID:10000134-1671390000-1671397200@northernspiritrc.ca
SUMMARY:Deep Winter Song
DESCRIPTION:Deep Winter Song Winter Solstice celebration\, December 18\, 2022\, at 7pm MST\, live at Southminster-Steinhauer United Church\, 10740 19 Ave NW\, Edmonton\, AB. \nTraditional and modern songs of winter\, inspiring stories & poetry\, angelic voices\, delightful and mystical moods\, beautiful projections\, a time of Sacred Sound Journey\, and a Solstice Fire Ritual.
URL:https://northernspiritrc.ca/event/deep-winter-song/
LOCATION:Southminster-Steinhauer United Church\, 10740-19 Ave NW\, Edmonton\, AB\, T6J 6W9
CATEGORIES:Community events
END:VEVENT
BEGIN:VEVENT
DTSTART;TZID=America/Edmonton:20221220T130000
DTEND;TZID=America/Edmonton:20221220T143000
DTSTAMP:20260421T020754
CREATED:20221206T182131Z
LAST-MODIFIED:20221206T182131Z
UID:10000133-1671541200-1671546600@northernspiritrc.ca
SUMMARY:Weekly ministry personnel gatherings 
DESCRIPTION:All Ministry Personnel are invited to join colleagues every Tuesday at 1pm over Zoom for conversation\, support and information sharing. Vocational Minister\, Laura Fouhse\, will be hosting the gatherings while Earl is away.  NOTE:  we will not meet on December 27th. Join the Zoom meeting at: \nJoin the Zoom meeting at: https://united-church.zoom.us/j/87847286336?pwd=Si9rbzJYWjlJS0lKSnhPeDN1T05vdz09
URL:https://northernspiritrc.ca/event/weekly-ministry-personnel-gatherings/2022-12-20/
LOCATION:Zoom
CATEGORIES:Regional event
ATTACH;FMTTYPE=image/png:https://northernspiritrc.ca/wp-content/uploads/2021/09/hand-in-front-of-sunset-600x400-1.png
END:VEVENT
BEGIN:VEVENT
DTSTART;TZID=America/Edmonton:20221222T190000
DTEND;TZID=America/Edmonton:20221222T210000
DTSTAMP:20260421T020754
CREATED:20221024T181832Z
LAST-MODIFIED:20221024T181900Z
UID:10000119-1671735600-1671742800@northernspiritrc.ca
SUMMARY:Night: an exploration series
DESCRIPTION:This 6 part contemplative spirituality series will invite us to explore and embrace the theme of ‘Night’. We’ll explore and dig deeper into the meaning of celestial bodies\, northern lights\, nocturnal animals\, and solstice and more! November 16 – December 21\, 2022. 7:00pm -9:30pm MST on zoom. Cost: $88.00. Register at https://www.emberwood.ca/stillpoint/night \nEmberwood is a project of Spiritual Seekers United in Community\, affiliated with the United Church.
URL:https://northernspiritrc.ca/event/night/2022-12-22/
LOCATION:Zoom
CATEGORIES:Community events,LGBTQIA2S+,Youth and young adult
ATTACH;FMTTYPE=image/jpeg:https://northernspiritrc.ca/wp-content/uploads/2022/10/unnamed.jpg
ORGANIZER;CN="Emberwood":MAILTO:emberwood.nature@gmail.com
END:VEVENT
BEGIN:VEVENT
DTSTART;TZID=America/Edmonton:20221229T190000
DTEND;TZID=America/Edmonton:20221229T210000
DTSTAMP:20260421T020754
CREATED:20221024T181832Z
LAST-MODIFIED:20221024T181900Z
UID:10000120-1672340400-1672347600@northernspiritrc.ca
SUMMARY:Night: an exploration series
DESCRIPTION:This 6 part contemplative spirituality series will invite us to explore and embrace the theme of ‘Night’. We’ll explore and dig deeper into the meaning of celestial bodies\, northern lights\, nocturnal animals\, and solstice and more! November 16 – December 21\, 2022. 7:00pm -9:30pm MST on zoom. Cost: $88.00. Register at https://www.emberwood.ca/stillpoint/night \nEmberwood is a project of Spiritual Seekers United in Community\, affiliated with the United Church.
URL:https://northernspiritrc.ca/event/night/2022-12-29/
LOCATION:Zoom
CATEGORIES:Community events,LGBTQIA2S+,Youth and young adult
ATTACH;FMTTYPE=image/jpeg:https://northernspiritrc.ca/wp-content/uploads/2022/10/unnamed.jpg
ORGANIZER;CN="Emberwood":MAILTO:emberwood.nature@gmail.com
END:VEVENT
END:VCALENDAR