BEGIN:VCALENDAR
VERSION:2.0
PRODID:-//Northern Spirit Regional Council - ECPv6.15.20//NONSGML v1.0//EN
CALSCALE:GREGORIAN
METHOD:PUBLISH
X-ORIGINAL-URL:https://northernspiritrc.ca
X-WR-CALDESC:Events for Northern Spirit Regional Council
REFRESH-INTERVAL;VALUE=DURATION:PT1H
X-Robots-Tag:noindex
X-PUBLISHED-TTL:PT1H
BEGIN:VTIMEZONE
TZID:America/Edmonton
BEGIN:DAYLIGHT
TZOFFSETFROM:-0700
TZOFFSETTO:-0600
TZNAME:MDT
DTSTART:20210314T090000
END:DAYLIGHT
BEGIN:STANDARD
TZOFFSETFROM:-0600
TZOFFSETTO:-0700
TZNAME:MST
DTSTART:20211107T080000
END:STANDARD
BEGIN:DAYLIGHT
TZOFFSETFROM:-0700
TZOFFSETTO:-0600
TZNAME:MDT
DTSTART:20220313T090000
END:DAYLIGHT
BEGIN:STANDARD
TZOFFSETFROM:-0600
TZOFFSETTO:-0700
TZNAME:MST
DTSTART:20221106T080000
END:STANDARD
BEGIN:DAYLIGHT
TZOFFSETFROM:-0700
TZOFFSETTO:-0600
TZNAME:MDT
DTSTART:20230312T090000
END:DAYLIGHT
BEGIN:STANDARD
TZOFFSETFROM:-0600
TZOFFSETTO:-0700
TZNAME:MST
DTSTART:20231105T080000
END:STANDARD
END:VTIMEZONE
BEGIN:VEVENT
DTSTART;TZID=America/Edmonton:20220527T080000
DTEND;TZID=America/Edmonton:20220527T170000
DTSTAMP:20260421T144324
CREATED:20220805T183000Z
LAST-MODIFIED:20220805T183000Z
UID:10000013-1653638400-1653670800@northernspiritrc.ca
SUMMARY:Pride Service and Picnic
DESCRIPTION:Garneau United Church invites you don your rainbow colours and celebrate Pride Month. \nOn Sunday June 12\, we will host our Pride Service. After service we invite you to stay for fun\, games\, lunch and fellowship! The church school kids are busy planning decor and activities so we hope you will join us.
URL:https://northernspiritrc.ca/event/pride-service-and-picnic/
LOCATION:Garneau United Church\, 11148 84 Ave NW\, Edmonton\, AB\, T6G 0V8\, Canada
CATEGORIES:Community events,Intercultural,LGBTQIA2S+
ORGANIZER;CN="Garneau United Church":MAILTO:garneauuc@shaw.ca
END:VEVENT
END:VCALENDAR