BEGIN:VCALENDAR
VERSION:2.0
PRODID:-//Northern Spirit Regional Council - ECPv6.15.20//NONSGML v1.0//EN
CALSCALE:GREGORIAN
METHOD:PUBLISH
X-WR-CALNAME:Northern Spirit Regional Council
X-ORIGINAL-URL:https://northernspiritrc.ca
X-WR-CALDESC:Events for Northern Spirit Regional Council
REFRESH-INTERVAL;VALUE=DURATION:PT1H
X-Robots-Tag:noindex
X-PUBLISHED-TTL:PT1H
BEGIN:VTIMEZONE
TZID:America/Edmonton
BEGIN:DAYLIGHT
TZOFFSETFROM:-0700
TZOFFSETTO:-0600
TZNAME:MDT
DTSTART:20210314T090000
END:DAYLIGHT
BEGIN:STANDARD
TZOFFSETFROM:-0600
TZOFFSETTO:-0700
TZNAME:MST
DTSTART:20211107T080000
END:STANDARD
BEGIN:DAYLIGHT
TZOFFSETFROM:-0700
TZOFFSETTO:-0600
TZNAME:MDT
DTSTART:20220313T090000
END:DAYLIGHT
BEGIN:STANDARD
TZOFFSETFROM:-0600
TZOFFSETTO:-0700
TZNAME:MST
DTSTART:20221106T080000
END:STANDARD
BEGIN:DAYLIGHT
TZOFFSETFROM:-0700
TZOFFSETTO:-0600
TZNAME:MDT
DTSTART:20230312T090000
END:DAYLIGHT
BEGIN:STANDARD
TZOFFSETFROM:-0600
TZOFFSETTO:-0700
TZNAME:MST
DTSTART:20231105T080000
END:STANDARD
END:VTIMEZONE
BEGIN:VEVENT
DTSTART;TZID=America/Edmonton:20220304T110000
DTEND;TZID=America/Edmonton:20220304T120000
DTSTAMP:20260421T172350
CREATED:20220304T210818Z
LAST-MODIFIED:20220304T210818Z
UID:10000070-1646391600-1646395200@northernspiritrc.ca
SUMMARY:CCS Friday - Becoming an Anti-Racist Church
DESCRIPTION:Join an online conversation to explore more about what it might mean to become an anti-racist church. How does an organization continue the process of institutional change to become a more intentionally anti-racist one? Together\, we’ll explore a continuum for becoming an anti-racism organization as well as the United Church’s national anti-racism action plan. The conversation will be facilitated by Adele Halliday\, who is the Anti-Racism and Equity Lead staff at the United Church’s General Council Office. \nAn experienced anti-racism educator\, workshop leader\, and award-winning writer\, Adele has been involved in anti-racism work with churches in Canada and beyond for many years. She is currently staff resource to the United Church’s Anti-Racism Common Table. She holds a Master of Education as well as a Master of Theological Studies\, and is currently studying towards a Doctor of Education. Adele lives in Toronto\, Ontario\, Canada. \nCCS Fridays: \nOnline conversations to help us all to respond faithfully to emerging issues in local contexts. These workshops are open to anyone who might be interested. Each session will be on a Friday from 12:00 to 1:00 Central (Winnipeg time) and in the form of a Zoom workshop. There will be a presentation that will be recorded for future viewing\, plus opportunities to engage with the ideas in small groups. \nSessions are free but you must register.\nhttps://us02web.zoom.us/meeting/register/tZEkcuihqzspHtTmzSydBr3p3D-HMsqeODZi
URL:https://northernspiritrc.ca/event/ccs-friday-becoming-an-anti-racist-church/
LOCATION:Zoom\, Canada
ATTACH;FMTTYPE=image/png:https://northernspiritrc.ca/wp-content/uploads/2022/03/Logo.png
ORGANIZER;CN="Centre for Christian Studies":MAILTO:info@ccsonline.ca
END:VEVENT
BEGIN:VEVENT
DTSTART;TZID=America/Edmonton:20220317T183000
DTEND;TZID=America/Edmonton:20220317T200000
DTSTAMP:20260421T172350
CREATED:20220303T030828Z
LAST-MODIFIED:20220303T030828Z
UID:10000096-1647541800-1647547200@northernspiritrc.ca
SUMMARY:Refugee support and sponsorship get together
DESCRIPTION:17 March 2022\, 6:30 PM Mountain Daylight/ Central Standard (SK) \nThis has been a strange and difficult two years for refugee support and advocacy. Come out for support\, conversation\, and updates.  We will be joined by Khwaka Kukubo\, General Council Refugee Program Advisor\, so bring your questions! Whether you’re new to this or have been involved for years please join us. Sponsored by the Living Skies Refugee Task Group. Invited: Northern Spirit\, Living Skies\, and Prairie to Pine Regional Councils\, and further afield if you wish. All welcome.  Register here (this gives you the link and reminders automatically). \n 
URL:https://northernspiritrc.ca/event/refugee-support-and-sponsorship-get-together/
LOCATION:Zoom
CATEGORIES:Events,Regional event
ATTACH;FMTTYPE=image/png:https://northernspiritrc.ca/wp-content/uploads/2022/03/RefugeesWelcomeBlackboard.png
END:VEVENT
BEGIN:VEVENT
DTSTART;TZID=America/Edmonton:20220321T100000
DTEND;TZID=America/Edmonton:20220403T100000
DTSTAMP:20260421T172350
CREATED:20220322T152304Z
LAST-MODIFIED:20220329T232905Z
UID:10000050-1647856800-1648980000@northernspiritrc.ca
SUMMARY:Ottewell United Church Online Auction
DESCRIPTION:This is an important fundraising event with the proceeds to be used for updating our audio-visual equipment and other special building projects.
URL:https://northernspiritrc.ca/event/ottewell-united-church-online-auction/
LOCATION:Ottewell United Church\, 6611-93A Ave\, Edmonton\, AB\, Canada
CATEGORIES:Community events
END:VEVENT
END:VCALENDAR