BEGIN:VCALENDAR
VERSION:2.0
PRODID:-//Northern Spirit Regional Council - ECPv6.15.20//NONSGML v1.0//EN
CALSCALE:GREGORIAN
METHOD:PUBLISH
X-WR-CALNAME:Northern Spirit Regional Council
X-ORIGINAL-URL:https://northernspiritrc.ca
X-WR-CALDESC:Events for Northern Spirit Regional Council
REFRESH-INTERVAL;VALUE=DURATION:PT1H
X-Robots-Tag:noindex
X-PUBLISHED-TTL:PT1H
BEGIN:VTIMEZONE
TZID:America/Edmonton
BEGIN:DAYLIGHT
TZOFFSETFROM:-0700
TZOFFSETTO:-0600
TZNAME:MDT
DTSTART:20190310T090000
END:DAYLIGHT
BEGIN:STANDARD
TZOFFSETFROM:-0600
TZOFFSETTO:-0700
TZNAME:MST
DTSTART:20191103T080000
END:STANDARD
BEGIN:DAYLIGHT
TZOFFSETFROM:-0700
TZOFFSETTO:-0600
TZNAME:MDT
DTSTART:20200308T090000
END:DAYLIGHT
BEGIN:STANDARD
TZOFFSETFROM:-0600
TZOFFSETTO:-0700
TZNAME:MST
DTSTART:20201101T080000
END:STANDARD
BEGIN:DAYLIGHT
TZOFFSETFROM:-0700
TZOFFSETTO:-0600
TZNAME:MDT
DTSTART:20210314T090000
END:DAYLIGHT
BEGIN:STANDARD
TZOFFSETFROM:-0600
TZOFFSETTO:-0700
TZNAME:MST
DTSTART:20211107T080000
END:STANDARD
END:VTIMEZONE
BEGIN:VEVENT
DTSTART;VALUE=DATE:20200706
DTEND;VALUE=DATE:20200711
DTSTAMP:20260423T085407
CREATED:20200702T195045Z
LAST-MODIFIED:20200702T195321Z
UID:10000055-1593993600-1594425599@northernspiritrc.ca
SUMMARY:God is in This Place: Knowing God Through our Senses
DESCRIPTION:An online seven-day set of faith-based activities\, stories and songs for children\, families and grandparents to do throughout the summer. There are five days each focused on one of the senses plus a night time and and a rainy day. Children are invited to pick some activities\, stories and songs each day and reflect on what their experience teaches them about God. \nFrom July 6-10 families can check in with Rondy Kyle and Denise Davis-Taylor\, live on zoom. \nFor links to each day go to the St Paul’s United Church Facebook page: https://www.facebook.com/St-Pauls-United-Church-Edmonton-181774785249257
URL:https://northernspiritrc.ca/event/god-is-in-this-place-knowing-god-through-our-senses/
LOCATION:AB
CATEGORIES:Community events
ATTACH;FMTTYPE=image/jpeg:https://northernspiritrc.ca/wp-content/uploads/2020/05/Dance.jpg
END:VEVENT
END:VCALENDAR