BEGIN:VCALENDAR
VERSION:2.0
PRODID:-//Northern Spirit Regional Council - ECPv6.15.20//NONSGML v1.0//EN
CALSCALE:GREGORIAN
METHOD:PUBLISH
X-WR-CALNAME:Northern Spirit Regional Council
X-ORIGINAL-URL:https://northernspiritrc.ca
X-WR-CALDESC:Events for Northern Spirit Regional Council
REFRESH-INTERVAL;VALUE=DURATION:PT1H
X-Robots-Tag:noindex
X-PUBLISHED-TTL:PT1H
BEGIN:VTIMEZONE
TZID:America/Edmonton
BEGIN:DAYLIGHT
TZOFFSETFROM:-0700
TZOFFSETTO:-0600
TZNAME:MDT
DTSTART:20280312T090000
END:DAYLIGHT
BEGIN:STANDARD
TZOFFSETFROM:-0600
TZOFFSETTO:-0700
TZNAME:MST
DTSTART:20281105T080000
END:STANDARD
BEGIN:DAYLIGHT
TZOFFSETFROM:-0700
TZOFFSETTO:-0600
TZNAME:MDT
DTSTART:20290311T090000
END:DAYLIGHT
BEGIN:STANDARD
TZOFFSETFROM:-0600
TZOFFSETTO:-0700
TZNAME:MST
DTSTART:20291104T080000
END:STANDARD
BEGIN:DAYLIGHT
TZOFFSETFROM:-0700
TZOFFSETTO:-0600
TZNAME:MDT
DTSTART:20300310T090000
END:DAYLIGHT
BEGIN:STANDARD
TZOFFSETFROM:-0600
TZOFFSETTO:-0700
TZNAME:MST
DTSTART:20301103T080000
END:STANDARD
BEGIN:DAYLIGHT
TZOFFSETFROM:-0700
TZOFFSETTO:-0600
TZNAME:MDT
DTSTART:20310309T090000
END:DAYLIGHT
BEGIN:STANDARD
TZOFFSETFROM:-0600
TZOFFSETTO:-0700
TZNAME:MST
DTSTART:20311102T080000
END:STANDARD
BEGIN:DAYLIGHT
TZOFFSETFROM:-0700
TZOFFSETTO:-0600
TZNAME:MDT
DTSTART:20320314T090000
END:DAYLIGHT
BEGIN:STANDARD
TZOFFSETFROM:-0600
TZOFFSETTO:-0700
TZNAME:MST
DTSTART:20321107T080000
END:STANDARD
END:VTIMEZONE
BEGIN:VEVENT
DTSTART;TZID=America/Edmonton:20290708T190000
DTEND;TZID=America/Edmonton:20290708T203000
DTSTAMP:20260419T190329
CREATED:20260213T183402Z
LAST-MODIFIED:20260213T183402Z
UID:10000615-1878231600-1878237000@northernspiritrc.ca
SUMMARY:SoulOuting
DESCRIPTION:SoulOuting is a monthly gathering at Robertson-Wesley United Church\, every second Sunday evening\, 7-8:30pm. 10209 123st Edmonton\, AB\, T5N1N3.\nAll 2SLGBTQIA identities and allies are welcome\, all ages friendly (under 16 must attend with trusted adult). We gather together as spiritual and faithful people\, acknowledging our diversity as individuals and our unity in desire to learn more about and honour our existence. This is a safe space to meet others\, to explore diverse topics of conversation and themes relating to spirituality\, religion\, and the rainbow of experience we share. For more information or to get involved\, contact Peter Graham\, p.graham@rwuc.org.
URL:https://northernspiritrc.ca/event/soulouting/2029-07-08/
LOCATION:Robertson-Wesley United Church\, 10209 123 st\, Edmonton\, Alberta\, T5N 1N3\, Canada
CATEGORIES:Community events
ATTACH;FMTTYPE=image/png:https://northernspiritrc.ca/wp-content/uploads/2026/02/Soulouting-Logo-Idea-1.png
END:VEVENT
BEGIN:VEVENT
DTSTART;TZID=America/Edmonton:20290812T190000
DTEND;TZID=America/Edmonton:20290812T203000
DTSTAMP:20260419T190329
CREATED:20260213T183402Z
LAST-MODIFIED:20260213T183402Z
UID:10000616-1881255600-1881261000@northernspiritrc.ca
SUMMARY:SoulOuting
DESCRIPTION:SoulOuting is a monthly gathering at Robertson-Wesley United Church\, every second Sunday evening\, 7-8:30pm. 10209 123st Edmonton\, AB\, T5N1N3.\nAll 2SLGBTQIA identities and allies are welcome\, all ages friendly (under 16 must attend with trusted adult). We gather together as spiritual and faithful people\, acknowledging our diversity as individuals and our unity in desire to learn more about and honour our existence. This is a safe space to meet others\, to explore diverse topics of conversation and themes relating to spirituality\, religion\, and the rainbow of experience we share. For more information or to get involved\, contact Peter Graham\, p.graham@rwuc.org.
URL:https://northernspiritrc.ca/event/soulouting/2029-08-12/
LOCATION:Robertson-Wesley United Church\, 10209 123 st\, Edmonton\, Alberta\, T5N 1N3\, Canada
CATEGORIES:Community events
ATTACH;FMTTYPE=image/png:https://northernspiritrc.ca/wp-content/uploads/2026/02/Soulouting-Logo-Idea-1.png
END:VEVENT
BEGIN:VEVENT
DTSTART;TZID=America/Edmonton:20290909T190000
DTEND;TZID=America/Edmonton:20290909T203000
DTSTAMP:20260419T190329
CREATED:20260213T183402Z
LAST-MODIFIED:20260213T183402Z
UID:10000617-1883674800-1883680200@northernspiritrc.ca
SUMMARY:SoulOuting
DESCRIPTION:SoulOuting is a monthly gathering at Robertson-Wesley United Church\, every second Sunday evening\, 7-8:30pm. 10209 123st Edmonton\, AB\, T5N1N3.\nAll 2SLGBTQIA identities and allies are welcome\, all ages friendly (under 16 must attend with trusted adult). We gather together as spiritual and faithful people\, acknowledging our diversity as individuals and our unity in desire to learn more about and honour our existence. This is a safe space to meet others\, to explore diverse topics of conversation and themes relating to spirituality\, religion\, and the rainbow of experience we share. For more information or to get involved\, contact Peter Graham\, p.graham@rwuc.org.
URL:https://northernspiritrc.ca/event/soulouting/2029-09-09/
LOCATION:Robertson-Wesley United Church\, 10209 123 st\, Edmonton\, Alberta\, T5N 1N3\, Canada
CATEGORIES:Community events
ATTACH;FMTTYPE=image/png:https://northernspiritrc.ca/wp-content/uploads/2026/02/Soulouting-Logo-Idea-1.png
END:VEVENT
BEGIN:VEVENT
DTSTART;TZID=America/Edmonton:20291014T190000
DTEND;TZID=America/Edmonton:20291014T203000
DTSTAMP:20260419T190329
CREATED:20260213T183402Z
LAST-MODIFIED:20260213T183402Z
UID:10000618-1886698800-1886704200@northernspiritrc.ca
SUMMARY:SoulOuting
DESCRIPTION:SoulOuting is a monthly gathering at Robertson-Wesley United Church\, every second Sunday evening\, 7-8:30pm. 10209 123st Edmonton\, AB\, T5N1N3.\nAll 2SLGBTQIA identities and allies are welcome\, all ages friendly (under 16 must attend with trusted adult). We gather together as spiritual and faithful people\, acknowledging our diversity as individuals and our unity in desire to learn more about and honour our existence. This is a safe space to meet others\, to explore diverse topics of conversation and themes relating to spirituality\, religion\, and the rainbow of experience we share. For more information or to get involved\, contact Peter Graham\, p.graham@rwuc.org.
URL:https://northernspiritrc.ca/event/soulouting/2029-10-14/
LOCATION:Robertson-Wesley United Church\, 10209 123 st\, Edmonton\, Alberta\, T5N 1N3\, Canada
CATEGORIES:Community events
ATTACH;FMTTYPE=image/png:https://northernspiritrc.ca/wp-content/uploads/2026/02/Soulouting-Logo-Idea-1.png
END:VEVENT
BEGIN:VEVENT
DTSTART;TZID=America/Edmonton:20291111T190000
DTEND;TZID=America/Edmonton:20291111T203000
DTSTAMP:20260419T190329
CREATED:20260213T183402Z
LAST-MODIFIED:20260213T183402Z
UID:10000619-1889118000-1889123400@northernspiritrc.ca
SUMMARY:SoulOuting
DESCRIPTION:SoulOuting is a monthly gathering at Robertson-Wesley United Church\, every second Sunday evening\, 7-8:30pm. 10209 123st Edmonton\, AB\, T5N1N3.\nAll 2SLGBTQIA identities and allies are welcome\, all ages friendly (under 16 must attend with trusted adult). We gather together as spiritual and faithful people\, acknowledging our diversity as individuals and our unity in desire to learn more about and honour our existence. This is a safe space to meet others\, to explore diverse topics of conversation and themes relating to spirituality\, religion\, and the rainbow of experience we share. For more information or to get involved\, contact Peter Graham\, p.graham@rwuc.org.
URL:https://northernspiritrc.ca/event/soulouting/2029-11-11/
LOCATION:Robertson-Wesley United Church\, 10209 123 st\, Edmonton\, Alberta\, T5N 1N3\, Canada
CATEGORIES:Community events
ATTACH;FMTTYPE=image/png:https://northernspiritrc.ca/wp-content/uploads/2026/02/Soulouting-Logo-Idea-1.png
END:VEVENT
BEGIN:VEVENT
DTSTART;TZID=America/Edmonton:20291209T190000
DTEND;TZID=America/Edmonton:20291209T203000
DTSTAMP:20260419T190329
CREATED:20260213T183402Z
LAST-MODIFIED:20260213T183402Z
UID:10000620-1891537200-1891542600@northernspiritrc.ca
SUMMARY:SoulOuting
DESCRIPTION:SoulOuting is a monthly gathering at Robertson-Wesley United Church\, every second Sunday evening\, 7-8:30pm. 10209 123st Edmonton\, AB\, T5N1N3.\nAll 2SLGBTQIA identities and allies are welcome\, all ages friendly (under 16 must attend with trusted adult). We gather together as spiritual and faithful people\, acknowledging our diversity as individuals and our unity in desire to learn more about and honour our existence. This is a safe space to meet others\, to explore diverse topics of conversation and themes relating to spirituality\, religion\, and the rainbow of experience we share. For more information or to get involved\, contact Peter Graham\, p.graham@rwuc.org.
URL:https://northernspiritrc.ca/event/soulouting/2029-12-09/
LOCATION:Robertson-Wesley United Church\, 10209 123 st\, Edmonton\, Alberta\, T5N 1N3\, Canada
CATEGORIES:Community events
ATTACH;FMTTYPE=image/png:https://northernspiritrc.ca/wp-content/uploads/2026/02/Soulouting-Logo-Idea-1.png
END:VEVENT
BEGIN:VEVENT
DTSTART;TZID=America/Edmonton:20300113T190000
DTEND;TZID=America/Edmonton:20300113T203000
DTSTAMP:20260419T190329
CREATED:20260213T183402Z
LAST-MODIFIED:20260213T183402Z
UID:10000621-1894561200-1894566600@northernspiritrc.ca
SUMMARY:SoulOuting
DESCRIPTION:SoulOuting is a monthly gathering at Robertson-Wesley United Church\, every second Sunday evening\, 7-8:30pm. 10209 123st Edmonton\, AB\, T5N1N3.\nAll 2SLGBTQIA identities and allies are welcome\, all ages friendly (under 16 must attend with trusted adult). We gather together as spiritual and faithful people\, acknowledging our diversity as individuals and our unity in desire to learn more about and honour our existence. This is a safe space to meet others\, to explore diverse topics of conversation and themes relating to spirituality\, religion\, and the rainbow of experience we share. For more information or to get involved\, contact Peter Graham\, p.graham@rwuc.org.
URL:https://northernspiritrc.ca/event/soulouting/2030-01-13/
LOCATION:Robertson-Wesley United Church\, 10209 123 st\, Edmonton\, Alberta\, T5N 1N3\, Canada
CATEGORIES:Community events
ATTACH;FMTTYPE=image/png:https://northernspiritrc.ca/wp-content/uploads/2026/02/Soulouting-Logo-Idea-1.png
END:VEVENT
BEGIN:VEVENT
DTSTART;TZID=America/Edmonton:20300210T190000
DTEND;TZID=America/Edmonton:20300210T203000
DTSTAMP:20260419T190329
CREATED:20260213T183402Z
LAST-MODIFIED:20260213T183402Z
UID:10000622-1896980400-1896985800@northernspiritrc.ca
SUMMARY:SoulOuting
DESCRIPTION:SoulOuting is a monthly gathering at Robertson-Wesley United Church\, every second Sunday evening\, 7-8:30pm. 10209 123st Edmonton\, AB\, T5N1N3.\nAll 2SLGBTQIA identities and allies are welcome\, all ages friendly (under 16 must attend with trusted adult). We gather together as spiritual and faithful people\, acknowledging our diversity as individuals and our unity in desire to learn more about and honour our existence. This is a safe space to meet others\, to explore diverse topics of conversation and themes relating to spirituality\, religion\, and the rainbow of experience we share. For more information or to get involved\, contact Peter Graham\, p.graham@rwuc.org.
URL:https://northernspiritrc.ca/event/soulouting/2030-02-10/
LOCATION:Robertson-Wesley United Church\, 10209 123 st\, Edmonton\, Alberta\, T5N 1N3\, Canada
CATEGORIES:Community events
ATTACH;FMTTYPE=image/png:https://northernspiritrc.ca/wp-content/uploads/2026/02/Soulouting-Logo-Idea-1.png
END:VEVENT
BEGIN:VEVENT
DTSTART;TZID=America/Edmonton:20300310T190000
DTEND;TZID=America/Edmonton:20300310T203000
DTSTAMP:20260419T190329
CREATED:20260213T183402Z
LAST-MODIFIED:20260213T183402Z
UID:10000623-1899399600-1899405000@northernspiritrc.ca
SUMMARY:SoulOuting
DESCRIPTION:SoulOuting is a monthly gathering at Robertson-Wesley United Church\, every second Sunday evening\, 7-8:30pm. 10209 123st Edmonton\, AB\, T5N1N3.\nAll 2SLGBTQIA identities and allies are welcome\, all ages friendly (under 16 must attend with trusted adult). We gather together as spiritual and faithful people\, acknowledging our diversity as individuals and our unity in desire to learn more about and honour our existence. This is a safe space to meet others\, to explore diverse topics of conversation and themes relating to spirituality\, religion\, and the rainbow of experience we share. For more information or to get involved\, contact Peter Graham\, p.graham@rwuc.org.
URL:https://northernspiritrc.ca/event/soulouting/2030-03-10/
LOCATION:Robertson-Wesley United Church\, 10209 123 st\, Edmonton\, Alberta\, T5N 1N3\, Canada
CATEGORIES:Community events
ATTACH;FMTTYPE=image/png:https://northernspiritrc.ca/wp-content/uploads/2026/02/Soulouting-Logo-Idea-1.png
END:VEVENT
BEGIN:VEVENT
DTSTART;TZID=America/Edmonton:20300414T190000
DTEND;TZID=America/Edmonton:20300414T203000
DTSTAMP:20260419T190329
CREATED:20260213T183402Z
LAST-MODIFIED:20260213T183402Z
UID:10000624-1902423600-1902429000@northernspiritrc.ca
SUMMARY:SoulOuting
DESCRIPTION:SoulOuting is a monthly gathering at Robertson-Wesley United Church\, every second Sunday evening\, 7-8:30pm. 10209 123st Edmonton\, AB\, T5N1N3.\nAll 2SLGBTQIA identities and allies are welcome\, all ages friendly (under 16 must attend with trusted adult). We gather together as spiritual and faithful people\, acknowledging our diversity as individuals and our unity in desire to learn more about and honour our existence. This is a safe space to meet others\, to explore diverse topics of conversation and themes relating to spirituality\, religion\, and the rainbow of experience we share. For more information or to get involved\, contact Peter Graham\, p.graham@rwuc.org.
URL:https://northernspiritrc.ca/event/soulouting/2030-04-14/
LOCATION:Robertson-Wesley United Church\, 10209 123 st\, Edmonton\, Alberta\, T5N 1N3\, Canada
CATEGORIES:Community events
ATTACH;FMTTYPE=image/png:https://northernspiritrc.ca/wp-content/uploads/2026/02/Soulouting-Logo-Idea-1.png
END:VEVENT
BEGIN:VEVENT
DTSTART;TZID=America/Edmonton:20300512T190000
DTEND;TZID=America/Edmonton:20300512T203000
DTSTAMP:20260419T190329
CREATED:20260213T183402Z
LAST-MODIFIED:20260213T183402Z
UID:10000625-1904842800-1904848200@northernspiritrc.ca
SUMMARY:SoulOuting
DESCRIPTION:SoulOuting is a monthly gathering at Robertson-Wesley United Church\, every second Sunday evening\, 7-8:30pm. 10209 123st Edmonton\, AB\, T5N1N3.\nAll 2SLGBTQIA identities and allies are welcome\, all ages friendly (under 16 must attend with trusted adult). We gather together as spiritual and faithful people\, acknowledging our diversity as individuals and our unity in desire to learn more about and honour our existence. This is a safe space to meet others\, to explore diverse topics of conversation and themes relating to spirituality\, religion\, and the rainbow of experience we share. For more information or to get involved\, contact Peter Graham\, p.graham@rwuc.org.
URL:https://northernspiritrc.ca/event/soulouting/2030-05-12/
LOCATION:Robertson-Wesley United Church\, 10209 123 st\, Edmonton\, Alberta\, T5N 1N3\, Canada
CATEGORIES:Community events
ATTACH;FMTTYPE=image/png:https://northernspiritrc.ca/wp-content/uploads/2026/02/Soulouting-Logo-Idea-1.png
END:VEVENT
BEGIN:VEVENT
DTSTART;TZID=America/Edmonton:20300609T190000
DTEND;TZID=America/Edmonton:20300609T203000
DTSTAMP:20260419T190329
CREATED:20260213T183402Z
LAST-MODIFIED:20260213T183402Z
UID:10000626-1907262000-1907267400@northernspiritrc.ca
SUMMARY:SoulOuting
DESCRIPTION:SoulOuting is a monthly gathering at Robertson-Wesley United Church\, every second Sunday evening\, 7-8:30pm. 10209 123st Edmonton\, AB\, T5N1N3.\nAll 2SLGBTQIA identities and allies are welcome\, all ages friendly (under 16 must attend with trusted adult). We gather together as spiritual and faithful people\, acknowledging our diversity as individuals and our unity in desire to learn more about and honour our existence. This is a safe space to meet others\, to explore diverse topics of conversation and themes relating to spirituality\, religion\, and the rainbow of experience we share. For more information or to get involved\, contact Peter Graham\, p.graham@rwuc.org.
URL:https://northernspiritrc.ca/event/soulouting/2030-06-09/
LOCATION:Robertson-Wesley United Church\, 10209 123 st\, Edmonton\, Alberta\, T5N 1N3\, Canada
CATEGORIES:Community events
ATTACH;FMTTYPE=image/png:https://northernspiritrc.ca/wp-content/uploads/2026/02/Soulouting-Logo-Idea-1.png
END:VEVENT
BEGIN:VEVENT
DTSTART;TZID=America/Edmonton:20300714T190000
DTEND;TZID=America/Edmonton:20300714T203000
DTSTAMP:20260419T190329
CREATED:20260213T183402Z
LAST-MODIFIED:20260213T183402Z
UID:10000627-1910286000-1910291400@northernspiritrc.ca
SUMMARY:SoulOuting
DESCRIPTION:SoulOuting is a monthly gathering at Robertson-Wesley United Church\, every second Sunday evening\, 7-8:30pm. 10209 123st Edmonton\, AB\, T5N1N3.\nAll 2SLGBTQIA identities and allies are welcome\, all ages friendly (under 16 must attend with trusted adult). We gather together as spiritual and faithful people\, acknowledging our diversity as individuals and our unity in desire to learn more about and honour our existence. This is a safe space to meet others\, to explore diverse topics of conversation and themes relating to spirituality\, religion\, and the rainbow of experience we share. For more information or to get involved\, contact Peter Graham\, p.graham@rwuc.org.
URL:https://northernspiritrc.ca/event/soulouting/2030-07-14/
LOCATION:Robertson-Wesley United Church\, 10209 123 st\, Edmonton\, Alberta\, T5N 1N3\, Canada
CATEGORIES:Community events
ATTACH;FMTTYPE=image/png:https://northernspiritrc.ca/wp-content/uploads/2026/02/Soulouting-Logo-Idea-1.png
END:VEVENT
BEGIN:VEVENT
DTSTART;TZID=America/Edmonton:20300811T190000
DTEND;TZID=America/Edmonton:20300811T203000
DTSTAMP:20260419T190329
CREATED:20260213T183402Z
LAST-MODIFIED:20260213T183402Z
UID:10000628-1912705200-1912710600@northernspiritrc.ca
SUMMARY:SoulOuting
DESCRIPTION:SoulOuting is a monthly gathering at Robertson-Wesley United Church\, every second Sunday evening\, 7-8:30pm. 10209 123st Edmonton\, AB\, T5N1N3.\nAll 2SLGBTQIA identities and allies are welcome\, all ages friendly (under 16 must attend with trusted adult). We gather together as spiritual and faithful people\, acknowledging our diversity as individuals and our unity in desire to learn more about and honour our existence. This is a safe space to meet others\, to explore diverse topics of conversation and themes relating to spirituality\, religion\, and the rainbow of experience we share. For more information or to get involved\, contact Peter Graham\, p.graham@rwuc.org.
URL:https://northernspiritrc.ca/event/soulouting/2030-08-11/
LOCATION:Robertson-Wesley United Church\, 10209 123 st\, Edmonton\, Alberta\, T5N 1N3\, Canada
CATEGORIES:Community events
ATTACH;FMTTYPE=image/png:https://northernspiritrc.ca/wp-content/uploads/2026/02/Soulouting-Logo-Idea-1.png
END:VEVENT
BEGIN:VEVENT
DTSTART;TZID=America/Edmonton:20300908T190000
DTEND;TZID=America/Edmonton:20300908T203000
DTSTAMP:20260419T190329
CREATED:20260213T183402Z
LAST-MODIFIED:20260213T183402Z
UID:10000629-1915124400-1915129800@northernspiritrc.ca
SUMMARY:SoulOuting
DESCRIPTION:SoulOuting is a monthly gathering at Robertson-Wesley United Church\, every second Sunday evening\, 7-8:30pm. 10209 123st Edmonton\, AB\, T5N1N3.\nAll 2SLGBTQIA identities and allies are welcome\, all ages friendly (under 16 must attend with trusted adult). We gather together as spiritual and faithful people\, acknowledging our diversity as individuals and our unity in desire to learn more about and honour our existence. This is a safe space to meet others\, to explore diverse topics of conversation and themes relating to spirituality\, religion\, and the rainbow of experience we share. For more information or to get involved\, contact Peter Graham\, p.graham@rwuc.org.
URL:https://northernspiritrc.ca/event/soulouting/2030-09-08/
LOCATION:Robertson-Wesley United Church\, 10209 123 st\, Edmonton\, Alberta\, T5N 1N3\, Canada
CATEGORIES:Community events
ATTACH;FMTTYPE=image/png:https://northernspiritrc.ca/wp-content/uploads/2026/02/Soulouting-Logo-Idea-1.png
END:VEVENT
BEGIN:VEVENT
DTSTART;TZID=America/Edmonton:20301013T190000
DTEND;TZID=America/Edmonton:20301013T203000
DTSTAMP:20260419T190329
CREATED:20260213T183402Z
LAST-MODIFIED:20260213T183402Z
UID:10000630-1918148400-1918153800@northernspiritrc.ca
SUMMARY:SoulOuting
DESCRIPTION:SoulOuting is a monthly gathering at Robertson-Wesley United Church\, every second Sunday evening\, 7-8:30pm. 10209 123st Edmonton\, AB\, T5N1N3.\nAll 2SLGBTQIA identities and allies are welcome\, all ages friendly (under 16 must attend with trusted adult). We gather together as spiritual and faithful people\, acknowledging our diversity as individuals and our unity in desire to learn more about and honour our existence. This is a safe space to meet others\, to explore diverse topics of conversation and themes relating to spirituality\, religion\, and the rainbow of experience we share. For more information or to get involved\, contact Peter Graham\, p.graham@rwuc.org.
URL:https://northernspiritrc.ca/event/soulouting/2030-10-13/
LOCATION:Robertson-Wesley United Church\, 10209 123 st\, Edmonton\, Alberta\, T5N 1N3\, Canada
CATEGORIES:Community events
ATTACH;FMTTYPE=image/png:https://northernspiritrc.ca/wp-content/uploads/2026/02/Soulouting-Logo-Idea-1.png
END:VEVENT
BEGIN:VEVENT
DTSTART;TZID=America/Edmonton:20301110T190000
DTEND;TZID=America/Edmonton:20301110T203000
DTSTAMP:20260419T190329
CREATED:20260213T183402Z
LAST-MODIFIED:20260213T183402Z
UID:10000631-1920567600-1920573000@northernspiritrc.ca
SUMMARY:SoulOuting
DESCRIPTION:SoulOuting is a monthly gathering at Robertson-Wesley United Church\, every second Sunday evening\, 7-8:30pm. 10209 123st Edmonton\, AB\, T5N1N3.\nAll 2SLGBTQIA identities and allies are welcome\, all ages friendly (under 16 must attend with trusted adult). We gather together as spiritual and faithful people\, acknowledging our diversity as individuals and our unity in desire to learn more about and honour our existence. This is a safe space to meet others\, to explore diverse topics of conversation and themes relating to spirituality\, religion\, and the rainbow of experience we share. For more information or to get involved\, contact Peter Graham\, p.graham@rwuc.org.
URL:https://northernspiritrc.ca/event/soulouting/2030-11-10/
LOCATION:Robertson-Wesley United Church\, 10209 123 st\, Edmonton\, Alberta\, T5N 1N3\, Canada
CATEGORIES:Community events
ATTACH;FMTTYPE=image/png:https://northernspiritrc.ca/wp-content/uploads/2026/02/Soulouting-Logo-Idea-1.png
END:VEVENT
BEGIN:VEVENT
DTSTART;TZID=America/Edmonton:20301208T190000
DTEND;TZID=America/Edmonton:20301208T203000
DTSTAMP:20260419T190329
CREATED:20260213T183402Z
LAST-MODIFIED:20260213T183402Z
UID:10000632-1922986800-1922992200@northernspiritrc.ca
SUMMARY:SoulOuting
DESCRIPTION:SoulOuting is a monthly gathering at Robertson-Wesley United Church\, every second Sunday evening\, 7-8:30pm. 10209 123st Edmonton\, AB\, T5N1N3.\nAll 2SLGBTQIA identities and allies are welcome\, all ages friendly (under 16 must attend with trusted adult). We gather together as spiritual and faithful people\, acknowledging our diversity as individuals and our unity in desire to learn more about and honour our existence. This is a safe space to meet others\, to explore diverse topics of conversation and themes relating to spirituality\, religion\, and the rainbow of experience we share. For more information or to get involved\, contact Peter Graham\, p.graham@rwuc.org.
URL:https://northernspiritrc.ca/event/soulouting/2030-12-08/
LOCATION:Robertson-Wesley United Church\, 10209 123 st\, Edmonton\, Alberta\, T5N 1N3\, Canada
CATEGORIES:Community events
ATTACH;FMTTYPE=image/png:https://northernspiritrc.ca/wp-content/uploads/2026/02/Soulouting-Logo-Idea-1.png
END:VEVENT
BEGIN:VEVENT
DTSTART;TZID=America/Edmonton:20310112T190000
DTEND;TZID=America/Edmonton:20310112T203000
DTSTAMP:20260419T190329
CREATED:20260213T183402Z
LAST-MODIFIED:20260213T183402Z
UID:10000633-1926010800-1926016200@northernspiritrc.ca
SUMMARY:SoulOuting
DESCRIPTION:SoulOuting is a monthly gathering at Robertson-Wesley United Church\, every second Sunday evening\, 7-8:30pm. 10209 123st Edmonton\, AB\, T5N1N3.\nAll 2SLGBTQIA identities and allies are welcome\, all ages friendly (under 16 must attend with trusted adult). We gather together as spiritual and faithful people\, acknowledging our diversity as individuals and our unity in desire to learn more about and honour our existence. This is a safe space to meet others\, to explore diverse topics of conversation and themes relating to spirituality\, religion\, and the rainbow of experience we share. For more information or to get involved\, contact Peter Graham\, p.graham@rwuc.org.
URL:https://northernspiritrc.ca/event/soulouting/2031-01-12/
LOCATION:Robertson-Wesley United Church\, 10209 123 st\, Edmonton\, Alberta\, T5N 1N3\, Canada
CATEGORIES:Community events
ATTACH;FMTTYPE=image/png:https://northernspiritrc.ca/wp-content/uploads/2026/02/Soulouting-Logo-Idea-1.png
END:VEVENT
BEGIN:VEVENT
DTSTART;TZID=America/Edmonton:20310209T190000
DTEND;TZID=America/Edmonton:20310209T203000
DTSTAMP:20260419T190329
CREATED:20260213T183402Z
LAST-MODIFIED:20260213T183402Z
UID:10000634-1928430000-1928435400@northernspiritrc.ca
SUMMARY:SoulOuting
DESCRIPTION:SoulOuting is a monthly gathering at Robertson-Wesley United Church\, every second Sunday evening\, 7-8:30pm. 10209 123st Edmonton\, AB\, T5N1N3.\nAll 2SLGBTQIA identities and allies are welcome\, all ages friendly (under 16 must attend with trusted adult). We gather together as spiritual and faithful people\, acknowledging our diversity as individuals and our unity in desire to learn more about and honour our existence. This is a safe space to meet others\, to explore diverse topics of conversation and themes relating to spirituality\, religion\, and the rainbow of experience we share. For more information or to get involved\, contact Peter Graham\, p.graham@rwuc.org.
URL:https://northernspiritrc.ca/event/soulouting/2031-02-09/
LOCATION:Robertson-Wesley United Church\, 10209 123 st\, Edmonton\, Alberta\, T5N 1N3\, Canada
CATEGORIES:Community events
ATTACH;FMTTYPE=image/png:https://northernspiritrc.ca/wp-content/uploads/2026/02/Soulouting-Logo-Idea-1.png
END:VEVENT
END:VCALENDAR