BEGIN:VCALENDAR
VERSION:2.0
PRODID:-//Northern Spirit Regional Council - ECPv6.15.20//NONSGML v1.0//EN
CALSCALE:GREGORIAN
METHOD:PUBLISH
X-WR-CALNAME:Northern Spirit Regional Council
X-ORIGINAL-URL:https://northernspiritrc.ca
X-WR-CALDESC:Events for Northern Spirit Regional Council
REFRESH-INTERVAL;VALUE=DURATION:PT1H
X-Robots-Tag:noindex
X-PUBLISHED-TTL:PT1H
BEGIN:VTIMEZONE
TZID:America/Edmonton
BEGIN:DAYLIGHT
TZOFFSETFROM:-0700
TZOFFSETTO:-0600
TZNAME:MDT
DTSTART:20190310T090000
END:DAYLIGHT
BEGIN:STANDARD
TZOFFSETFROM:-0600
TZOFFSETTO:-0700
TZNAME:MST
DTSTART:20191103T080000
END:STANDARD
BEGIN:DAYLIGHT
TZOFFSETFROM:-0700
TZOFFSETTO:-0600
TZNAME:MDT
DTSTART:20200308T090000
END:DAYLIGHT
BEGIN:STANDARD
TZOFFSETFROM:-0600
TZOFFSETTO:-0700
TZNAME:MST
DTSTART:20201101T080000
END:STANDARD
BEGIN:DAYLIGHT
TZOFFSETFROM:-0700
TZOFFSETTO:-0600
TZNAME:MDT
DTSTART:20210314T090000
END:DAYLIGHT
BEGIN:STANDARD
TZOFFSETFROM:-0600
TZOFFSETTO:-0700
TZNAME:MST
DTSTART:20211107T080000
END:STANDARD
END:VTIMEZONE
BEGIN:VEVENT
DTSTART;TZID=America/Edmonton:20200505T133000
DTEND;TZID=America/Edmonton:20200505T150000
DTSTAMP:20260421T195408
CREATED:20200323T200540Z
LAST-MODIFIED:20200415T152040Z
UID:10000081-1588685400-1588690800@northernspiritrc.ca
SUMMARY:Ministry Personnel COVID check in
DESCRIPTION:Every Tuesday\, 1:30 pm MDT (AB\, SK and NWT); 12:30 pm PDT (BC). \nMinistry Personnel currently serving Pastoral Charges and other ministry sites are encouraged to attend.\nThis will be a weekly check-in\, scheduled until June 30\, 2020.\nThe Meeting ID and link have been sent to all active Ministry Personnel.\nPlease contact the Regional Office if you have not received the email. \nAll regional COVID updates are here: https://northernspiritrc.ca/covid-19coronavirusnews/ \nAll national church updates are here: https://www.united-church.ca/covid-19
URL:https://northernspiritrc.ca/event/ministry-personnel-covid-check-in/2020-05-05/
LOCATION:Alberta
CATEGORIES:Regional event
ATTACH;FMTTYPE=image/jpeg:https://northernspiritrc.ca/wp-content/uploads/2020/02/Canva-Lit-Candle-on-Dark-Background-scaled-e1584993878296.jpg
END:VEVENT
BEGIN:VEVENT
DTSTART;VALUE=DATE:20200501
DTEND;VALUE=DATE:20200504
DTSTAMP:20260421T195408
CREATED:20181123T005610Z
LAST-MODIFIED:20200331T210240Z
UID:10000098-1588356000-1588528799@northernspiritrc.ca
SUMMARY:Affirming Leaders' Day for Alberta
DESCRIPTION:PLEASE NOTE: this event will now take place online. \nAll welcome to this faith-based development and connection day for allied and LGBTQ2S+ folks. Our in person Affirming Leaders Day is cancelled\, however\, we are now hosting our conference online!  \nYou are invited to join us on Zoom for a day of illuminating and artistic speakers\, on topics of faith\, LGBTQ2S+ inclusion and more! \nVERY special guests announced soon… \nAffirming Leaders Day is a faith-based development & connection day for allied and LGBTQ2S+ folks.\n____ \nWhen: Saturday\, May 2\, 2020 – 9:30am-4:15pm (session times TBA)\nWhere: On Zoom\, you can watch/listen from your computer\, tablet\, or smart phone! \nTicket link available soon.
URL:https://northernspiritrc.ca/event/new-year-congregation/
LOCATION:Zoom
CATEGORIES:LGBTQIA2S+,Regional Council
ATTACH;FMTTYPE=image/png:https://northernspiritrc.ca/wp-content/uploads/2018/11/AffirmingLeadersDay2020.png
END:VEVENT
BEGIN:VEVENT
DTSTART;TZID=America/Edmonton:20200429T183000
DTEND;TZID=America/Edmonton:20200429T200000
DTSTAMP:20260421T195408
CREATED:20200323T201228Z
LAST-MODIFIED:20200415T151422Z
UID:10000094-1588185000-1588190400@northernspiritrc.ca
SUMMARY:Regional Councils Lay Leaders COVID weekly check in
DESCRIPTION:Lay Leaders and Pastoral Charge Supervisors will gather Wednesdays at:\n5:30 PM in BC; 6:30 PM in AB and NWT. \nSome meetings will have specific resource people\, in which case\, ministry personnel are welcome to join. These gatherings cover the Northern Spirit\, Living Skies\, and Prairie to Pine Regional Councils. \nRecurring link:  https://united-church.zoom.us/j/978525442\nDial in if you have a limited or slow connection: 1-855-703-8985.\nMeeting ID is in the link: 978 525 442 \n 
URL:https://northernspiritrc.ca/event/regional-councils-lay-leaders-covid-weekly-check-in/2020-04-29/
LOCATION:Alberta
CATEGORIES:Events,Regional event
ATTACH;FMTTYPE=image/jpeg:https://northernspiritrc.ca/wp-content/uploads/2020/02/Canva-CuppedHands-Holding-Lit-Candle-Photo-by-Myriams-Fotos-scaled-e1584742572294.jpg
END:VEVENT
BEGIN:VEVENT
DTSTART;VALUE=DATE:20200429
DTEND;VALUE=DATE:20200503
DTSTAMP:20260421T195408
CREATED:20181123T005756Z
LAST-MODIFIED:20200331T205154Z
UID:10000099-1588183200-1588442399@northernspiritrc.ca
SUMMARY:POSTPONED Annual Gathering: Women of the United Church in Alberta and the Northwest Territories
DESCRIPTION:Due to the safety protocols related to the COVID-19 Coronavirus\, the Women of the United Church in the Chinook Winds and Northern Spirit regions have made the decision to postpone  their Annual Gathering and AGM that were to be held April 30 to May 2. The FCJ Christian Life Centre in Calgary has been very helpful\, and they have tentatively re-booked for September 10-12\, 2020. Further information\, will be posted as it is available.
URL:https://northernspiritrc.ca/event/easter-celebration/
LOCATION:FCJ Centre\, 219 19 Ave SW\, Calgary\, AB\, T2S 0C8\, Canada
CATEGORIES:Regional Council,UCW
END:VEVENT
BEGIN:VEVENT
DTSTART;TZID=America/Edmonton:20200429T150000
DTEND;TZID=America/Edmonton:20200429T160000
DTSTAMP:20260421T195408
CREATED:20200424T173149Z
LAST-MODIFIED:20200424T173633Z
UID:10000071-1588172400-1588176000@northernspiritrc.ca
SUMMARY:Webinar: Pope Francis and Christian Unity
DESCRIPTION:News from the Edmonton and District Council of Churches: the ecumenical officer for the Catholic Archdiocese of Regina is offering a webinar on the topic of “Pope Francis and Christian Unity”. This ecumenical event is scheduled to take place next Wednesday\, April 29 at 3 p.m. (MDT). The webinar is free and will be using Zoom technology. Please note that\, for security reasons\, anyone who wishes to participate in the webinar should register in advance. Please register by email to njesson@archregina.sk.ca. All are welcome \n \nIn this photo\, Pope Francis is seen with Orthodox Metropolitan Gennadios of Italy Anglican Archbishop David Moxon (the Archbishop of Canterbury’’s representative to the Vatican) as they arrived for a prayer service at the Basilica of St. Paul Outside the Walls\, to conclude the Week of Prayer for Christian Unity.
URL:https://northernspiritrc.ca/event/4230/
LOCATION:Alberta
CATEGORIES:Community events,Ecumenical Partners,Events,Regional event
ATTACH;FMTTYPE=image/jpeg:https://northernspiritrc.ca/wp-content/uploads/2020/04/Pope-Francis.jpg
END:VEVENT
BEGIN:VEVENT
DTSTART;TZID=America/Edmonton:20200428T133000
DTEND;TZID=America/Edmonton:20200428T150000
DTSTAMP:20260421T195408
CREATED:20200323T200540Z
LAST-MODIFIED:20200415T152040Z
UID:10000080-1588080600-1588086000@northernspiritrc.ca
SUMMARY:Ministry Personnel COVID check in
DESCRIPTION:Every Tuesday\, 1:30 pm MDT (AB\, SK and NWT); 12:30 pm PDT (BC). \nMinistry Personnel currently serving Pastoral Charges and other ministry sites are encouraged to attend.\nThis will be a weekly check-in\, scheduled until June 30\, 2020.\nThe Meeting ID and link have been sent to all active Ministry Personnel.\nPlease contact the Regional Office if you have not received the email. \nAll regional COVID updates are here: https://northernspiritrc.ca/covid-19coronavirusnews/ \nAll national church updates are here: https://www.united-church.ca/covid-19
URL:https://northernspiritrc.ca/event/ministry-personnel-covid-check-in/2020-04-28/
LOCATION:Alberta
CATEGORIES:Regional event
ATTACH;FMTTYPE=image/jpeg:https://northernspiritrc.ca/wp-content/uploads/2020/02/Canva-Lit-Candle-on-Dark-Background-scaled-e1584993878296.jpg
END:VEVENT
BEGIN:VEVENT
DTSTART;TZID=America/Edmonton:20200422T183000
DTEND;TZID=America/Edmonton:20200422T200000
DTSTAMP:20260421T195408
CREATED:20200323T201228Z
LAST-MODIFIED:20200415T151422Z
UID:10000093-1587580200-1587585600@northernspiritrc.ca
SUMMARY:Regional Councils Lay Leaders COVID weekly check in
DESCRIPTION:Lay Leaders and Pastoral Charge Supervisors will gather Wednesdays at:\n5:30 PM in BC; 6:30 PM in AB and NWT. \nSome meetings will have specific resource people\, in which case\, ministry personnel are welcome to join. These gatherings cover the Northern Spirit\, Living Skies\, and Prairie to Pine Regional Councils. \nRecurring link:  https://united-church.zoom.us/j/978525442\nDial in if you have a limited or slow connection: 1-855-703-8985.\nMeeting ID is in the link: 978 525 442 \n 
URL:https://northernspiritrc.ca/event/regional-councils-lay-leaders-covid-weekly-check-in/2020-04-22/
LOCATION:Alberta
CATEGORIES:Events,Regional event
ATTACH;FMTTYPE=image/jpeg:https://northernspiritrc.ca/wp-content/uploads/2020/02/Canva-CuppedHands-Holding-Lit-Candle-Photo-by-Myriams-Fotos-scaled-e1584742572294.jpg
END:VEVENT
BEGIN:VEVENT
DTSTART;TZID=America/Edmonton:20200421T133000
DTEND;TZID=America/Edmonton:20200421T150000
DTSTAMP:20260421T195408
CREATED:20200323T200540Z
LAST-MODIFIED:20200415T152040Z
UID:10000079-1587475800-1587481200@northernspiritrc.ca
SUMMARY:Ministry Personnel COVID check in
DESCRIPTION:Every Tuesday\, 1:30 pm MDT (AB\, SK and NWT); 12:30 pm PDT (BC). \nMinistry Personnel currently serving Pastoral Charges and other ministry sites are encouraged to attend.\nThis will be a weekly check-in\, scheduled until June 30\, 2020.\nThe Meeting ID and link have been sent to all active Ministry Personnel.\nPlease contact the Regional Office if you have not received the email. \nAll regional COVID updates are here: https://northernspiritrc.ca/covid-19coronavirusnews/ \nAll national church updates are here: https://www.united-church.ca/covid-19
URL:https://northernspiritrc.ca/event/ministry-personnel-covid-check-in/2020-04-21/
LOCATION:Alberta
CATEGORIES:Regional event
ATTACH;FMTTYPE=image/jpeg:https://northernspiritrc.ca/wp-content/uploads/2020/02/Canva-Lit-Candle-on-Dark-Background-scaled-e1584993878296.jpg
END:VEVENT
BEGIN:VEVENT
DTSTART;TZID=America/Edmonton:20200415T183000
DTEND;TZID=America/Edmonton:20200415T200000
DTSTAMP:20260421T195408
CREATED:20200323T201228Z
LAST-MODIFIED:20200415T151422Z
UID:10000092-1586975400-1586980800@northernspiritrc.ca
SUMMARY:Regional Councils Lay Leaders COVID weekly check in
DESCRIPTION:Lay Leaders and Pastoral Charge Supervisors will gather Wednesdays at:\n5:30 PM in BC; 6:30 PM in AB and NWT. \nSome meetings will have specific resource people\, in which case\, ministry personnel are welcome to join. These gatherings cover the Northern Spirit\, Living Skies\, and Prairie to Pine Regional Councils. \nRecurring link:  https://united-church.zoom.us/j/978525442\nDial in if you have a limited or slow connection: 1-855-703-8985.\nMeeting ID is in the link: 978 525 442 \n 
URL:https://northernspiritrc.ca/event/regional-councils-lay-leaders-covid-weekly-check-in/2020-04-15/
LOCATION:Alberta
CATEGORIES:Events,Regional event
ATTACH;FMTTYPE=image/jpeg:https://northernspiritrc.ca/wp-content/uploads/2020/02/Canva-CuppedHands-Holding-Lit-Candle-Photo-by-Myriams-Fotos-scaled-e1584742572294.jpg
END:VEVENT
BEGIN:VEVENT
DTSTART;TZID=America/Edmonton:20200414T133000
DTEND;TZID=America/Edmonton:20200414T150000
DTSTAMP:20260421T195408
CREATED:20200323T200540Z
LAST-MODIFIED:20200415T152040Z
UID:10000078-1586871000-1586876400@northernspiritrc.ca
SUMMARY:Ministry Personnel COVID check in
DESCRIPTION:Every Tuesday\, 1:30 pm MDT (AB\, SK and NWT); 12:30 pm PDT (BC). \nMinistry Personnel currently serving Pastoral Charges and other ministry sites are encouraged to attend.\nThis will be a weekly check-in\, scheduled until June 30\, 2020.\nThe Meeting ID and link have been sent to all active Ministry Personnel.\nPlease contact the Regional Office if you have not received the email. \nAll regional COVID updates are here: https://northernspiritrc.ca/covid-19coronavirusnews/ \nAll national church updates are here: https://www.united-church.ca/covid-19
URL:https://northernspiritrc.ca/event/ministry-personnel-covid-check-in/2020-04-14/
LOCATION:Alberta
CATEGORIES:Regional event
ATTACH;FMTTYPE=image/jpeg:https://northernspiritrc.ca/wp-content/uploads/2020/02/Canva-Lit-Candle-on-Dark-Background-scaled-e1584993878296.jpg
END:VEVENT
BEGIN:VEVENT
DTSTART;TZID=America/Edmonton:20200408T183000
DTEND;TZID=America/Edmonton:20200408T200000
DTSTAMP:20260421T195408
CREATED:20200323T201228Z
LAST-MODIFIED:20200408T223830Z
UID:10000042-1586370600-1586376000@northernspiritrc.ca
SUMMARY:CANCELLED FOR APRIL 8 Regional Councils Lay Leaders COVID weekly check in
DESCRIPTION:Lay Leaders and Pastoral Charge Supervisors will gather Wednesdays at:\n5:30 PM in BC; 6:30 PM in AB and NWT. \nSome meetings will have specific resource people\, in which case\, ministry personnel are welcome to join. These gatherings cover the Northern Spirit\, Living Skies\, and Prairie to Pine Regional Councils. \nRecurring link:  https://united-church.zoom.us/j/978525442     Dial in if you have a limited or slow connection: 1-855-703-8985. Meeting ID is in the link: 978 525 442 \nApril 1: Nora Sanders\, United Church General Secretary\, will be joining the meeting. \nApril 8: The gathering will be cancelled in recognition of Holy Week.
URL:https://northernspiritrc.ca/event/regional-councils-lay-leaders-covid-weekly-check-in-2020-04-08/
LOCATION:Alberta
CATEGORIES:Events,Regional event
ATTACH;FMTTYPE=image/jpeg:https://northernspiritrc.ca/wp-content/uploads/2020/02/Canva-CuppedHands-Holding-Lit-Candle-Photo-by-Myriams-Fotos-scaled-e1584742572294.jpg
END:VEVENT
BEGIN:VEVENT
DTSTART;TZID=America/Edmonton:20200407T133000
DTEND;TZID=America/Edmonton:20200407T150000
DTSTAMP:20260421T195408
CREATED:20200323T200540Z
LAST-MODIFIED:20200415T152040Z
UID:10000077-1586266200-1586271600@northernspiritrc.ca
SUMMARY:Ministry Personnel COVID check in
DESCRIPTION:Every Tuesday\, 1:30 pm MDT (AB\, SK and NWT); 12:30 pm PDT (BC). \nMinistry Personnel currently serving Pastoral Charges and other ministry sites are encouraged to attend.\nThis will be a weekly check-in\, scheduled until June 30\, 2020.\nThe Meeting ID and link have been sent to all active Ministry Personnel.\nPlease contact the Regional Office if you have not received the email. \nAll regional COVID updates are here: https://northernspiritrc.ca/covid-19coronavirusnews/ \nAll national church updates are here: https://www.united-church.ca/covid-19
URL:https://northernspiritrc.ca/event/ministry-personnel-covid-check-in/2020-04-07/
LOCATION:Alberta
CATEGORIES:Regional event
ATTACH;FMTTYPE=image/jpeg:https://northernspiritrc.ca/wp-content/uploads/2020/02/Canva-Lit-Candle-on-Dark-Background-scaled-e1584993878296.jpg
END:VEVENT
BEGIN:VEVENT
DTSTART;TZID=America/Edmonton:20200401T183000
DTEND;TZID=America/Edmonton:20200401T200000
DTSTAMP:20260421T195408
CREATED:20200323T201228Z
LAST-MODIFIED:20200415T151422Z
UID:10000091-1585765800-1585771200@northernspiritrc.ca
SUMMARY:Regional Councils Lay Leaders COVID weekly check in
DESCRIPTION:Lay Leaders and Pastoral Charge Supervisors will gather Wednesdays at:\n5:30 PM in BC; 6:30 PM in AB and NWT. \nSome meetings will have specific resource people\, in which case\, ministry personnel are welcome to join. These gatherings cover the Northern Spirit\, Living Skies\, and Prairie to Pine Regional Councils. \nRecurring link:  https://united-church.zoom.us/j/978525442\nDial in if you have a limited or slow connection: 1-855-703-8985.\nMeeting ID is in the link: 978 525 442 \n 
URL:https://northernspiritrc.ca/event/regional-councils-lay-leaders-covid-weekly-check-in/2020-04-01/
LOCATION:Alberta
CATEGORIES:Events,Regional event
ATTACH;FMTTYPE=image/jpeg:https://northernspiritrc.ca/wp-content/uploads/2020/02/Canva-CuppedHands-Holding-Lit-Candle-Photo-by-Myriams-Fotos-scaled-e1584742572294.jpg
END:VEVENT
BEGIN:VEVENT
DTSTART;TZID=America/Edmonton:20200331T133000
DTEND;TZID=America/Edmonton:20200331T150000
DTSTAMP:20260421T195408
CREATED:20200323T200540Z
LAST-MODIFIED:20200415T152040Z
UID:10000076-1585661400-1585666800@northernspiritrc.ca
SUMMARY:Ministry Personnel COVID check in
DESCRIPTION:Every Tuesday\, 1:30 pm MDT (AB\, SK and NWT); 12:30 pm PDT (BC). \nMinistry Personnel currently serving Pastoral Charges and other ministry sites are encouraged to attend.\nThis will be a weekly check-in\, scheduled until June 30\, 2020.\nThe Meeting ID and link have been sent to all active Ministry Personnel.\nPlease contact the Regional Office if you have not received the email. \nAll regional COVID updates are here: https://northernspiritrc.ca/covid-19coronavirusnews/ \nAll national church updates are here: https://www.united-church.ca/covid-19
URL:https://northernspiritrc.ca/event/ministry-personnel-covid-check-in/2020-03-31/
LOCATION:Alberta
CATEGORIES:Regional event
ATTACH;FMTTYPE=image/jpeg:https://northernspiritrc.ca/wp-content/uploads/2020/02/Canva-Lit-Candle-on-Dark-Background-scaled-e1584993878296.jpg
END:VEVENT
BEGIN:VEVENT
DTSTART;TZID=America/Edmonton:20200325T183000
DTEND;TZID=America/Edmonton:20200325T200000
DTSTAMP:20260421T195408
CREATED:20200323T201228Z
LAST-MODIFIED:20200415T151422Z
UID:10000090-1585161000-1585166400@northernspiritrc.ca
SUMMARY:Regional Councils Lay Leaders COVID weekly check in
DESCRIPTION:Lay Leaders and Pastoral Charge Supervisors will gather Wednesdays at:\n5:30 PM in BC; 6:30 PM in AB and NWT. \nSome meetings will have specific resource people\, in which case\, ministry personnel are welcome to join. These gatherings cover the Northern Spirit\, Living Skies\, and Prairie to Pine Regional Councils. \nRecurring link:  https://united-church.zoom.us/j/978525442\nDial in if you have a limited or slow connection: 1-855-703-8985.\nMeeting ID is in the link: 978 525 442 \n 
URL:https://northernspiritrc.ca/event/regional-councils-lay-leaders-covid-weekly-check-in/2020-03-25/
LOCATION:Alberta
CATEGORIES:Events,Regional event
ATTACH;FMTTYPE=image/jpeg:https://northernspiritrc.ca/wp-content/uploads/2020/02/Canva-CuppedHands-Holding-Lit-Candle-Photo-by-Myriams-Fotos-scaled-e1584742572294.jpg
END:VEVENT
BEGIN:VEVENT
DTSTART;TZID=America/Edmonton:20200314T100000
DTEND;TZID=America/Edmonton:20200314T153000
DTSTAMP:20260421T195408
CREATED:20200229T230102Z
LAST-MODIFIED:20200229T230102Z
UID:10000075-1584180000-1584199800@northernspiritrc.ca
SUMMARY:PIE Day celebration-United in Pride
DESCRIPTION:March 14\, 10 am to 3:30 pm \nWho: Everyone! Open to the community. For those who want to learn about gender identities and sexual orientations\, and being publicly\, intentionally\, and explicitly (PIE) welcoming and supportive. \nPresenter: Michael Green\, Executive Director\, altView Foundation \nMorning Session: LGBTQ 101 followed by sharing circles\nLunch: all kinds of pies: meat\, vegan\, quiche\, pizza\, dessert\nAfternoon Session: History and Context of Pride\, followed by sharing circles\, and brainstorming what next steps might be taken in creating a safe and caring community.\nNo admission fee but donations accepted.\nRegister by calling the church office: 780-675-2341 \nContact: Cecile Fausak\nEmail: cecilefausak@telus.net\nPhone: 780-675-7753
URL:https://northernspiritrc.ca/event/pie-day-celebration-united-in-pride/
LOCATION:Athabasca United Church\, 4817 - 48 St\, Athabasca\, AB\, T9S 1R3\, Canada
CATEGORIES:Community events,LGBTQIA2S+
ATTACH;FMTTYPE=image/png:https://northernspiritrc.ca/wp-content/uploads/2020/02/PIE-Day-2020-Logo-Instagram.png
END:VEVENT
END:VCALENDAR