BEGIN:VCALENDAR
VERSION:2.0
PRODID:-//Northern Spirit Regional Council - ECPv6.15.20//NONSGML v1.0//EN
CALSCALE:GREGORIAN
METHOD:PUBLISH
X-ORIGINAL-URL:https://northernspiritrc.ca
X-WR-CALDESC:Events for Northern Spirit Regional Council
REFRESH-INTERVAL;VALUE=DURATION:PT1H
X-Robots-Tag:noindex
X-PUBLISHED-TTL:PT1H
BEGIN:VTIMEZONE
TZID:America/Edmonton
BEGIN:DAYLIGHT
TZOFFSETFROM:-0700
TZOFFSETTO:-0600
TZNAME:MDT
DTSTART:20240310T090000
END:DAYLIGHT
BEGIN:STANDARD
TZOFFSETFROM:-0600
TZOFFSETTO:-0700
TZNAME:MST
DTSTART:20241103T080000
END:STANDARD
BEGIN:DAYLIGHT
TZOFFSETFROM:-0700
TZOFFSETTO:-0600
TZNAME:MDT
DTSTART:20250309T090000
END:DAYLIGHT
BEGIN:STANDARD
TZOFFSETFROM:-0600
TZOFFSETTO:-0700
TZNAME:MST
DTSTART:20251102T080000
END:STANDARD
BEGIN:DAYLIGHT
TZOFFSETFROM:-0700
TZOFFSETTO:-0600
TZNAME:MDT
DTSTART:20260308T090000
END:DAYLIGHT
BEGIN:STANDARD
TZOFFSETFROM:-0600
TZOFFSETTO:-0700
TZNAME:MST
DTSTART:20261101T080000
END:STANDARD
BEGIN:DAYLIGHT
TZOFFSETFROM:-0700
TZOFFSETTO:-0600
TZNAME:MDT
DTSTART:20270314T090000
END:DAYLIGHT
BEGIN:STANDARD
TZOFFSETFROM:-0600
TZOFFSETTO:-0700
TZNAME:MST
DTSTART:20271107T080000
END:STANDARD
END:VTIMEZONE
BEGIN:VEVENT
DTSTART;TZID=America/Edmonton:20250727T153000
DTEND;TZID=America/Edmonton:20250727T170000
DTSTAMP:20260422T160317
CREATED:20250625T202451Z
LAST-MODIFIED:20250625T203750Z
UID:10000492-1753630200-1753635600@northernspiritrc.ca
SUMMARY:Launch: Here from the Beginning exhibit
DESCRIPTION:Pilgrim United Church in Edmonton\, Alberta\, announces the opening of: “Here From the Beginning”\, a tribute to the profound contributions of Black communities to The United Church of Canada. This milestone event\, part of the United Church’s 100th anniversary year\, will open its doors on July 27\, 2025\, at 3:30 p.m. Full information about the virtual and travelling exhibits\, and a nationwide story-collecting journey\, are here on the website. \nThis groundbreaking exhibition offers visitors a unique opportunity to discover the rich and resilient history of Black people within The United Church of Canada. Through stories of leadership\, struggle\, and triumph\, the exhibition highlights the indelible mark left by Black individuals and communities on the church’s history\, work\, and calling. Please join us for this launch and celebration! The date has been set to work alongside Emancipation Day in Canada\, August 1\,  which marks the actual day in 1834 that the Slavery Abolition Act of 1833 came into effect across the British Empire. \nFeel free to save and use the image above widely; here is a PDF version of the same poster.
URL:https://northernspiritrc.ca/event/launch-here-from-the-beginning-exhibit/
LOCATION:Pilgrim United Church\, 9008-135 Ave. NW\, Edmonton\, Alberta\, T5E 1N4\, Canada
CATEGORIES:Intercultural,Regional event
ATTACH;FMTTYPE=image/jpeg:https://northernspiritrc.ca/wp-content/uploads/2025/06/Here-From-the-Beginning-July27Launch-scaled.jpg
END:VEVENT
BEGIN:VEVENT
DTSTART;TZID=America/Edmonton:20250808T080000
DTEND;TZID=America/Edmonton:20250808T113000
DTSTAMP:20260422T160317
CREATED:20250729T184541Z
LAST-MODIFIED:20250729T184541Z
UID:10000495-1754640000-1754652600@northernspiritrc.ca
SUMMARY:Leduc: In person witness of the UCC Apology to Two Spirit LGBTQIA+people
DESCRIPTION:St David’s United Church invites you to attend a viewing of the United Church’s Apology to Two Spirit and LGBTQIA+ people within a warm\, caring Circle of Support\, August 8\, 2025. \nJoin us at 4614 48 Street\, Leduc\, AB  to participate online in worship and the formal Apology from the United Church of Canada.  This is open to all. You do not need to be part of the United Church to join the circle. \nSchedule:\n8:30am Mountain Daylight Time- Gathering\n9am The Apology: Witness the Apology via livestream.\nAfter the Apology\, we will gently hold space together for as long as needed. Refreshments will be supplied. \nHere is more background on the United Church’s apology. \nMore details on the participation options on August 8. \nOverview of the Apology’s process of creation. \n 
URL:https://northernspiritrc.ca/event/leduc-in-person-witness-of-the-ucc-apology-to-two-spirit-lgbtqiapeople/
LOCATION:St. David’s United Church\, Leduc\, 4614 - 48 St.\, Leduc\, Alberta\, T9E 5X7\, Canada
CATEGORIES:Community events,Intercultural,LGBTQIA2S+,Regional event
ATTACH;FMTTYPE=image/png:https://northernspiritrc.ca/wp-content/uploads/2025/07/apology_2s-lgbtqia_promo-GC45.png
END:VEVENT
BEGIN:VEVENT
DTSTART;TZID=America/Edmonton:20250808T083000
DTEND;TZID=America/Edmonton:20250808T130000
DTSTAMP:20260422T160317
CREATED:20250725T231906Z
LAST-MODIFIED:20250729T184250Z
UID:10000494-1754641800-1754658000@northernspiritrc.ca
SUMMARY:Sherwood Park: In-person community: United Church’s Apology to 2SLGBTQIA+ people
DESCRIPTION:Sherwood Park United Church invites you to attend a viewing of the United Church’s Apology to Two Spirit and LGBTQIA+ people within a warm\, caring Circle of Support\, August 8\, 2025. \nJoin us at 20 Fir St\, Sherwood Park AB to participate online in worship and the formal Apology from the United Church of Canada. *Sherwood Park United Church is an Affirming Community of Faith.* This is open to all. You do not need to be part of the United Church to join the circle. \nSchedule:\n8:30am Mountain Daylight Time- Gathering: Muffins\, coffee\, tea & juice.\n9am The Apology: Witness the Apology via Zoom on the large screen.\nAfter the Apology\, we will gently hold space together for as long as needed. \nHere is more background on the United Church’s apology. \nMore details on the participation options on August 8. \nOverview of the Apology’s process of creation.
URL:https://northernspiritrc.ca/event/in-person-community-united-churchs-apology-to-2slgbtqia-people-2/
LOCATION:Sherwood Park United Church\, 20 Fir St\, Sherwood Park\, Alberta\, T8A 1Z6\, Canada
CATEGORIES:Community events,Intercultural,LGBTQIA2S+,Regional event
ATTACH;FMTTYPE=image/png:https://northernspiritrc.ca/wp-content/uploads/2025/07/apology_2s-lgbtqia_promo-GC45.png
END:VEVENT
BEGIN:VEVENT
DTSTART;TZID=America/Edmonton:20250925T123000
DTEND;TZID=America/Edmonton:20250925T140000
DTSTAMP:20260422T160317
CREATED:20250903T232458Z
LAST-MODIFIED:20250909T181152Z
UID:10000508-1758803400-1758808800@northernspiritrc.ca
SUMMARY:God-Talks from Diasporic Filipino Ministers in the UCC
DESCRIPTION:Our lunch time Intercultural Coffee Chai series resumes! \nThursday\, Sept 25\, 2025\, 12:30pm MDT and CST/1:30pm CDT (90 minutes).  \nIntercultural Stories and Narratives: God-Talks from Diasporic Filipino Ministers in the United Church of Canada \nBring your lunch and join us as we resume the Western Intercultural Ministries Network 100th Anniversary series honouring ethno-cultural communities within the United Church. \nThe Filipino Ministers Network in The United Church of Canada invites you to join them for a panel discussion about seeking God in the midst of every-day life. In the Philippines\, theologizing is embodied in everyday life; not seen as a separate religious category or exercise. Faith grows out of our lived experience: life-stories\, turning points\, crises and celebrations. God is active in shaping our everyday decision-making. \nWe’ve invited three Filipino ministers to reflect on their own faith-journeys\, and describe how they have come to talk about God differently with each other\, and with the congregations they lead. They’ll talk about how being immigrants to Canada has shaped their understanding of God\, and how theologies emerging in the Philippines can enrich their life and work within the Canadian church and culture. \nJoin us to broaden your theological imagination! \nZoom info:\nhttps://united-church.zoom.us/j/81253431672?pwd=Bg3Wb0bPR1IvIn48wLLyZLw2GPL6Yi.1 \nMeeting ID: 812 5343 1672        Password: 231524 \nPhone as needed: 855 703 8985 Canada Toll-free \nPanelists\, Topics\, and Bios\n\n\nRev. Noel Suministrado\,“A Filipino Theology of Diaspora; Some Initial Notes and Reflections”\n\n\nRev. Noel Suministrado was born in Tayabas\, Quezon\, Philippines. He is an ordained minister of United Church of Christ in the Philippines (UCCP) and took his theological studies in Union Theological Seminary\, Philippines\, and the Master of Ecumenical Studies in Bossey Ecumenical Institute and University of Geneva in Switzerland. \nBefore he came to Canada\, he taught Ecumenical Theology in Union Theological Seminary and was the first minister to be assigned in the Mutual Recognition of Ministry Personnel Agreement program of the UCC in 2017. He served Broadway Disciples United Church in Winnipeg for four years and Hamiota United Church of which is his present pastoral charge. \nAmong his involvements are: UCC -Roman Catholic Dialogue\, the International Dialogue of the Disciples of Christ -Roman Catholic Church\, the Commission of Faith and Witness of the Canadian Council of Churches and is currently member of Theology Interchurch and InterFaith Committee (TICIF) of the United Church of Canada. \n\n\nRev. Kim Vidal\, “Embodying the Mary-Martha Paradigm of Ministry”\n\n\nRev. Kim Vidal lives in the city of Ottawa\, Ontario\, Canada and is currently serving Bells Corners United Church\, in her 12th year.  Kim was born in the Philippines and was baptized and confirmed in the United Methodist Church. She immigrated to Ottawa\, Ontario in 1994 and transferred her membership to Wesley United Church (Ottawa) in 1995. She completed her Bachelor of Theology degree at St. Paul University in Ottawa (1996) and then garnered her Master of Divinity at Queen’s Theological College in Kingston\, Ontario (2008). She was ordained at the annual general meeting of the Ottawa-Montreal Conference of the United Church of Canada in 2009. \n\n\nRev. Ariel Siagan\, “Christian Activism Among Filipino Diasporic Communities”\n\n\nRev Siagan is currently finishing his PhD thesis at Trinity College\, University of Toronto. He completed his Master’s degree in Theology in Seoul\, South Korea and then gained six years of congregational ministry experience in the Philippines. He also has ten years of ecumenical experience with the National Council of Churches in the Philippines. \n 
URL:https://northernspiritrc.ca/event/god-talks-from-diasporic-filipino-ministers-in-the-ucc/
LOCATION:Zoom
CATEGORIES:100th Anniversary of the UCC,Ecumenical Partners,Global Witness,Intercultural,Regional event
ATTACH;FMTTYPE=image/jpeg:https://northernspiritrc.ca/wp-content/uploads/2025/09/WIMN-Sept-2025-poster-scaled.jpg
END:VEVENT
BEGIN:VEVENT
DTSTART;TZID=America/Edmonton:20251101T100000
DTEND;TZID=America/Edmonton:20251101T143000
DTSTAMP:20260422T160317
CREATED:20250320T193328Z
LAST-MODIFIED:20251009T201218Z
UID:10000441-1761991200-1762007400@northernspiritrc.ca
SUMMARY:Affirming Donut Meeting!
DESCRIPTION:We’re trying this event again\, and this time we’re including both the area around Edmonton (the donut) and Edmonton itself (the timbit!) \nAll Affirming and affirming-curious / supportive ministries and all affirming people welcome. Your ministry can send as a many people as you like! \nWe’re focusing on Edmonton and the rural and smaller town circle all around Edmonton- imagine a big circle around 90 minutes’ drive wide all around Edmonton. Rural\, small town\, and bigger town\, come join us.  We need your diverse voices and experiences. Come for support\, visiting\, planning together\, and lunch. \nPlanned and hosted by the Northern Spirit Regional Council Affirm Team.  \nPlease register here so we have numbers for lunch. \nPlease click here to download the PDF poster. \nYou can right click or hold your finger down on the image to save it; use freely! \nQuestions? Contact staff (to protect committee members’ email information): Julie Graham\, jgraham@united-church.ca or ChloeBurns\, chburns@united-church.ca and we will pass your note on.
URL:https://northernspiritrc.ca/event/affirming-donut-meeting/
LOCATION:Southminster-Steinhauer United Church\, 10740-19 Ave NW\, Edmonton\, AB\, T6J 6W9
CATEGORIES:Community events,Intercultural,LGBTQIA2S+,Regional event
ATTACH;FMTTYPE=image/png:https://northernspiritrc.ca/wp-content/uploads/2025/03/Affirming-doughnut-and-timbit-meeting-25Oct2025-1200-x-800-px.png
END:VEVENT
BEGIN:VEVENT
DTSTART;TZID=America/Edmonton:20260319T123000
DTEND;TZID=America/Edmonton:20260319T140000
DTSTAMP:20260422T160317
CREATED:20260226T222210Z
LAST-MODIFIED:20260302T164109Z
UID:10000642-1773923400-1773928800@northernspiritrc.ca
SUMMARY:Western Intercultural Ministry Network Coffee Chai
DESCRIPTION:Western Intercultural Ministry Network Coffee Chai: Korean Stories and Wisdom in Intercultural Ministry in the United Church of Canada \n  \nEvent Date:        Thursday\, March 19\, 2026\,  11:30AM (PT) /12:30PM (MT) /1:30PM (CT) /2:30PM (ET) /3:30PM (AT) \nKoreans in The United Church of Canada are deeply thankful to God for leading us to the United Church to serve God and neighbours in solidarity for love\, justice and peace. UCCan Korean Network is honoured to share Korean stories and wisdom with friends in Western Intercultural Ministry Network. In Coffee Chai\, Koreans will talk about their historical experiences of intercultural ministry\, their dynamic involvement in diverse activities and theological contribution in the United Church. \nPlease register for this event to receive the Zoom connection information: \nhttps://united-church.zoom.us/meeting/register/A3j2n5goSvWDKmETDknzrg  \n*After registering\, you will receive a confirmation email containing information about joining the meeting. \n  \nPresenters: \n\nSunDo Hyun \nBorn and raised in South Korea\, SunDo became an ordained minister in the Presbyterian Church in the Republic of Korea (PROK) in 2008. He moved to Canada in 2009 to begin the MTS program at St. Andrew’s College in Saskatoon\, SK. He later discerned a call to continue his ministry vocation in Canada and became a minister of the United Church of Canada through admission in 2016. He is currently serving Grace United Church in Meadow Lake\, SK. \n  \n  \n\nYoonOk Shin \nYoon Ok is a Diaconal Minister in the United Church of Canada who was commissioned in 2000. As a mother\, she cherishes spending time with her grown-up son and daughter-in-law\, especially over a cup of tea.  She enjoys yoga and walking to nurture her spiritual and personal wellbeing. She has nurtured her spiritual growth within the Faithful Companions of Jesus community for over 20 years. She has held various volunteer leadership roles within the United Church of Canada and the Korean United Church communities\, as well as paid staff roles in the Edmonton Presbytery. She also participated in volunteer intercultural ministry work in the Alberta Northwest Conference. She currently serves at Willowdale Immanuel United Church in a bilingual ministry\, fostering an inclusive intercultural faith community. \n  \n\nSungsoon Park  \nRev. Sungsoon Park serves as minister of the collaborative ministry between St. John’s United Church in Bonnyville\, Alberta and Trinity United Church in Cold Lake\, Alberta. \nHe was born and raised in South Korea and came to Canada in 2004. He completed the Master of Divinity at St. Andrew’s College in 2023 and was ordained in October 2023. \n  \n\nJi Hye (Sophia) Han \nJi Hye (Sophia) Han is a member of the Alpha Korean United Church in North York\, Ontario\, who supports the UCC Korean Network on their Support & Education Team\, as well as being leader of the Faith and Health Small Group.  Ji Hye is Director of JH Wellness Clinic and is a Certified Nutritional Practitioner (CNP)\, a Clinical Holistic Cancer Practitioner (CHCP)\, a Registered Orthomolecular Health Practitioner (ROHP).  Ji Hye is a graduate of Methodist Theological University\, where she completed her Bachelor of Arts in Theology and a Master of Arts in Pastoral Counselling.
URL:https://northernspiritrc.ca/event/western-intercultural-ministry-network-coffee-chai/
LOCATION:Zoom
CATEGORIES:Community events,Events,Intercultural
ATTACH;FMTTYPE=image/png:https://northernspiritrc.ca/wp-content/uploads/2026/02/ICMN-march-2026.png
END:VEVENT
END:VCALENDAR