BEGIN:VCALENDAR
VERSION:2.0
PRODID:-//Northern Spirit Regional Council - ECPv6.15.20//NONSGML v1.0//EN
CALSCALE:GREGORIAN
METHOD:PUBLISH
X-ORIGINAL-URL:https://northernspiritrc.ca
X-WR-CALDESC:Events for Northern Spirit Regional Council
REFRESH-INTERVAL;VALUE=DURATION:PT1H
X-Robots-Tag:noindex
X-PUBLISHED-TTL:PT1H
BEGIN:VTIMEZONE
TZID:America/Edmonton
BEGIN:DAYLIGHT
TZOFFSETFROM:-0700
TZOFFSETTO:-0600
TZNAME:MDT
DTSTART:20240310T090000
END:DAYLIGHT
BEGIN:STANDARD
TZOFFSETFROM:-0600
TZOFFSETTO:-0700
TZNAME:MST
DTSTART:20241103T080000
END:STANDARD
BEGIN:DAYLIGHT
TZOFFSETFROM:-0700
TZOFFSETTO:-0600
TZNAME:MDT
DTSTART:20250309T090000
END:DAYLIGHT
BEGIN:STANDARD
TZOFFSETFROM:-0600
TZOFFSETTO:-0700
TZNAME:MST
DTSTART:20251102T080000
END:STANDARD
BEGIN:DAYLIGHT
TZOFFSETFROM:-0700
TZOFFSETTO:-0600
TZNAME:MDT
DTSTART:20260308T090000
END:DAYLIGHT
BEGIN:STANDARD
TZOFFSETFROM:-0600
TZOFFSETTO:-0700
TZNAME:MST
DTSTART:20261101T080000
END:STANDARD
END:VTIMEZONE
BEGIN:VEVENT
DTSTART;TZID=America/Edmonton:20250725T190000
DTEND;TZID=America/Edmonton:20250725T203000
DTSTAMP:20260420T195114
CREATED:20250407T184413Z
LAST-MODIFIED:20250407T184413Z
UID:10000454-1753470000-1753475400@northernspiritrc.ca
SUMMARY:Book Tour: Queer and Christian with author Rev. Brandan Robertson
DESCRIPTION:Join author and activist\, Rev. Brandan Robertson for a book signing and Q&A evening. His most recent book\, Queer & Christian is not only a compelling interpretation of key biblical texts but also an inspiring testament to the resilience and faith of queer Christians. It serves as a vital resource for anyone seeking to understand how queer identity and Christian faith can coexist\, providing theological insights and practical advice to empower queer Christians and their allies. \n*Books will be available for sale at the event*\nhttps://www.brandanrobertson.com/queer-christian-book
URL:https://northernspiritrc.ca/event/book-tour-queer-and-christian-with-author-rev-brandan-robertson/
LOCATION:Robertson-Wesley United Church\, 10209 123 st\, Edmonton\, Alberta\, T5N 1N3\, Canada
CATEGORIES:Community events,Intercultural,LGBTQIA2S+
ATTACH;FMTTYPE=image/jpeg:https://northernspiritrc.ca/wp-content/uploads/2025/04/4.jpg
ORGANIZER;CN="Robertson-Wesley United Church":MAILTO:mail@rwuc.org
END:VEVENT
END:VCALENDAR