BEGIN:VCALENDAR
VERSION:2.0
PRODID:-//Northern Spirit Regional Council - ECPv6.15.20//NONSGML v1.0//EN
CALSCALE:GREGORIAN
METHOD:PUBLISH
X-WR-CALNAME:Northern Spirit Regional Council
X-ORIGINAL-URL:https://northernspiritrc.ca
X-WR-CALDESC:Events for Northern Spirit Regional Council
REFRESH-INTERVAL;VALUE=DURATION:PT1H
X-Robots-Tag:noindex
X-PUBLISHED-TTL:PT1H
BEGIN:VTIMEZONE
TZID:America/Edmonton
BEGIN:DAYLIGHT
TZOFFSETFROM:-0700
TZOFFSETTO:-0600
TZNAME:MDT
DTSTART:20240310T090000
END:DAYLIGHT
BEGIN:STANDARD
TZOFFSETFROM:-0600
TZOFFSETTO:-0700
TZNAME:MST
DTSTART:20241103T080000
END:STANDARD
BEGIN:DAYLIGHT
TZOFFSETFROM:-0700
TZOFFSETTO:-0600
TZNAME:MDT
DTSTART:20250309T090000
END:DAYLIGHT
BEGIN:STANDARD
TZOFFSETFROM:-0600
TZOFFSETTO:-0700
TZNAME:MST
DTSTART:20251102T080000
END:STANDARD
BEGIN:DAYLIGHT
TZOFFSETFROM:-0700
TZOFFSETTO:-0600
TZNAME:MDT
DTSTART:20260308T090000
END:DAYLIGHT
BEGIN:STANDARD
TZOFFSETFROM:-0600
TZOFFSETTO:-0700
TZNAME:MST
DTSTART:20261101T080000
END:STANDARD
END:VTIMEZONE
BEGIN:VEVENT
DTSTART;TZID=America/Edmonton:20250227T100000
DTEND;TZID=America/Edmonton:20250227T160000
DTSTAMP:20260421T021657
CREATED:20250123T233036Z
LAST-MODIFIED:20250213T210613Z
UID:10000418-1740650400-1740672000@northernspiritrc.ca
SUMMARY:Learning gathering on unmarked burials
DESCRIPTION:Our Sacred Responsibilities: learning from the Unmarked Burials report and challenging settler denial. \nAll people of all backgrounds welcome to this day-long learning gathering\, open to Indigenous and non-Indigenous people. We will focus somewhat on the United Church’s responsibilities\, but all backgrounds are welcome as a full part of the day\, and we will not focus only on the United Church. \nTogether we will learn about the recent report on unmarked burials; explore what reparations means; learn about the problem of settler denialism; and practice together how to challenge it. Speakers and knowledge keepers will help us\, and all who come are full participants in helping each other and our communities create a good path forward. \nCommunity\, prayer\, ceremony\, and cultural supports will be part of our day. A separate support space is also available to First Nations\, Métis and Inuit\, respecting that this is a hard topic. \nPractical details\nPlease click here to register. Registration is free but required\, so we can plan for meals.  \nThe full reports from the Office of the Special Interlocutor on Unmarked Burials are available here. (They’re long\, which is one of the reasons we’re offering this learning space.) \nClick here for a PDF poster to share with your community. You can also use the image at the top of this page. \nResource people: elder Wilson Bearhead (invited); elder Dennis Paul;  knowledge keepers Rev John Snow and Rev Tony Snow; Sara Stratton\, Reconciliation and Justice Animator at the General Council of the United Church. \nPlan for our day: 9:30 gathering and coffee; program begins at 10:00AM; we will finish no later than 4:00PM. Our day will include (among other things): prayer and ceremony; an overview of key parts of the report on unmarked burials; reflection from a survivor; what do we and the report mean by “reparations”; what is settler denial\, and how can we challenge it? \nOur space: The building is fully accessible\, and we will be using mics to assist those with hearing needs. We will be in a space where Christian symbols are minimal\, and where smudging and medicines will be part of our day. There is parking on site\, and transit a block away. Lunch and snacks included. \nTravel costs for First Nations\, Métis\, and Inuk participants will be covered. \nOrganized by Indigenous Ministries and Justice of the United Church; Northern Spirit Regional Council: The United Church of Canada; and the Edmonton Cluster of the Being Good Relations Network. Thank you to Spiritual Seekers United in Community/ Southminster-Steinhauer United Church for hosting.
URL:https://northernspiritrc.ca/event/learning-gathering-on-unmarked-burials/
LOCATION:Southminster-Steinhauer United Church\, 10740-19 Ave NW\, Edmonton\, AB\, T6J 6W9
CATEGORIES:General Council,Intercultural,Regional event,Right Relations
ATTACH;FMTTYPE=image/png:https://northernspiritrc.ca/wp-content/uploads/2025/01/Sacred-responsibilities-Edmonton-1200-x-800.png
END:VEVENT
END:VCALENDAR