BEGIN:VCALENDAR
VERSION:2.0
PRODID:-//Northern Spirit Regional Council - ECPv6.15.20//NONSGML v1.0//EN
CALSCALE:GREGORIAN
METHOD:PUBLISH
X-WR-CALNAME:Northern Spirit Regional Council
X-ORIGINAL-URL:https://northernspiritrc.ca
X-WR-CALDESC:Events for Northern Spirit Regional Council
REFRESH-INTERVAL;VALUE=DURATION:PT1H
X-Robots-Tag:noindex
X-PUBLISHED-TTL:PT1H
BEGIN:VTIMEZONE
TZID:America/Edmonton
BEGIN:DAYLIGHT
TZOFFSETFROM:-0700
TZOFFSETTO:-0600
TZNAME:MDT
DTSTART:20230312T090000
END:DAYLIGHT
BEGIN:STANDARD
TZOFFSETFROM:-0600
TZOFFSETTO:-0700
TZNAME:MST
DTSTART:20231105T080000
END:STANDARD
BEGIN:DAYLIGHT
TZOFFSETFROM:-0700
TZOFFSETTO:-0600
TZNAME:MDT
DTSTART:20240310T090000
END:DAYLIGHT
BEGIN:STANDARD
TZOFFSETFROM:-0600
TZOFFSETTO:-0700
TZNAME:MST
DTSTART:20241103T080000
END:STANDARD
BEGIN:DAYLIGHT
TZOFFSETFROM:-0700
TZOFFSETTO:-0600
TZNAME:MDT
DTSTART:20250309T090000
END:DAYLIGHT
BEGIN:STANDARD
TZOFFSETFROM:-0600
TZOFFSETTO:-0700
TZNAME:MST
DTSTART:20251102T080000
END:STANDARD
END:VTIMEZONE
BEGIN:VEVENT
DTSTART;TZID=America/Edmonton:20240601T140000
DTEND;TZID=America/Edmonton:20240601T173000
DTSTAMP:20260421T160818
CREATED:20240329T211214Z
LAST-MODIFIED:20240528T234025Z
UID:10000308-1717250400-1717263000@northernspiritrc.ca
SUMMARY:Regional Council Affirming Celebration and Ordination
DESCRIPTION: Regional Council Affirming celebration and Celebration of Ministries service\, Saturday June 1 at 2:00PM\, Mill Woods United Church\, Edmonton!  \nHaving completed all the requirements of Affirm United/ S’affirmer Ensemble’s process for becoming a 2SLGBTQIA+ affirming ministry\, Northern Spirit Regional Council will hold its Affirming Celebration in Edmonton. It will include worship\, invited guests\, a livestream for the whole Region\, online dessert\, and an in-person Pride picnic after. Click here for the YouTube link. \nAll are also warmly invited to celebrate the ordination of Carrie Symondson at the same service! \nMill Woods is an accessible space and we thank them for hosting us. \nWe have much to celebrate together. Absolutely everyone is invited.
URL:https://northernspiritrc.ca/event/regional-council-affirming-celebration/
LOCATION:Mill Woods United Church\, 15 Grand Meadow Cres\, Edmonton\, AB\, T6L 1A1\, Canada
CATEGORIES:Intercultural,LGBTQIA2S+,Regional event
ATTACH;FMTTYPE=image/png:https://northernspiritrc.ca/wp-content/uploads/2024/03/Northern-Spirit-Regional-council-Affirming-Celebration-and-Celebration-of-Ministries.png
END:VEVENT
END:VCALENDAR