BEGIN:VCALENDAR
VERSION:2.0
PRODID:-//Northern Spirit Regional Council - ECPv6.15.20//NONSGML v1.0//EN
CALSCALE:GREGORIAN
METHOD:PUBLISH
X-WR-CALNAME:Northern Spirit Regional Council
X-ORIGINAL-URL:https://northernspiritrc.ca
X-WR-CALDESC:Events for Northern Spirit Regional Council
REFRESH-INTERVAL;VALUE=DURATION:PT1H
X-Robots-Tag:noindex
X-PUBLISHED-TTL:PT1H
BEGIN:VTIMEZONE
TZID:America/Edmonton
BEGIN:DAYLIGHT
TZOFFSETFROM:-0700
TZOFFSETTO:-0600
TZNAME:MDT
DTSTART:20210314T090000
END:DAYLIGHT
BEGIN:STANDARD
TZOFFSETFROM:-0600
TZOFFSETTO:-0700
TZNAME:MST
DTSTART:20211107T080000
END:STANDARD
BEGIN:DAYLIGHT
TZOFFSETFROM:-0700
TZOFFSETTO:-0600
TZNAME:MDT
DTSTART:20220313T090000
END:DAYLIGHT
BEGIN:STANDARD
TZOFFSETFROM:-0600
TZOFFSETTO:-0700
TZNAME:MST
DTSTART:20221106T080000
END:STANDARD
BEGIN:DAYLIGHT
TZOFFSETFROM:-0700
TZOFFSETTO:-0600
TZNAME:MDT
DTSTART:20230312T090000
END:DAYLIGHT
BEGIN:STANDARD
TZOFFSETFROM:-0600
TZOFFSETTO:-0700
TZNAME:MST
DTSTART:20231105T080000
END:STANDARD
END:VTIMEZONE
BEGIN:VEVENT
DTSTART;TZID=America/Edmonton:20221028T110000
DTEND;TZID=America/Edmonton:20221028T120000
DTSTAMP:20260423T044004
CREATED:20221025T163043Z
LAST-MODIFIED:20221025T163043Z
UID:10000125-1666954800-1666958400@northernspiritrc.ca
SUMMARY:CCS Fridays: Getting rid of us and them in the church
DESCRIPTION:In this session with new CCS program staff\, Rev. Alcris Limongi\, we will briefly name the processes of exclusion\, marginalization\, and structural inequality that are often unexamined in the church—what we call othering—and seek actions that move towards a church of belonging where there is mutual power\, access\, and opportunity for all people who share the space. Please have a look at our website for the link and more.
URL:https://northernspiritrc.ca/event/ccs-fridays-getting-rid-of-us-and-them-in-the-church/
LOCATION:Zoom\, Canada
CATEGORIES:Community events,Intercultural,Regional event
ATTACH;FMTTYPE=image/jpeg:https://northernspiritrc.ca/wp-content/uploads/2022/10/Center-for-Christian-Studies-Logo-Colour-scaled.jpg
ORGANIZER;CN="Centre for Christian Studies":MAILTO:info@ccsonline.ca
END:VEVENT
END:VCALENDAR