BEGIN:VCALENDAR
VERSION:2.0
PRODID:-//Northern Spirit Regional Council - ECPv6.15.20//NONSGML v1.0//EN
CALSCALE:GREGORIAN
METHOD:PUBLISH
X-ORIGINAL-URL:https://northernspiritrc.ca
X-WR-CALDESC:Events for Northern Spirit Regional Council
REFRESH-INTERVAL;VALUE=DURATION:PT1H
X-Robots-Tag:noindex
X-PUBLISHED-TTL:PT1H
BEGIN:VTIMEZONE
TZID:America/Edmonton
BEGIN:DAYLIGHT
TZOFFSETFROM:-0700
TZOFFSETTO:-0600
TZNAME:MDT
DTSTART:20250309T090000
END:DAYLIGHT
BEGIN:STANDARD
TZOFFSETFROM:-0600
TZOFFSETTO:-0700
TZNAME:MST
DTSTART:20251102T080000
END:STANDARD
BEGIN:DAYLIGHT
TZOFFSETFROM:-0700
TZOFFSETTO:-0600
TZNAME:MDT
DTSTART:20260308T090000
END:DAYLIGHT
BEGIN:STANDARD
TZOFFSETFROM:-0600
TZOFFSETTO:-0700
TZNAME:MST
DTSTART:20261101T080000
END:STANDARD
BEGIN:DAYLIGHT
TZOFFSETFROM:-0700
TZOFFSETTO:-0600
TZNAME:MDT
DTSTART:20270314T090000
END:DAYLIGHT
BEGIN:STANDARD
TZOFFSETFROM:-0600
TZOFFSETTO:-0700
TZNAME:MST
DTSTART:20271107T080000
END:STANDARD
END:VTIMEZONE
BEGIN:VEVENT
DTSTART;TZID=America/Edmonton:20260528T180000
DTEND;TZID=America/Edmonton:20260528T193000
DTSTAMP:20260422T041009
CREATED:20260421T142636Z
LAST-MODIFIED:20260421T142636Z
UID:10000665-1779991200-1779996600@northernspiritrc.ca
SUMMARY:Kirk Centre's FREE Community Dinner - East Indian
DESCRIPTION:🍽️ Free Community Dinner at Kirk Centre!\nJoin us on Thursday\, May 28th for a delicious evening of food and connection 💛\nIn partnership with Bissell Harvest Catering\, enjoy a flavour-packed menu including:\n✨ Veggie samosas & pakora\n✨ Butter chicken & paneer butter masala\n✨ Chilli chicken\n✨ Saffron rice pilaf & naan\nGluten Free and Vegetarian options available\n🎟️ FREE – RSVP required\nRegister at: https://www.kirkcentre.ca/upcoming-events\nCall 780-438-6619 or email sally@kirkcentre.ca\nSpots fill fast—save yours today!\nProudly funded by the Government of Alberta’s Ethnocultural Grant.
URL:https://northernspiritrc.ca/event/kirk-centres-free-community-dinner-east-indian/
LOCATION:Kirk United Church Community Centre\, 13535 122 Ave NW\, Edmonton\, Alberta\, T5L 2V7\, Canada
CATEGORIES:Community events
ATTACH;FMTTYPE=image/png:https://northernspiritrc.ca/wp-content/uploads/2026/04/Insta-Landscape-May-28-Free-Dinner-1.png
END:VEVENT
END:VCALENDAR