BEGIN:VCALENDAR
VERSION:2.0
PRODID:-//Northern Spirit Regional Council - ECPv6.15.20//NONSGML v1.0//EN
CALSCALE:GREGORIAN
METHOD:PUBLISH
X-WR-CALNAME:Northern Spirit Regional Council
X-ORIGINAL-URL:https://northernspiritrc.ca
X-WR-CALDESC:Events for Northern Spirit Regional Council
REFRESH-INTERVAL;VALUE=DURATION:PT1H
X-Robots-Tag:noindex
X-PUBLISHED-TTL:PT1H
BEGIN:VTIMEZONE
TZID:America/Edmonton
BEGIN:DAYLIGHT
TZOFFSETFROM:-0700
TZOFFSETTO:-0600
TZNAME:MDT
DTSTART:20250309T090000
END:DAYLIGHT
BEGIN:STANDARD
TZOFFSETFROM:-0600
TZOFFSETTO:-0700
TZNAME:MST
DTSTART:20251102T080000
END:STANDARD
BEGIN:DAYLIGHT
TZOFFSETFROM:-0700
TZOFFSETTO:-0600
TZNAME:MDT
DTSTART:20260308T090000
END:DAYLIGHT
BEGIN:STANDARD
TZOFFSETFROM:-0600
TZOFFSETTO:-0700
TZNAME:MST
DTSTART:20261101T080000
END:STANDARD
BEGIN:DAYLIGHT
TZOFFSETFROM:-0700
TZOFFSETTO:-0600
TZNAME:MDT
DTSTART:20270314T090000
END:DAYLIGHT
BEGIN:STANDARD
TZOFFSETFROM:-0600
TZOFFSETTO:-0700
TZNAME:MST
DTSTART:20271107T080000
END:STANDARD
END:VTIMEZONE
BEGIN:VEVENT
DTSTART;TZID=America/Edmonton:20260510T130000
DTEND;TZID=America/Edmonton:20260510T160000
DTSTAMP:20260422T040953
CREATED:20260421T193051Z
LAST-MODIFIED:20260421T212935Z
UID:10000667-1778418000-1778428800@northernspiritrc.ca
SUMMARY:Public event: Filipino peasant farmers leader
DESCRIPTION:The Philippine Peasant Farmer Movement is coming to Edmonton! \nDanilo “Ka Daning” Ramos is a veteran peasant farmer leader and one of the most respected voices of the Filipino Farmer’s Movement. He currently stands as the National Chairperson of Kilusang Magbubukid ng Pilipinas (KMP)\, advancing the rights and struggles of millions of peasants\, farm workers\, youth\, women\, and Indigenous peoples across the Philippines. \nKa Daning’s tour comes amid intensified militarization and human rights abuses against peasant farmers and Indigenous communities at the hands of the Armed Forces of the Philippines (AFP) and backed by foreign US forces\, with continued land dispossession\, displacement\, kidnappings\, and bombings. \nThe recent Canada-Philippine Status of Visiting Forces Agreement (SOVFA) will see Canadian troops on the ground in the Philippines backing the AFP. This will result in continued violence against farmers\, repression of resistance to destructive Canadian mining operations\, and escalation for war with China through the Indo-Pacific Strategy (IPT) and the upcoming Balikatan War Games. \nPhilippine Edmonton Solidarity Organization (PESO)\, Anakbayan Edmonton\, and Migrante Alberta\, call on our allies to build international solidarity with the Filipino Peasants Movement\, and to come out and learn from Ka Daning on the struggles for land reform\, rural development\, people’s rights\, and national liberation.\nUnited Church people: The International Coalition for Human Rights in the Philippines is a sponsor of brother Danilo’s visit\, and they are a longtime United Church partner here in Canada. We are also close companions of the United Church of Christ in the Philippines\, and together the people of the United Church have long been involved in challenging Canadian complicity in human rights violations throughout the archipelago. Canadian mining companies have had serious impacts in the Philippines\, in part because they are often protected by the Filipino military. This new military agreement is a serious concern. We are invited to learn in community. \nInterested in supporting or getting involved? – Fill out our interest form today: tinyurl.com/KDTEDM \nOr contribute to our fundraising efforts:\n– Etransfer with note “Ka Daning” to\n– migrantealberta@gmail.com \n 
URL:https://northernspiritrc.ca/event/public-event-filipino-peasant-farmers-leader/
LOCATION:Ironworkers Union Hall\, 10512 122 St NW\, Edmonton\, AB\, Canada
CATEGORIES:Community events,Ecumenical Partners,Global Witness
ATTACH;FMTTYPE=image/png:https://northernspiritrc.ca/wp-content/uploads/2026/04/KaDaningEvent-Edmonton-10May2026.png
END:VEVENT
BEGIN:VEVENT
DTSTART;TZID=America/Edmonton:20260510T190000
DTEND;TZID=America/Edmonton:20260510T203000
DTSTAMP:20260422T040953
CREATED:20260213T183402Z
LAST-MODIFIED:20260213T183402Z
UID:10000579-1778439600-1778445000@northernspiritrc.ca
SUMMARY:SoulOuting
DESCRIPTION:SoulOuting is a monthly gathering at Robertson-Wesley United Church\, every second Sunday evening\, 7-8:30pm. 10209 123st Edmonton\, AB\, T5N1N3.\nAll 2SLGBTQIA identities and allies are welcome\, all ages friendly (under 16 must attend with trusted adult). We gather together as spiritual and faithful people\, acknowledging our diversity as individuals and our unity in desire to learn more about and honour our existence. This is a safe space to meet others\, to explore diverse topics of conversation and themes relating to spirituality\, religion\, and the rainbow of experience we share. For more information or to get involved\, contact Peter Graham\, p.graham@rwuc.org.
URL:https://northernspiritrc.ca/event/soulouting/2026-05-10/
LOCATION:Robertson-Wesley United Church\, 10209 123 st\, Edmonton\, Alberta\, T5N 1N3\, Canada
CATEGORIES:Community events
ATTACH;FMTTYPE=image/png:https://northernspiritrc.ca/wp-content/uploads/2026/02/Soulouting-Logo-Idea-1.png
END:VEVENT
END:VCALENDAR