BEGIN:VCALENDAR
VERSION:2.0
PRODID:-//Northern Spirit Regional Council - ECPv6.15.20//NONSGML v1.0//EN
CALSCALE:GREGORIAN
METHOD:PUBLISH
X-WR-CALNAME:Northern Spirit Regional Council
X-ORIGINAL-URL:https://northernspiritrc.ca
X-WR-CALDESC:Events for Northern Spirit Regional Council
REFRESH-INTERVAL;VALUE=DURATION:PT1H
X-Robots-Tag:noindex
X-PUBLISHED-TTL:PT1H
BEGIN:VTIMEZONE
TZID:America/Edmonton
BEGIN:DAYLIGHT
TZOFFSETFROM:-0700
TZOFFSETTO:-0600
TZNAME:MDT
DTSTART:20250309T090000
END:DAYLIGHT
BEGIN:STANDARD
TZOFFSETFROM:-0600
TZOFFSETTO:-0700
TZNAME:MST
DTSTART:20251102T080000
END:STANDARD
BEGIN:DAYLIGHT
TZOFFSETFROM:-0700
TZOFFSETTO:-0600
TZNAME:MDT
DTSTART:20260308T090000
END:DAYLIGHT
BEGIN:STANDARD
TZOFFSETFROM:-0600
TZOFFSETTO:-0700
TZNAME:MST
DTSTART:20261101T080000
END:STANDARD
BEGIN:DAYLIGHT
TZOFFSETFROM:-0700
TZOFFSETTO:-0600
TZNAME:MDT
DTSTART:20270314T090000
END:DAYLIGHT
BEGIN:STANDARD
TZOFFSETFROM:-0600
TZOFFSETTO:-0700
TZNAME:MST
DTSTART:20271107T080000
END:STANDARD
END:VTIMEZONE
BEGIN:VEVENT
DTSTART;TZID=America/Edmonton:20260503T153000
DTEND;TZID=America/Edmonton:20260503T170000
DTSTAMP:20260422T013858
CREATED:20260213T183446Z
LAST-MODIFIED:20260213T183446Z
UID:10000576-1777822200-1777827600@northernspiritrc.ca
SUMMARY:Jazz and Reflections - Jacob Do Trio
DESCRIPTION:Everyone is welcome to enjoy an afternoon of music\, spiritual reflection and refreshments at no cost. Donations will be accepted to cover the musician’s fees and other expenses. \nJacob Do is a saxophonist\, composer\, and educator whose resonant and nuanced sound lends itself to emotional storytelling through improvisation. Jacob elevates and serves the music through his authentic\, precise\, and ambitious approach as an improviser\, connecting to audiences through the shared human experience. As an artist\, he has crafted original compositions and arrangements unified by soundscapes of intensity and vulnerability; all while being immensely steeped in the rich tradition of Black American Music. Jacob completed his degree in Jazz Performance at McGill University in 2021.
URL:https://northernspiritrc.ca/event/jazz-and-reflections-jacob-do-trio/
LOCATION:Spirit of Hope United Church\, 7909 82 Ave NW\, Edmonton\, AB\, Canada
CATEGORIES:Community events
ATTACH;FMTTYPE=image/png:https://northernspiritrc.ca/wp-content/uploads/2026/02/J-and-R-Eventbrite-image-4-scaled.png
ORGANIZER;CN="Spirit of Hope United Church":MAILTO:officeadmin@spiritofhope.ca
END:VEVENT
BEGIN:VEVENT
DTSTART;TZID=America/Edmonton:20260503T153000
DTEND;TZID=America/Edmonton:20260503T170000
DTSTAMP:20260422T013858
CREATED:20260325T195410Z
LAST-MODIFIED:20260325T195410Z
UID:10000656-1777822200-1777827600@northernspiritrc.ca
SUMMARY:Jazz & Reflections
DESCRIPTION:Enjoy an uplifting afternoon of live jazz at Spirit of Hope United Church! Our Jazz & Reflections series features a lineup of talented local musicians in a warm and welcoming space – perfect for relaxation\, connection\, and inspiration. \nJoin us Sundays from 3:30 p.m. to 5:00 p.m. for an hour of great music followed by light refreshments and conversation. \nUpcoming Performances: \nMarch 29 – PJ Perry Quartet\nApril 12 – Allen Jacobson Trio\nApril 19 – Shelley Jones Trio\nApril 26 – Doug Berner Trio\nMay 3 – Jacob Do Trio \nAdmission: By donation at the door\nLocation: Spirit of Hope United Church (7909 82 Ave NW) \nAll are welcome! Come as you are and enjoy the music!
URL:https://northernspiritrc.ca/event/jazz-reflections/2026-05-03/
LOCATION:Spirit of Hope United Church\, 7909 82 Ave NW\, Edmonton\, AB\, Canada
CATEGORIES:Community events
ATTACH;FMTTYPE=image/png:https://northernspiritrc.ca/wp-content/uploads/2026/03/Spring-Jazz-and-Reflections-2026.png
END:VEVENT
END:VCALENDAR