BEGIN:VCALENDAR
VERSION:2.0
PRODID:-//Northern Spirit Regional Council - ECPv6.15.20//NONSGML v1.0//EN
CALSCALE:GREGORIAN
METHOD:PUBLISH
X-WR-CALNAME:Northern Spirit Regional Council
X-ORIGINAL-URL:https://northernspiritrc.ca
X-WR-CALDESC:Events for Northern Spirit Regional Council
REFRESH-INTERVAL;VALUE=DURATION:PT1H
X-Robots-Tag:noindex
X-PUBLISHED-TTL:PT1H
BEGIN:VTIMEZONE
TZID:America/Edmonton
BEGIN:DAYLIGHT
TZOFFSETFROM:-0700
TZOFFSETTO:-0600
TZNAME:MDT
DTSTART:20250309T090000
END:DAYLIGHT
BEGIN:STANDARD
TZOFFSETFROM:-0600
TZOFFSETTO:-0700
TZNAME:MST
DTSTART:20251102T080000
END:STANDARD
BEGIN:DAYLIGHT
TZOFFSETFROM:-0700
TZOFFSETTO:-0600
TZNAME:MDT
DTSTART:20260308T090000
END:DAYLIGHT
BEGIN:STANDARD
TZOFFSETFROM:-0600
TZOFFSETTO:-0700
TZNAME:MST
DTSTART:20261101T080000
END:STANDARD
BEGIN:DAYLIGHT
TZOFFSETFROM:-0700
TZOFFSETTO:-0600
TZNAME:MDT
DTSTART:20270314T090000
END:DAYLIGHT
BEGIN:STANDARD
TZOFFSETFROM:-0600
TZOFFSETTO:-0700
TZNAME:MST
DTSTART:20271107T080000
END:STANDARD
END:VTIMEZONE
BEGIN:VEVENT
DTSTART;TZID=America/Edmonton:20260418T103000
DTEND;TZID=America/Edmonton:20260418T150000
DTSTAMP:20260421T024024
CREATED:20260325T195423Z
LAST-MODIFIED:20260325T195423Z
UID:10000651-1776508200-1776524400@northernspiritrc.ca
SUMMARY:Spirit of Hope United Church Garage Sale
DESCRIPTION:Join Spirit of Hope United Church for a fun and affordable Community Garage Sale right in your neighbourhood! \nBrowse a wide variety of gently used items including jewelry\, housewares\, gardening supplies\, puzzles\, sports equipment\, tools\, toys\, small furniture\, home décor\, and more. There’s something for everyone\, whether you’re hunting for a bargain or a hidden treasure. \nDate: Saturday\, April 18\nTime: 10:30 a.m. – 3:00 p.m.\nLocation: 7909 82 Ave NW \nCome shop\, connect with the community\, and support a great local event. Everyone is welcome!
URL:https://northernspiritrc.ca/event/spirit-of-hope-united-church-garage-sale/
LOCATION:Spirit of Hope United Church\, 7909 82 Ave NW\, Edmonton\, AB\, Canada
CATEGORIES:Community events
ATTACH;FMTTYPE=image/png:https://northernspiritrc.ca/wp-content/uploads/2026/03/Garage-Sale-2026.png
ORGANIZER;CN="Spirit of Hope United Church":MAILTO:officeadmin@spiritofhope.ca
END:VEVENT
END:VCALENDAR