BEGIN:VCALENDAR
VERSION:2.0
PRODID:-//Northern Spirit Regional Council - ECPv6.15.20//NONSGML v1.0//EN
CALSCALE:GREGORIAN
METHOD:PUBLISH
X-WR-CALNAME:Northern Spirit Regional Council
X-ORIGINAL-URL:https://northernspiritrc.ca
X-WR-CALDESC:Events for Northern Spirit Regional Council
REFRESH-INTERVAL;VALUE=DURATION:PT1H
X-Robots-Tag:noindex
X-PUBLISHED-TTL:PT1H
BEGIN:VTIMEZONE
TZID:America/Edmonton
BEGIN:DAYLIGHT
TZOFFSETFROM:-0700
TZOFFSETTO:-0600
TZNAME:MDT
DTSTART:20250309T090000
END:DAYLIGHT
BEGIN:STANDARD
TZOFFSETFROM:-0600
TZOFFSETTO:-0700
TZNAME:MST
DTSTART:20251102T080000
END:STANDARD
BEGIN:DAYLIGHT
TZOFFSETFROM:-0700
TZOFFSETTO:-0600
TZNAME:MDT
DTSTART:20260308T090000
END:DAYLIGHT
BEGIN:STANDARD
TZOFFSETFROM:-0600
TZOFFSETTO:-0700
TZNAME:MST
DTSTART:20261101T080000
END:STANDARD
BEGIN:DAYLIGHT
TZOFFSETFROM:-0700
TZOFFSETTO:-0600
TZNAME:MDT
DTSTART:20270314T090000
END:DAYLIGHT
BEGIN:STANDARD
TZOFFSETFROM:-0600
TZOFFSETTO:-0700
TZNAME:MST
DTSTART:20271107T080000
END:STANDARD
END:VTIMEZONE
BEGIN:VEVENT
DTSTART;TZID=America/Edmonton:20260417T173000
DTEND;TZID=America/Edmonton:20260417T203000
DTSTAMP:20260420T051439
CREATED:20260414T161801Z
LAST-MODIFIED:20260414T161801Z
UID:10000664-1776447000-1776457800@northernspiritrc.ca
SUMMARY:Chocolate Evening and Live Music
DESCRIPTION:Join us for an evening of chocolate\, charcuterie\, etc. plus live music!\nDoors open at 5:30pm\nChocolate Buffet – 6:00pm\nAdults $35\, Youth 13-18 $25\nTickets available in advance at Stony Plain United Church or on Eventbrite.\nDarren: 587-926-8898 or\nStony Plain United Church 780-963-4745 stonyuc@telus.net
URL:https://northernspiritrc.ca/event/chocolate-evening-and-live-music/
LOCATION:Stony Plain United Church\, 5012 - 51 Ave\, Stony Plain\, AB\, T7Z 1C2\, Canada
CATEGORIES:Community events
ATTACH;FMTTYPE=image/jpeg:https://northernspiritrc.ca/wp-content/uploads/2026/04/Chocolate-Evening2.jpg
ORGANIZER;CN="Stony Plain United Church":MAILTO:lmstew7@outlook.com
END:VEVENT
END:VCALENDAR