BEGIN:VCALENDAR
VERSION:2.0
PRODID:-//Northern Spirit Regional Council - ECPv6.15.20//NONSGML v1.0//EN
CALSCALE:GREGORIAN
METHOD:PUBLISH
X-WR-CALNAME:Northern Spirit Regional Council
X-ORIGINAL-URL:https://northernspiritrc.ca
X-WR-CALDESC:Events for Northern Spirit Regional Council
REFRESH-INTERVAL;VALUE=DURATION:PT1H
X-Robots-Tag:noindex
X-PUBLISHED-TTL:PT1H
BEGIN:VTIMEZONE
TZID:America/Edmonton
BEGIN:DAYLIGHT
TZOFFSETFROM:-0700
TZOFFSETTO:-0600
TZNAME:MDT
DTSTART:20250309T090000
END:DAYLIGHT
BEGIN:STANDARD
TZOFFSETFROM:-0600
TZOFFSETTO:-0700
TZNAME:MST
DTSTART:20251102T080000
END:STANDARD
BEGIN:DAYLIGHT
TZOFFSETFROM:-0700
TZOFFSETTO:-0600
TZNAME:MDT
DTSTART:20260308T090000
END:DAYLIGHT
BEGIN:STANDARD
TZOFFSETFROM:-0600
TZOFFSETTO:-0700
TZNAME:MST
DTSTART:20261101T080000
END:STANDARD
BEGIN:DAYLIGHT
TZOFFSETFROM:-0700
TZOFFSETTO:-0600
TZNAME:MDT
DTSTART:20270314T090000
END:DAYLIGHT
BEGIN:STANDARD
TZOFFSETFROM:-0600
TZOFFSETTO:-0700
TZNAME:MST
DTSTART:20271107T080000
END:STANDARD
END:VTIMEZONE
BEGIN:VEVENT
DTSTART;TZID=America/Edmonton:20260412T153000
DTEND;TZID=America/Edmonton:20260412T170000
DTSTAMP:20260422T003742
CREATED:20260213T183532Z
LAST-MODIFIED:20260213T183532Z
UID:10000574-1776007800-1776013200@northernspiritrc.ca
SUMMARY:Jazz and Reflections - Allen Jacobson Trio
DESCRIPTION:The Allen Jacobson Trio will provide an afternoon of jazz music. Allen is professional musician\, educator and arts consultant with over 30 years of performance\, touring\, recording\, festival and events history in Canada\, Europe and Asia. \nEveryone is welcome to enjoy an afternoon of music\, spiritual reflection and refreshments at no cost. Donations will be accepted to cover the musician’s fees and other expenses.
URL:https://northernspiritrc.ca/event/jazz-and-reflections-allen-jacobson-trio/
LOCATION:Spirit of Hope United Church\, 7909 82 Ave NW\, Edmonton\, AB\, Canada
CATEGORIES:Community events
ATTACH;FMTTYPE=image/png:https://northernspiritrc.ca/wp-content/uploads/2026/02/Spring-Jazz-and-Reflections.png
ORGANIZER;CN="Spirit of Hope United Church":MAILTO:officeadmin@spiritofhope.ca
END:VEVENT
BEGIN:VEVENT
DTSTART;TZID=America/Edmonton:20260412T153000
DTEND;TZID=America/Edmonton:20260412T170000
DTSTAMP:20260422T003742
CREATED:20260325T195410Z
LAST-MODIFIED:20260325T195410Z
UID:10000653-1776007800-1776013200@northernspiritrc.ca
SUMMARY:Jazz & Reflections
DESCRIPTION:Enjoy an uplifting afternoon of live jazz at Spirit of Hope United Church! Our Jazz & Reflections series features a lineup of talented local musicians in a warm and welcoming space – perfect for relaxation\, connection\, and inspiration. \nJoin us Sundays from 3:30 p.m. to 5:00 p.m. for an hour of great music followed by light refreshments and conversation. \nUpcoming Performances: \nMarch 29 – PJ Perry Quartet\nApril 12 – Allen Jacobson Trio\nApril 19 – Shelley Jones Trio\nApril 26 – Doug Berner Trio\nMay 3 – Jacob Do Trio \nAdmission: By donation at the door\nLocation: Spirit of Hope United Church (7909 82 Ave NW) \nAll are welcome! Come as you are and enjoy the music!
URL:https://northernspiritrc.ca/event/jazz-reflections/2026-04-12/
LOCATION:Spirit of Hope United Church\, 7909 82 Ave NW\, Edmonton\, AB\, Canada
CATEGORIES:Community events
ATTACH;FMTTYPE=image/png:https://northernspiritrc.ca/wp-content/uploads/2026/03/Spring-Jazz-and-Reflections-2026.png
END:VEVENT
BEGIN:VEVENT
DTSTART;TZID=America/Edmonton:20260412T190000
DTEND;TZID=America/Edmonton:20260412T203000
DTSTAMP:20260422T003742
CREATED:20260213T183402Z
LAST-MODIFIED:20260213T183402Z
UID:10000578-1776020400-1776025800@northernspiritrc.ca
SUMMARY:SoulOuting
DESCRIPTION:SoulOuting is a monthly gathering at Robertson-Wesley United Church\, every second Sunday evening\, 7-8:30pm. 10209 123st Edmonton\, AB\, T5N1N3.\nAll 2SLGBTQIA identities and allies are welcome\, all ages friendly (under 16 must attend with trusted adult). We gather together as spiritual and faithful people\, acknowledging our diversity as individuals and our unity in desire to learn more about and honour our existence. This is a safe space to meet others\, to explore diverse topics of conversation and themes relating to spirituality\, religion\, and the rainbow of experience we share. For more information or to get involved\, contact Peter Graham\, p.graham@rwuc.org.
URL:https://northernspiritrc.ca/event/soulouting/2026-04-12/
LOCATION:Robertson-Wesley United Church\, 10209 123 st\, Edmonton\, Alberta\, T5N 1N3\, Canada
CATEGORIES:Community events
ATTACH;FMTTYPE=image/png:https://northernspiritrc.ca/wp-content/uploads/2026/02/Soulouting-Logo-Idea-1.png
END:VEVENT
END:VCALENDAR