BEGIN:VCALENDAR
VERSION:2.0
PRODID:-//Northern Spirit Regional Council - ECPv6.15.20//NONSGML v1.0//EN
CALSCALE:GREGORIAN
METHOD:PUBLISH
X-WR-CALNAME:Northern Spirit Regional Council
X-ORIGINAL-URL:https://northernspiritrc.ca
X-WR-CALDESC:Events for Northern Spirit Regional Council
REFRESH-INTERVAL;VALUE=DURATION:PT1H
X-Robots-Tag:noindex
X-PUBLISHED-TTL:PT1H
BEGIN:VTIMEZONE
TZID:America/Edmonton
BEGIN:DAYLIGHT
TZOFFSETFROM:-0700
TZOFFSETTO:-0600
TZNAME:MDT
DTSTART:20250309T090000
END:DAYLIGHT
BEGIN:STANDARD
TZOFFSETFROM:-0600
TZOFFSETTO:-0700
TZNAME:MST
DTSTART:20251102T080000
END:STANDARD
BEGIN:DAYLIGHT
TZOFFSETFROM:-0700
TZOFFSETTO:-0600
TZNAME:MDT
DTSTART:20260308T090000
END:DAYLIGHT
BEGIN:STANDARD
TZOFFSETFROM:-0600
TZOFFSETTO:-0700
TZNAME:MST
DTSTART:20261101T080000
END:STANDARD
BEGIN:DAYLIGHT
TZOFFSETFROM:-0700
TZOFFSETTO:-0600
TZNAME:MDT
DTSTART:20270314T090000
END:DAYLIGHT
BEGIN:STANDARD
TZOFFSETFROM:-0600
TZOFFSETTO:-0700
TZNAME:MST
DTSTART:20271107T080000
END:STANDARD
END:VTIMEZONE
BEGIN:VEVENT
DTSTART;TZID=America/Edmonton:20260403T100000
DTEND;TZID=America/Edmonton:20260403T120000
DTSTAMP:20260421T231657
CREATED:20260311T162436Z
LAST-MODIFIED:20260311T162436Z
UID:10000646-1775210400-1775217600@northernspiritrc.ca
SUMMARY:2026 Edmonton Outdoor Way of the Cross
DESCRIPTION:The 46th annual Outdoor Way of the Cross invites people to think about the relevance and importance of the Gospel message in our world today. This year’s theme\, “Whatsoever You Do: Seeing\, Naming and Protecting the Rights of People as Part of Creation\,” is based on Matthew 25:40 “Truly I tell you\, whatever you did for one of the least of these brothers and sisters of mine\, you did for me.” \nThe walk will take place along the streets of Edmonton’s inner city. It will include five stations\, and each station will offer a reflection on an aspect of the overall theme that highlights both a challenge and a source of hope\, woven together with music. \nPeople of all faith traditions are welcome to attend. The 1.5-kilometre walk is reasonable for most ages and ability levels. Free street parking is available near the start location at Sacred Heart Church of the First Peoples (10821 96 Street). A light lunch (soup\, bannock\, coffee and tea) will be provided at Sacred Heart Church after the final station. Donations of non-perishable food items for local food banks are also welcome and can be dropped off at the start of the walk.
URL:https://northernspiritrc.ca/event/2026-edmonton-outdoor-way-of-the-cross/
LOCATION:AB
CATEGORIES:Community events
ATTACH;FMTTYPE=image/jpeg:https://northernspiritrc.ca/wp-content/uploads/2026/03/Graphic.jpg
END:VEVENT
BEGIN:VEVENT
DTSTART;TZID=America/Edmonton:20260403T103000
DTEND;TZID=America/Edmonton:20260403T113000
DTSTAMP:20260421T231657
CREATED:20260318T191008Z
LAST-MODIFIED:20260318T191008Z
UID:10000649-1775212200-1775215800@northernspiritrc.ca
SUMMARY:Good Friday at RWUC
DESCRIPTION:On Good Friday we gather in reflection to hear the sacred story of Jesus’ suffering and death on the cross. Through scripture\, silence\, prayer\, and music\, we walk the path to the cross and remember the depth of love revealed in this holy moment. Come and be part of this solemn and meaningful retelling in the journey of Holy Week. All are welcome.\nFriday\, April 3\, 2026\n10:30 am\nJoin us in person at\nRobertson-Wesley United Church\n10209 123 St NW T5N 1N3\nor Livestream via YouTube\nhttps://www.youtube.com/@RWUnitedChurch/streams
URL:https://northernspiritrc.ca/event/good-friday-at-rwuc/
LOCATION:Robertson-Wesley United Church\, 10209 123 st\, Edmonton\, Alberta\, T5N 1N3\, Canada
CATEGORIES:Community events
ATTACH;FMTTYPE=image/jpeg:https://northernspiritrc.ca/wp-content/uploads/2026/03/Good-Friday-Poster.jpg
ORGANIZER;CN="Robertson-Wesley United Church":MAILTO:mail@rwuc.org
END:VEVENT
END:VCALENDAR