BEGIN:VCALENDAR
VERSION:2.0
PRODID:-//Northern Spirit Regional Council - ECPv6.15.20//NONSGML v1.0//EN
CALSCALE:GREGORIAN
METHOD:PUBLISH
X-WR-CALNAME:Northern Spirit Regional Council
X-ORIGINAL-URL:https://northernspiritrc.ca
X-WR-CALDESC:Events for Northern Spirit Regional Council
REFRESH-INTERVAL;VALUE=DURATION:PT1H
X-Robots-Tag:noindex
X-PUBLISHED-TTL:PT1H
BEGIN:VTIMEZONE
TZID:America/Edmonton
BEGIN:DAYLIGHT
TZOFFSETFROM:-0700
TZOFFSETTO:-0600
TZNAME:MDT
DTSTART:20250309T090000
END:DAYLIGHT
BEGIN:STANDARD
TZOFFSETFROM:-0600
TZOFFSETTO:-0700
TZNAME:MST
DTSTART:20251102T080000
END:STANDARD
BEGIN:DAYLIGHT
TZOFFSETFROM:-0700
TZOFFSETTO:-0600
TZNAME:MDT
DTSTART:20260308T090000
END:DAYLIGHT
BEGIN:STANDARD
TZOFFSETFROM:-0600
TZOFFSETTO:-0700
TZNAME:MST
DTSTART:20261101T080000
END:STANDARD
BEGIN:DAYLIGHT
TZOFFSETFROM:-0700
TZOFFSETTO:-0600
TZNAME:MDT
DTSTART:20270314T090000
END:DAYLIGHT
BEGIN:STANDARD
TZOFFSETFROM:-0600
TZOFFSETTO:-0700
TZNAME:MST
DTSTART:20271107T080000
END:STANDARD
END:VTIMEZONE
BEGIN:VEVENT
DTSTART;TZID=America/Edmonton:20260402T190000
DTEND;TZID=America/Edmonton:20260402T200000
DTSTAMP:20260421T231654
CREATED:20260312T190620Z
LAST-MODIFIED:20260312T190620Z
UID:10000648-1775156400-1775160000@northernspiritrc.ca
SUMMARY:Maundy Thursday Service
DESCRIPTION:Maundy Thursday Service\nApril 2\, 2026 – 7:00 pm \nWe gather around the table for Maundy Thursday\, remembering Jesus’ final night with the disciples. Together we will share Communion and hear the story of the Last Supper\, and participate in the ancient practice of hand washing – a simple act that reminds us of humility\, service\, and love. Come experience this quiet and meaningful moment in the journey of Holy Week.\nApril 2 – 7:00 pm\nJoin us in person at\nRobertson-Wesley United Church\n10209 123 St. NW T5N 1N3\nor Livestream via YouTube\nhttps://www.youtube.com/@RWUnitedChurch/streams
URL:https://northernspiritrc.ca/event/maundy-thursday-service/
LOCATION:Robertson-Wesley United Church\, 10209 123 st\, Edmonton\, Alberta\, T5N 1N3\, Canada
CATEGORIES:Community events
ATTACH;FMTTYPE=image/jpeg:https://northernspiritrc.ca/wp-content/uploads/2026/03/Maundy-Thursday-Poster-8.5-x-11-in.jpg
ORGANIZER;CN="Robertson-Wesley United Church":MAILTO:mail@rwuc.org
END:VEVENT
END:VCALENDAR