BEGIN:VCALENDAR
VERSION:2.0
PRODID:-//Northern Spirit Regional Council - ECPv6.15.20//NONSGML v1.0//EN
CALSCALE:GREGORIAN
METHOD:PUBLISH
X-ORIGINAL-URL:https://northernspiritrc.ca
X-WR-CALDESC:Events for Northern Spirit Regional Council
REFRESH-INTERVAL;VALUE=DURATION:PT1H
X-Robots-Tag:noindex
X-PUBLISHED-TTL:PT1H
BEGIN:VTIMEZONE
TZID:America/Edmonton
BEGIN:DAYLIGHT
TZOFFSETFROM:-0700
TZOFFSETTO:-0600
TZNAME:MDT
DTSTART:20250309T090000
END:DAYLIGHT
BEGIN:STANDARD
TZOFFSETFROM:-0600
TZOFFSETTO:-0700
TZNAME:MST
DTSTART:20251102T080000
END:STANDARD
BEGIN:DAYLIGHT
TZOFFSETFROM:-0700
TZOFFSETTO:-0600
TZNAME:MDT
DTSTART:20260308T090000
END:DAYLIGHT
BEGIN:STANDARD
TZOFFSETFROM:-0600
TZOFFSETTO:-0700
TZNAME:MST
DTSTART:20261101T080000
END:STANDARD
BEGIN:DAYLIGHT
TZOFFSETFROM:-0700
TZOFFSETTO:-0600
TZNAME:MDT
DTSTART:20270314T090000
END:DAYLIGHT
BEGIN:STANDARD
TZOFFSETFROM:-0600
TZOFFSETTO:-0700
TZNAME:MST
DTSTART:20271107T080000
END:STANDARD
END:VTIMEZONE
BEGIN:VEVENT
DTSTART;TZID=America/Edmonton:20260329T153000
DTEND;TZID=America/Edmonton:20260329T170000
DTSTAMP:20260421T235113
CREATED:20260213T183546Z
LAST-MODIFIED:20260213T183546Z
UID:10000573-1774798200-1774803600@northernspiritrc.ca
SUMMARY:Jazz and Reflections - PJ Perry Quartet
DESCRIPTION:The Spring Jazz and Reflections Series is excited to welcome back the PJ Perry Quartet to provide an afternoon of great local jazz music. Everyone is welcome to enjoy an afternoon of music\, spiritual reflection and refreshments at no cost. Donations will be accepted to cover the musician’s fees and other expenses. \nP.J. Perry was inducted into the Order of Canada if 2016\, and has received many honours and awards\, including three JUNO awards and seven Best Alto Sax National Jazz Awards.
URL:https://northernspiritrc.ca/event/jazz-and-reflections-pj-perry-quartet/
LOCATION:Spirit of Hope United Church\, 7909 82 Ave NW\, Edmonton\, AB\, Canada
CATEGORIES:Community events
ATTACH;FMTTYPE=image/png:https://northernspiritrc.ca/wp-content/uploads/2026/02/J-and-R-Eventbrite-image-scaled.png
ORGANIZER;CN="Spirit of Hope United Church":MAILTO:officeadmin@spiritofhope.ca
END:VEVENT
BEGIN:VEVENT
DTSTART;TZID=America/Edmonton:20260329T153000
DTEND;TZID=America/Edmonton:20260329T170000
DTSTAMP:20260421T235113
CREATED:20260325T195410Z
LAST-MODIFIED:20260325T195410Z
UID:10000652-1774798200-1774803600@northernspiritrc.ca
SUMMARY:Jazz & Reflections
DESCRIPTION:Enjoy an uplifting afternoon of live jazz at Spirit of Hope United Church! Our Jazz & Reflections series features a lineup of talented local musicians in a warm and welcoming space – perfect for relaxation\, connection\, and inspiration. \nJoin us Sundays from 3:30 p.m. to 5:00 p.m. for an hour of great music followed by light refreshments and conversation. \nUpcoming Performances: \nMarch 29 – PJ Perry Quartet\nApril 12 – Allen Jacobson Trio\nApril 19 – Shelley Jones Trio\nApril 26 – Doug Berner Trio\nMay 3 – Jacob Do Trio \nAdmission: By donation at the door\nLocation: Spirit of Hope United Church (7909 82 Ave NW) \nAll are welcome! Come as you are and enjoy the music!
URL:https://northernspiritrc.ca/event/jazz-reflections/2026-03-29/
LOCATION:Spirit of Hope United Church\, 7909 82 Ave NW\, Edmonton\, AB\, Canada
CATEGORIES:Community events
ATTACH;FMTTYPE=image/png:https://northernspiritrc.ca/wp-content/uploads/2026/03/Spring-Jazz-and-Reflections-2026.png
END:VEVENT
BEGIN:VEVENT
DTSTART;TZID=America/Edmonton:20260329T160000
DTEND;TZID=America/Edmonton:20260329T170000
DTSTAMP:20260421T235113
CREATED:20260128T172122Z
LAST-MODIFIED:20260128T172122Z
UID:10000570-1774800000-1774803600@northernspiritrc.ca
SUMMARY:Lenten Prayer Meetings
DESCRIPTION:Come together\, let us pray. \nCalling all United Church people in the greater Edmonton area (including Edmonton\, Wetaskiwin\, Leduc\, Fort Saskatchewan\, St. Albert\, Stony Plain\, Spruce Grove\, Sherwood Park and everywhere)! Let us come together during Lent 2026 for times to pray. \nEvery Sunday during Lent come let us gather at the following locations to pray. We will be praying for: \n\nThe renewal of the church\nDiscernment of congregations for future witness and ministry\nThe work of the regional council\nThe plans of the National Church for Vision 2035\nStrength and equipping of leadership for the present time\nCurrent concerns for the community\, nation\, and world.\n\n  \nEach prayer meeting starts at 4:00 p.m. Mountain Time.  ALL ARE INVITED. \nFor all our communities not in the Edmonton area\, we invite you to join us in one of two ways: over Zoom (connection link; Meeting ID: 864 7516 7860; Passcode: 803578); or by gathering to pray in your own community at the same time\, joining your prayers and spirits to ours. \n\n\n\nDATE\nVENUE\nLEADERSHIP\n\n\nFebruary 22  \n \nPilgrim United\nPaul Douglas Walfall\n\n\nMarch 1  \n \nSpirit of Hope United\nBlaine Gregg\n\n\nMarch 8  \n \nWetaskiwin\nLloyd Nyarota\n\n\nMarch 15  \n \nHighlands United\nMervin Gallant\n\n\nMarch 22  \n \nLeduc (St. David’s)\nLeigh Sinclair\n\n\nMarch 29  \n \nGrace United\nChelsea Masterman\n\n\n\n  \nThe prayers of the people of God are powerful and effective.  (James 2:16\, paraphrased)
URL:https://northernspiritrc.ca/event/lenten-prayer-meetings/2026-03-29/
LOCATION:AB
CATEGORIES:Events,Regional event
ATTACH;FMTTYPE=image/png:https://northernspiritrc.ca/wp-content/uploads/2026/01/lenten-prayer.png
END:VEVENT
END:VCALENDAR