BEGIN:VCALENDAR
VERSION:2.0
PRODID:-//Northern Spirit Regional Council - ECPv6.15.20//NONSGML v1.0//EN
CALSCALE:GREGORIAN
METHOD:PUBLISH
X-WR-CALNAME:Northern Spirit Regional Council
X-ORIGINAL-URL:https://northernspiritrc.ca
X-WR-CALDESC:Events for Northern Spirit Regional Council
REFRESH-INTERVAL;VALUE=DURATION:PT1H
X-Robots-Tag:noindex
X-PUBLISHED-TTL:PT1H
BEGIN:VTIMEZONE
TZID:America/Edmonton
BEGIN:DAYLIGHT
TZOFFSETFROM:-0700
TZOFFSETTO:-0600
TZNAME:MDT
DTSTART:20250309T090000
END:DAYLIGHT
BEGIN:STANDARD
TZOFFSETFROM:-0600
TZOFFSETTO:-0700
TZNAME:MST
DTSTART:20251102T080000
END:STANDARD
BEGIN:DAYLIGHT
TZOFFSETFROM:-0700
TZOFFSETTO:-0600
TZNAME:MDT
DTSTART:20260308T090000
END:DAYLIGHT
BEGIN:STANDARD
TZOFFSETFROM:-0600
TZOFFSETTO:-0700
TZNAME:MST
DTSTART:20261101T080000
END:STANDARD
BEGIN:DAYLIGHT
TZOFFSETFROM:-0700
TZOFFSETTO:-0600
TZNAME:MDT
DTSTART:20270314T090000
END:DAYLIGHT
BEGIN:STANDARD
TZOFFSETFROM:-0600
TZOFFSETTO:-0700
TZNAME:MST
DTSTART:20271107T080000
END:STANDARD
END:VTIMEZONE
BEGIN:VEVENT
DTSTART;TZID=America/Edmonton:20260315T103000
DTEND;TZID=America/Edmonton:20260315T140000
DTSTAMP:20260421T231657
CREATED:20260121T194631Z
LAST-MODIFIED:20260121T194631Z
UID:10000563-1773570600-1773583200@northernspiritrc.ca
SUMMARY:Affirm Celebration
DESCRIPTION:Saint David’s United Church Leduc is celebrating our congregation officially becoming affirming.
URL:https://northernspiritrc.ca/event/affirm-celebration/
LOCATION:St. David’s United Church\, Leduc\, 4614 - 48 St.\, Leduc\, Alberta\, T9E 5X7\, Canada
CATEGORIES:Community events
ATTACH;FMTTYPE=image/jpeg:https://northernspiritrc.ca/wp-content/uploads/2026/01/happy-dance-with-friends-scaled.jpg
ORGANIZER;CN="St. David's United Church%2C Leduc":MAILTO:office@stdavidsleduc.com
END:VEVENT
BEGIN:VEVENT
DTSTART;TZID=America/Edmonton:20260315T110000
DTEND;TZID=America/Edmonton:20260315T140000
DTSTAMP:20260421T231657
CREATED:20260227T165351Z
LAST-MODIFIED:20260227T165351Z
UID:10000643-1773572400-1773583200@northernspiritrc.ca
SUMMARY:Art Supply Swap
DESCRIPTION:Just like a clothing swap the entire event is part of the giving economy – no money involved. Bring art supplies from home that are no longer being used. Offered items will be added to others’ and any art studio clear outs. All will be organized onto tables and then made available on Sunday\, March 15 after worship for anyone to come browse. Rehome whatever amount of supplies you wish to. Anyone can participate swap in whatever capacity\, you do not have to be an art studio participant. \nOfferings can be dropped of to the art studio during the week of March 9\, up to 10:30 am on March 15. Bring as much as you want\, take what you will use and are excited about. Brought nothing? no problem\, take stuff home! Don’t want to add more to your supplies? Just donating is great\, too. Come and join us on Sunday\, March 15\, 11:30 am – 2:00 pm in Lower Hall. \nAcceptable items: Clean\, *useable*\, art supplies in good condition\, grocery bags \nItems not accepted: oil paints and related (no chemical)\, recycling (pill bottles\, jars\, trays etc.)\, paper products (plates\, cardboard etc.)\, scraps of anything\, nearly empty\, broken or dried up materials. \n*If you can’t use it\, neither can the studio*
URL:https://northernspiritrc.ca/event/art-supply-swap/
LOCATION:Robertson-Wesley United Church\, 10209 123 st\, Edmonton\, Alberta\, T5N 1N3\, Canada
CATEGORIES:Community events,Events
ATTACH;FMTTYPE=image/png:https://northernspiritrc.ca/wp-content/uploads/2026/02/Art-Supply-Swap-3.png
ORGANIZER;CN="Robertson-Wesley United Church":MAILTO:mail@rwuc.org
END:VEVENT
BEGIN:VEVENT
DTSTART;TZID=America/Edmonton:20260315T160000
DTEND;TZID=America/Edmonton:20260315T170000
DTSTAMP:20260421T231657
CREATED:20260128T172122Z
LAST-MODIFIED:20260128T172122Z
UID:10000568-1773590400-1773594000@northernspiritrc.ca
SUMMARY:Lenten Prayer Meetings
DESCRIPTION:Come together\, let us pray. \nCalling all United Church people in the greater Edmonton area (including Edmonton\, Wetaskiwin\, Leduc\, Fort Saskatchewan\, St. Albert\, Stony Plain\, Spruce Grove\, Sherwood Park and everywhere)! Let us come together during Lent 2026 for times to pray. \nEvery Sunday during Lent come let us gather at the following locations to pray. We will be praying for: \n\nThe renewal of the church\nDiscernment of congregations for future witness and ministry\nThe work of the regional council\nThe plans of the National Church for Vision 2035\nStrength and equipping of leadership for the present time\nCurrent concerns for the community\, nation\, and world.\n\n  \nEach prayer meeting starts at 4:00 p.m. Mountain Time.  ALL ARE INVITED. \nFor all our communities not in the Edmonton area\, we invite you to join us in one of two ways: over Zoom (connection link; Meeting ID: 864 7516 7860; Passcode: 803578); or by gathering to pray in your own community at the same time\, joining your prayers and spirits to ours. \n\n\n\nDATE\nVENUE\nLEADERSHIP\n\n\nFebruary 22  \n \nPilgrim United\nPaul Douglas Walfall\n\n\nMarch 1  \n \nSpirit of Hope United\nBlaine Gregg\n\n\nMarch 8  \n \nWetaskiwin\nLloyd Nyarota\n\n\nMarch 15  \n \nHighlands United\nMervin Gallant\n\n\nMarch 22  \n \nLeduc (St. David’s)\nLeigh Sinclair\n\n\nMarch 29  \n \nGrace United\nChelsea Masterman\n\n\n\n  \nThe prayers of the people of God are powerful and effective.  (James 2:16\, paraphrased)
URL:https://northernspiritrc.ca/event/lenten-prayer-meetings/2026-03-15/
LOCATION:AB
CATEGORIES:Events,Regional event
ATTACH;FMTTYPE=image/png:https://northernspiritrc.ca/wp-content/uploads/2026/01/lenten-prayer.png
END:VEVENT
END:VCALENDAR