BEGIN:VCALENDAR
VERSION:2.0
PRODID:-//Northern Spirit Regional Council - ECPv6.15.20//NONSGML v1.0//EN
CALSCALE:GREGORIAN
METHOD:PUBLISH
X-WR-CALNAME:Northern Spirit Regional Council
X-ORIGINAL-URL:https://northernspiritrc.ca
X-WR-CALDESC:Events for Northern Spirit Regional Council
REFRESH-INTERVAL;VALUE=DURATION:PT1H
X-Robots-Tag:noindex
X-PUBLISHED-TTL:PT1H
BEGIN:VTIMEZONE
TZID:America/Edmonton
BEGIN:DAYLIGHT
TZOFFSETFROM:-0700
TZOFFSETTO:-0600
TZNAME:MDT
DTSTART:20250309T090000
END:DAYLIGHT
BEGIN:STANDARD
TZOFFSETFROM:-0600
TZOFFSETTO:-0700
TZNAME:MST
DTSTART:20251102T080000
END:STANDARD
BEGIN:DAYLIGHT
TZOFFSETFROM:-0700
TZOFFSETTO:-0600
TZNAME:MDT
DTSTART:20260308T090000
END:DAYLIGHT
BEGIN:STANDARD
TZOFFSETFROM:-0600
TZOFFSETTO:-0700
TZNAME:MST
DTSTART:20261101T080000
END:STANDARD
BEGIN:DAYLIGHT
TZOFFSETFROM:-0700
TZOFFSETTO:-0600
TZNAME:MDT
DTSTART:20270314T090000
END:DAYLIGHT
BEGIN:STANDARD
TZOFFSETFROM:-0600
TZOFFSETTO:-0700
TZNAME:MST
DTSTART:20271107T080000
END:STANDARD
END:VTIMEZONE
BEGIN:VEVENT
DTSTART;TZID=America/Edmonton:20260122T183000
DTEND;TZID=America/Edmonton:20260122T193000
DTSTAMP:20260421T210236
CREATED:20260120T170814Z
LAST-MODIFIED:20260120T170814Z
UID:10000562-1769106600-1769110200@northernspiritrc.ca
SUMMARY:Kirk Centre's FREE Travelogues
DESCRIPTION:✈️ FREE TRAVELOGUE SERIES at Kirk Centre 🌍 \nGet ready to explore the world without leaving town!\nJoin us for an evening of stories\, photos\, and adventures shared by travelers and storytellers from around the globe. \n🗺️ Vietnam – Thursday\, Jan 22 | 6:30 PM\n🏺 Egypt – Thursday\, Feb 12 | 6:30 PM\n🏰 Hungary – Thursday\, Mar 12 | 6:30 PM \n📍 Kirk Centre | 13535–122 Ave NW\n☕ Snacks & drinks provided\n🎟️ Free to attend! \n📞 Register: 780-438-6619\n📧 sally@kirkcentre.ca\nor online at https://www.kirkcentre.ca/upcoming-events \nPack your imagination and come along for the journey!
URL:https://northernspiritrc.ca/event/kirk-centres-free-travelogues/
LOCATION:Kirk United Church Community Centre\, 13535 122 Ave NW\, Edmonton\, Alberta\, T5L 2V7\, Canada
CATEGORIES:Community events
ATTACH;FMTTYPE=image/png:https://northernspiritrc.ca/wp-content/uploads/2026/01/2026-Free-Travelogue.png
END:VEVENT
END:VCALENDAR